BEGIN:VCALENDAR
VERSION:2.0
PRODID:-//Bauverein Rüstringen - ECPv6.15.13.1//NONSGML v1.0//EN
CALSCALE:GREGORIAN
METHOD:PUBLISH
X-ORIGINAL-URL:https://bauverein-ruestringen.de
X-WR-CALDESC:Veranstaltungen für Bauverein Rüstringen
REFRESH-INTERVAL;VALUE=DURATION:PT1H
X-Robots-Tag:noindex
X-PUBLISHED-TTL:PT1H
BEGIN:VTIMEZONE
TZID:Europe/Berlin
BEGIN:DAYLIGHT
TZOFFSETFROM:+0100
TZOFFSETTO:+0200
TZNAME:CEST
DTSTART:20260329T010000
END:DAYLIGHT
BEGIN:STANDARD
TZOFFSETFROM:+0200
TZOFFSETTO:+0100
TZNAME:CET
DTSTART:20261025T010000
END:STANDARD
BEGIN:DAYLIGHT
TZOFFSETFROM:+0100
TZOFFSETTO:+0200
TZNAME:CEST
DTSTART:20270328T010000
END:DAYLIGHT
BEGIN:STANDARD
TZOFFSETFROM:+0200
TZOFFSETTO:+0100
TZNAME:CET
DTSTART:20271031T010000
END:STANDARD
BEGIN:DAYLIGHT
TZOFFSETFROM:+0100
TZOFFSETTO:+0200
TZNAME:CEST
DTSTART:20280326T010000
END:DAYLIGHT
BEGIN:STANDARD
TZOFFSETFROM:+0200
TZOFFSETTO:+0100
TZNAME:CET
DTSTART:20281029T010000
END:STANDARD
END:VTIMEZONE
BEGIN:VEVENT
DTSTART;TZID=Europe/Berlin:20270526T183000
DTEND;TZID=Europe/Berlin:20270526T200000
DTSTAMP:20260426T030105
CREATED:20210223T133934Z
LAST-MODIFIED:20250224T200926Z
UID:10010448-1811356200-1811361600@bauverein-ruestringen.de
SUMMARY:Yoga am Abend
DESCRIPTION:Den Tag hinter sich lassen\, sich dehnen\, strecken\, den Körper spüren\, kräftigen\, atmen. Entdecken Sie die Wohltaten des Yoga! Für Menschen von 25-65 Jahren.
URL:https://bauverein-ruestringen.de/event/yoga-am-abend-5/2027-05-26/
LOCATION:Treff – Auf Siebethsburg\, Störtebekerstraße 14c\, 26386 Wilhelmshaven\, Deutschland
CATEGORIES:Treff – Auf Siebethsburg
ATTACH;FMTTYPE=image/jpeg:https://bauverein-ruestringen.de/wp-content/uploads/2022/11/yoga1.jpg
END:VEVENT
BEGIN:VEVENT
DTSTART;TZID=Europe/Berlin:20270527T093000
DTEND;TZID=Europe/Berlin:20270527T110000
DTSTAMP:20260426T030105
CREATED:20260423T101337Z
LAST-MODIFIED:20260423T101337Z
UID:10016523-1811410200-1811415600@bauverein-ruestringen.de
SUMMARY:Café Kinderwagen
DESCRIPTION:Der Treff für Eltern und ihre Kinder von 0 bis 1 Jahren. \nKleine und große Siebethsburger lernen sich kennen und verbringen eine gute Zeit miteinander.
URL:https://bauverein-ruestringen.de/event/cafe-kinderwagen-2/2027-05-27/
LOCATION:Treff – Auf Siebethsburg\, Störtebekerstraße 14c\, 26386 Wilhelmshaven\, Deutschland
CATEGORIES:freiraum
ATTACH;FMTTYPE=image/jpeg:https://bauverein-ruestringen.de/wp-content/uploads/2026/04/Bauverein-Ruestringen-Cafe-Kinderwagen.jpg
END:VEVENT
BEGIN:VEVENT
DTSTART;TZID=Europe/Berlin:20270527T100000
DTEND;TZID=Europe/Berlin:20270527T120000
DTSTAMP:20260426T030105
CREATED:20260423T101908Z
LAST-MODIFIED:20260424T111808Z
UID:10017313-1811412000-1811419200@bauverein-ruestringen.de
SUMMARY:Walking
DESCRIPTION:Spaß an Bewegung in und um Siebethsburg für Menschen\, die sich (wieder) mehr bewegen wollen.
URL:https://bauverein-ruestringen.de/event/walking/2027-05-27/
LOCATION:Treff – Auf Siebethsburg\, Störtebekerstraße 14c\, 26386 Wilhelmshaven\, Deutschland
CATEGORIES:Treff – Auf Siebethsburg
ATTACH;FMTTYPE=image/jpeg:https://bauverein-ruestringen.de/wp-content/uploads/2026/04/Bauverein-Ruestringen-Walking.jpg
END:VEVENT
BEGIN:VEVENT
DTSTART;TZID=Europe/Berlin:20270527T150000
DTEND;TZID=Europe/Berlin:20270527T160000
DTSTAMP:20260426T030105
CREATED:20260423T102316Z
LAST-MODIFIED:20260424T130845Z
UID:10016785-1811430000-1811433600@bauverein-ruestringen.de
SUMMARY:Seniorensport der AWO
DESCRIPTION:Der sportliche Treff für alle ab 60. Wir trainieren mit Freude unsere Kraft und Beweglichkeit\, altersgerecht und ohne Überforderung.
URL:https://bauverein-ruestringen.de/event/seniorensport-der-awo/2027-05-27/
LOCATION:Treff – Auf Siebethsburg\, Störtebekerstraße 14c\, 26386 Wilhelmshaven\, Deutschland
CATEGORIES:Treff – Auf Siebethsburg
ATTACH;FMTTYPE=image/jpeg:https://bauverein-ruestringen.de/wp-content/uploads/2021/02/Seniorensport_Bauverein_Ruestringen.jpg
END:VEVENT
BEGIN:VEVENT
DTSTART;TZID=Europe/Berlin:20270528T100000
DTEND;TZID=Europe/Berlin:20270528T110000
DTSTAMP:20260426T030105
CREATED:20250220T110357Z
LAST-MODIFIED:20250224T212153Z
UID:10012074-1811498400-1811502000@bauverein-ruestringen.de
SUMMARY:Tai Chi
DESCRIPTION:Tai Chi\, das ist:\nSich spüren\, bewegen – langsam und bewusst. Dem Fluss des Atems folgen und die Kräfte des Lebens stärken. Entspannung für Geist und Körper. \nEs heißt\, wer Tai Chi übt\, wird gesund und stark wie ein Holzfäller\, so geschmeidig wie ein Kind und gelassen wie ein Weiser.
URL:https://bauverein-ruestringen.de/event/thai-chi/2027-05-28/
LOCATION:Treff – Auf Siebethsburg\, Störtebekerstraße 14c\, 26386 Wilhelmshaven\, Deutschland
CATEGORIES:Treff – Auf Siebethsburg
ATTACH;FMTTYPE=image/jpeg:https://bauverein-ruestringen.de/wp-content/uploads/2021/09/Thai_Chi.jpg
END:VEVENT
BEGIN:VEVENT
DTSTART;TZID=Europe/Berlin:20270530T150000
DTEND;TZID=Europe/Berlin:20270530T163000
DTSTAMP:20260426T030105
CREATED:20210907T144238Z
LAST-MODIFIED:20260424T072422Z
UID:10011291-1811689200-1811694600@bauverein-ruestringen.de
SUMMARY:Trauer­gesprächs­kreis
DESCRIPTION:Unsere Gesprächskreise geben Menschen in Trauer Gelegenheit\, über ihre Trauer zu sprechen und mit anderen zu teilen.
URL:https://bauverein-ruestringen.de/event/trauergespraechskreis/2027-05-30/
LOCATION:Treff – Auf Siebethsburg\, Störtebekerstraße 14c\, 26386 Wilhelmshaven\, Deutschland
CATEGORIES:Seniorenangebote,Treff – Auf Siebethsburg
ATTACH;FMTTYPE=image/jpeg:https://bauverein-ruestringen.de/wp-content/uploads/2021/09/Trauergespraechskreis.jpg
END:VEVENT
BEGIN:VEVENT
DTSTART;TZID=Europe/Berlin:20270531T093000
DTEND;TZID=Europe/Berlin:20270531T104500
DTSTAMP:20260426T030105
CREATED:20260421T145541Z
LAST-MODIFIED:20260424T125735Z
UID:10014573-1811755800-1811760300@bauverein-ruestringen.de
SUMMARY:Yoga im Sitzen
DESCRIPTION:Ob im Büro oder für die bewegte Pause im Alltag. Yoga auf und am Stuhl bietet die Möglichkeit\, gelenkschonend klassische Yogahaltungen\, Meditations- und Atemtechniken zu praktizieren. Für alle Altersgruppen geeignet.
URL:https://bauverein-ruestringen.de/event/yoga-im-sitzen/2027-05-31/
LOCATION:Treff – Auf Siebethsburg\, Störtebekerstraße 14c\, 26386 Wilhelmshaven\, Deutschland
CATEGORIES:Seniorenangebote,Treff – Auf Siebethsburg
ATTACH;FMTTYPE=image/jpeg:https://bauverein-ruestringen.de/wp-content/uploads/2022/11/yoga2-1.jpg
END:VEVENT
BEGIN:VEVENT
DTSTART;TZID=Europe/Berlin:20270531T133000
DTEND;TZID=Europe/Berlin:20270531T163000
DTSTAMP:20260426T030105
CREATED:20260421T152237Z
LAST-MODIFIED:20260421T152237Z
UID:10014835-1811770200-1811781000@bauverein-ruestringen.de
SUMMARY:Spielenachmittag
DESCRIPTION:Wir spielen Karten-\, Brett- und Würfelspiele\, auch selbst mitgebrachte Spiele sind gern gesehen. Alle Altersgruppen sind willkommen.
URL:https://bauverein-ruestringen.de/event/spielenachmittag-2/2027-05-31/
LOCATION:Treff – Auf Siebethsburg\, Störtebekerstraße 14c\, 26386 Wilhelmshaven\, Deutschland
CATEGORIES:Treff – Auf Siebethsburg
ATTACH;FMTTYPE=image/jpeg:https://bauverein-ruestringen.de/wp-content/uploads/2026/04/Bauverein-Ruestringen-Spielabend.jpg
END:VEVENT
BEGIN:VEVENT
DTSTART;TZID=Europe/Berlin:20270531T140000
DTEND;TZID=Europe/Berlin:20270531T160000
DTSTAMP:20260426T030105
CREATED:20260421T140412Z
LAST-MODIFIED:20260421T140412Z
UID:10011682-1811772000-1811779200@bauverein-ruestringen.de
SUMMARY:Nähstübchen
DESCRIPTION:Nähen ein einsames Hobby? Das muss nicht sein! Im Näh-Café finden Sie Gleichgesinnte. Tauschen Sie sich aus und bekommen Sie beim gemeinsamen Nähen in kreativer Atmosphäre neue Ideen.
URL:https://bauverein-ruestringen.de/event/naeh-cafe-2/2027-05-31/
LOCATION:Treff – Auf Siebethsburg\, Störtebekerstraße 14c\, 26386 Wilhelmshaven\, Deutschland
CATEGORIES:Treff – Auf Siebethsburg
ATTACH;FMTTYPE=image/jpeg:https://bauverein-ruestringen.de/wp-content/uploads/2021/04/Naeh_Cafe_Bauverein_Ruestringen.jpg
END:VEVENT
BEGIN:VEVENT
DTSTART;TZID=Europe/Berlin:20270531T183000
DTEND;TZID=Europe/Berlin:20270531T203000
DTSTAMP:20260426T030105
CREATED:20260423T070905Z
LAST-MODIFIED:20260423T070905Z
UID:10015096-1811788200-1811795400@bauverein-ruestringen.de
SUMMARY:Frauen in Bewegung
DESCRIPTION:In der Gruppe macht Bewegung noch mehr Spaß! Willkommen sind Frauen jeder Altersstufe zu Gymnastik\, Stretching\, Kraftübungen. Im Sommer auch draußen.
URL:https://bauverein-ruestringen.de/event/frauen-in-bewegung-2/2027-05-31/
LOCATION:Treff – Auf Siebethsburg\, Störtebekerstraße 14c\, 26386 Wilhelmshaven\, Deutschland
CATEGORIES:Treff – Auf Siebethsburg
ATTACH;FMTTYPE=image/jpeg:https://bauverein-ruestringen.de/wp-content/uploads/2026/04/Bauverein-Ruestringen-Frauen-in-Bewegung.jpg
END:VEVENT
BEGIN:VEVENT
DTSTART;TZID=Europe/Berlin:20270601T100000
DTEND;TZID=Europe/Berlin:20270601T110000
DTSTAMP:20260426T030105
CREATED:20210901T132110Z
LAST-MODIFIED:20250224T165741Z
UID:10009942-1811844000-1811847600@bauverein-ruestringen.de
SUMMARY:Tai Chi
DESCRIPTION:Tai Chi\, das ist:\nSich spüren\, bewegen – langsam und bewusst. Dem Fluss des Atems folgen und die Kräfte des Lebens stärken. Entspannung für Geist und Körper. \nEs heißt\, wer Tai Chi übt\, wird gesund und stark wie ein Holzfäller\, so geschmeidig wie ein Kind und gelassen wie ein Weiser.
URL:https://bauverein-ruestringen.de/event/thai-chi-2/2027-06-01/
LOCATION:Treff – Auf Siebethsburg\, Störtebekerstraße 14c\, 26386 Wilhelmshaven\, Deutschland
CATEGORIES:Treff – Auf Siebethsburg
ATTACH;FMTTYPE=image/jpeg:https://bauverein-ruestringen.de/wp-content/uploads/2021/09/Thai_Chi.jpg
END:VEVENT
BEGIN:VEVENT
DTSTART;TZID=Europe/Berlin:20270602T100000
DTEND;TZID=Europe/Berlin:20270602T110000
DTSTAMP:20260426T030105
CREATED:20260423T081228Z
LAST-MODIFIED:20260424T124828Z
UID:10015618-1811930400-1811934000@bauverein-ruestringen.de
SUMMARY:Frühstück zur Marktzeit
DESCRIPTION:Frühstücken Sie in netter Runde gemeinsam mit anderen. Bitte melden Sie sich vorher an.
URL:https://bauverein-ruestringen.de/event/fruehstueck-zur-marktzeit-2/2027-06-02/
LOCATION:Treff – Auf Siebethsburg\, Störtebekerstraße 14c\, 26386 Wilhelmshaven\, Deutschland
CATEGORIES:Treff – Auf Siebethsburg
ATTACH;FMTTYPE=image/jpeg:https://bauverein-ruestringen.de/wp-content/uploads/2022/11/Fruehstueck.jpg
END:VEVENT
BEGIN:VEVENT
DTSTART;TZID=Europe/Berlin:20270602T140000
DTEND;TZID=Europe/Berlin:20270602T160000
DTSTAMP:20260426T030105
CREATED:20260423T092114Z
LAST-MODIFIED:20260423T095234Z
UID:10016140-1811944800-1811952000@bauverein-ruestringen.de
SUMMARY:Handarbeitsgruppe
DESCRIPTION:Für alle Altersgruppen: Wenn Sie Spaß am Stricken\, Häkeln\, Handarbeit etc. haben\, kommen Sie gern vorbei.
URL:https://bauverein-ruestringen.de/event/handarbeitsgruppe/2027-06-02/
LOCATION:Treff – Auf Siebethsburg\, Störtebekerstraße 14c\, 26386 Wilhelmshaven\, Deutschland
CATEGORIES:Treff – Auf Siebethsburg
ATTACH;FMTTYPE=image/jpeg:https://bauverein-ruestringen.de/wp-content/uploads/2026/04/Bauverein-Ruestringen-Handarbeitsgruppe.jpg
END:VEVENT
BEGIN:VEVENT
DTSTART;TZID=Europe/Berlin:20270602T183000
DTEND;TZID=Europe/Berlin:20270602T200000
DTSTAMP:20260426T030105
CREATED:20210223T133934Z
LAST-MODIFIED:20250224T200926Z
UID:10010449-1811961000-1811966400@bauverein-ruestringen.de
SUMMARY:Yoga am Abend
DESCRIPTION:Den Tag hinter sich lassen\, sich dehnen\, strecken\, den Körper spüren\, kräftigen\, atmen. Entdecken Sie die Wohltaten des Yoga! Für Menschen von 25-65 Jahren.
URL:https://bauverein-ruestringen.de/event/yoga-am-abend-5/2027-06-02/
LOCATION:Treff – Auf Siebethsburg\, Störtebekerstraße 14c\, 26386 Wilhelmshaven\, Deutschland
CATEGORIES:Treff – Auf Siebethsburg
ATTACH;FMTTYPE=image/jpeg:https://bauverein-ruestringen.de/wp-content/uploads/2022/11/yoga1.jpg
END:VEVENT
BEGIN:VEVENT
DTSTART;TZID=Europe/Berlin:20270603T093000
DTEND;TZID=Europe/Berlin:20270603T110000
DTSTAMP:20260426T030105
CREATED:20260423T101337Z
LAST-MODIFIED:20260423T101337Z
UID:10016524-1812015000-1812020400@bauverein-ruestringen.de
SUMMARY:Café Kinderwagen
DESCRIPTION:Der Treff für Eltern und ihre Kinder von 0 bis 1 Jahren. \nKleine und große Siebethsburger lernen sich kennen und verbringen eine gute Zeit miteinander.
URL:https://bauverein-ruestringen.de/event/cafe-kinderwagen-2/2027-06-03/
LOCATION:Treff – Auf Siebethsburg\, Störtebekerstraße 14c\, 26386 Wilhelmshaven\, Deutschland
CATEGORIES:freiraum
ATTACH;FMTTYPE=image/jpeg:https://bauverein-ruestringen.de/wp-content/uploads/2026/04/Bauverein-Ruestringen-Cafe-Kinderwagen.jpg
END:VEVENT
BEGIN:VEVENT
DTSTART;TZID=Europe/Berlin:20270603T100000
DTEND;TZID=Europe/Berlin:20270603T120000
DTSTAMP:20260426T030105
CREATED:20260423T101908Z
LAST-MODIFIED:20260424T111808Z
UID:10017314-1812016800-1812024000@bauverein-ruestringen.de
SUMMARY:Walking
DESCRIPTION:Spaß an Bewegung in und um Siebethsburg für Menschen\, die sich (wieder) mehr bewegen wollen.
URL:https://bauverein-ruestringen.de/event/walking/2027-06-03/
LOCATION:Treff – Auf Siebethsburg\, Störtebekerstraße 14c\, 26386 Wilhelmshaven\, Deutschland
CATEGORIES:Treff – Auf Siebethsburg
ATTACH;FMTTYPE=image/jpeg:https://bauverein-ruestringen.de/wp-content/uploads/2026/04/Bauverein-Ruestringen-Walking.jpg
END:VEVENT
BEGIN:VEVENT
DTSTART;TZID=Europe/Berlin:20270603T150000
DTEND;TZID=Europe/Berlin:20270603T160000
DTSTAMP:20260426T030105
CREATED:20260423T102316Z
LAST-MODIFIED:20260424T130845Z
UID:10016786-1812034800-1812038400@bauverein-ruestringen.de
SUMMARY:Seniorensport der AWO
DESCRIPTION:Der sportliche Treff für alle ab 60. Wir trainieren mit Freude unsere Kraft und Beweglichkeit\, altersgerecht und ohne Überforderung.
URL:https://bauverein-ruestringen.de/event/seniorensport-der-awo/2027-06-03/
LOCATION:Treff – Auf Siebethsburg\, Störtebekerstraße 14c\, 26386 Wilhelmshaven\, Deutschland
CATEGORIES:Treff – Auf Siebethsburg
ATTACH;FMTTYPE=image/jpeg:https://bauverein-ruestringen.de/wp-content/uploads/2021/02/Seniorensport_Bauverein_Ruestringen.jpg
END:VEVENT
BEGIN:VEVENT
DTSTART;TZID=Europe/Berlin:20270604T100000
DTEND;TZID=Europe/Berlin:20270604T110000
DTSTAMP:20260426T030105
CREATED:20250220T110357Z
LAST-MODIFIED:20250224T212153Z
UID:10012075-1812103200-1812106800@bauverein-ruestringen.de
SUMMARY:Tai Chi
DESCRIPTION:Tai Chi\, das ist:\nSich spüren\, bewegen – langsam und bewusst. Dem Fluss des Atems folgen und die Kräfte des Lebens stärken. Entspannung für Geist und Körper. \nEs heißt\, wer Tai Chi übt\, wird gesund und stark wie ein Holzfäller\, so geschmeidig wie ein Kind und gelassen wie ein Weiser.
URL:https://bauverein-ruestringen.de/event/thai-chi/2027-06-04/
LOCATION:Treff – Auf Siebethsburg\, Störtebekerstraße 14c\, 26386 Wilhelmshaven\, Deutschland
CATEGORIES:Treff – Auf Siebethsburg
ATTACH;FMTTYPE=image/jpeg:https://bauverein-ruestringen.de/wp-content/uploads/2021/09/Thai_Chi.jpg
END:VEVENT
BEGIN:VEVENT
DTSTART;TZID=Europe/Berlin:20270607T093000
DTEND;TZID=Europe/Berlin:20270607T104500
DTSTAMP:20260426T030105
CREATED:20260421T145541Z
LAST-MODIFIED:20260424T125735Z
UID:10014574-1812360600-1812365100@bauverein-ruestringen.de
SUMMARY:Yoga im Sitzen
DESCRIPTION:Ob im Büro oder für die bewegte Pause im Alltag. Yoga auf und am Stuhl bietet die Möglichkeit\, gelenkschonend klassische Yogahaltungen\, Meditations- und Atemtechniken zu praktizieren. Für alle Altersgruppen geeignet.
URL:https://bauverein-ruestringen.de/event/yoga-im-sitzen/2027-06-07/
LOCATION:Treff – Auf Siebethsburg\, Störtebekerstraße 14c\, 26386 Wilhelmshaven\, Deutschland
CATEGORIES:Seniorenangebote,Treff – Auf Siebethsburg
ATTACH;FMTTYPE=image/jpeg:https://bauverein-ruestringen.de/wp-content/uploads/2022/11/yoga2-1.jpg
END:VEVENT
BEGIN:VEVENT
DTSTART;TZID=Europe/Berlin:20270607T133000
DTEND;TZID=Europe/Berlin:20270607T163000
DTSTAMP:20260426T030105
CREATED:20260421T152237Z
LAST-MODIFIED:20260421T152237Z
UID:10014836-1812375000-1812385800@bauverein-ruestringen.de
SUMMARY:Spielenachmittag
DESCRIPTION:Wir spielen Karten-\, Brett- und Würfelspiele\, auch selbst mitgebrachte Spiele sind gern gesehen. Alle Altersgruppen sind willkommen.
URL:https://bauverein-ruestringen.de/event/spielenachmittag-2/2027-06-07/
LOCATION:Treff – Auf Siebethsburg\, Störtebekerstraße 14c\, 26386 Wilhelmshaven\, Deutschland
CATEGORIES:Treff – Auf Siebethsburg
ATTACH;FMTTYPE=image/jpeg:https://bauverein-ruestringen.de/wp-content/uploads/2026/04/Bauverein-Ruestringen-Spielabend.jpg
END:VEVENT
BEGIN:VEVENT
DTSTART;TZID=Europe/Berlin:20270607T140000
DTEND;TZID=Europe/Berlin:20270607T160000
DTSTAMP:20260426T030105
CREATED:20260421T140412Z
LAST-MODIFIED:20260421T140412Z
UID:10011683-1812376800-1812384000@bauverein-ruestringen.de
SUMMARY:Nähstübchen
DESCRIPTION:Nähen ein einsames Hobby? Das muss nicht sein! Im Näh-Café finden Sie Gleichgesinnte. Tauschen Sie sich aus und bekommen Sie beim gemeinsamen Nähen in kreativer Atmosphäre neue Ideen.
URL:https://bauverein-ruestringen.de/event/naeh-cafe-2/2027-06-07/
LOCATION:Treff – Auf Siebethsburg\, Störtebekerstraße 14c\, 26386 Wilhelmshaven\, Deutschland
CATEGORIES:Treff – Auf Siebethsburg
ATTACH;FMTTYPE=image/jpeg:https://bauverein-ruestringen.de/wp-content/uploads/2021/04/Naeh_Cafe_Bauverein_Ruestringen.jpg
END:VEVENT
BEGIN:VEVENT
DTSTART;TZID=Europe/Berlin:20270607T183000
DTEND;TZID=Europe/Berlin:20270607T203000
DTSTAMP:20260426T030105
CREATED:20260423T070905Z
LAST-MODIFIED:20260423T070905Z
UID:10015097-1812393000-1812400200@bauverein-ruestringen.de
SUMMARY:Frauen in Bewegung
DESCRIPTION:In der Gruppe macht Bewegung noch mehr Spaß! Willkommen sind Frauen jeder Altersstufe zu Gymnastik\, Stretching\, Kraftübungen. Im Sommer auch draußen.
URL:https://bauverein-ruestringen.de/event/frauen-in-bewegung-2/2027-06-07/
LOCATION:Treff – Auf Siebethsburg\, Störtebekerstraße 14c\, 26386 Wilhelmshaven\, Deutschland
CATEGORIES:Treff – Auf Siebethsburg
ATTACH;FMTTYPE=image/jpeg:https://bauverein-ruestringen.de/wp-content/uploads/2026/04/Bauverein-Ruestringen-Frauen-in-Bewegung.jpg
END:VEVENT
BEGIN:VEVENT
DTSTART;TZID=Europe/Berlin:20270608T100000
DTEND;TZID=Europe/Berlin:20270608T110000
DTSTAMP:20260426T030105
CREATED:20210901T132110Z
LAST-MODIFIED:20250224T165741Z
UID:10009943-1812448800-1812452400@bauverein-ruestringen.de
SUMMARY:Tai Chi
DESCRIPTION:Tai Chi\, das ist:\nSich spüren\, bewegen – langsam und bewusst. Dem Fluss des Atems folgen und die Kräfte des Lebens stärken. Entspannung für Geist und Körper. \nEs heißt\, wer Tai Chi übt\, wird gesund und stark wie ein Holzfäller\, so geschmeidig wie ein Kind und gelassen wie ein Weiser.
URL:https://bauverein-ruestringen.de/event/thai-chi-2/2027-06-08/
LOCATION:Treff – Auf Siebethsburg\, Störtebekerstraße 14c\, 26386 Wilhelmshaven\, Deutschland
CATEGORIES:Treff – Auf Siebethsburg
ATTACH;FMTTYPE=image/jpeg:https://bauverein-ruestringen.de/wp-content/uploads/2021/09/Thai_Chi.jpg
END:VEVENT
BEGIN:VEVENT
DTSTART;TZID=Europe/Berlin:20270608T143000
DTEND;TZID=Europe/Berlin:20270608T163000
DTSTAMP:20260426T030105
CREATED:20210423T091629Z
LAST-MODIFIED:20240702T101013Z
UID:10012991-1812465000-1812472200@bauverein-ruestringen.de
SUMMARY:Erzählcafè
DESCRIPTION:Gesellige nachbarschaftliche Begegnungen und Informationen zu unterschiedlichen\, aktuellen Themen.
URL:https://bauverein-ruestringen.de/event/erzaehlcafe/2027-06-08/
LOCATION:Treff – Auf Siebethsburg\, Störtebekerstraße 14c\, 26386 Wilhelmshaven\, Deutschland
CATEGORIES:Seniorenangebote,Treff – Auf Siebethsburg
ATTACH;FMTTYPE=image/jpeg:https://bauverein-ruestringen.de/wp-content/uploads/2022/11/Erzaehlcafe.jpg
END:VEVENT
BEGIN:VEVENT
DTSTART;TZID=Europe/Berlin:20270609T100000
DTEND;TZID=Europe/Berlin:20270609T110000
DTSTAMP:20260426T030105
CREATED:20260423T081228Z
LAST-MODIFIED:20260424T124828Z
UID:10015619-1812535200-1812538800@bauverein-ruestringen.de
SUMMARY:Frühstück zur Marktzeit
DESCRIPTION:Frühstücken Sie in netter Runde gemeinsam mit anderen. Bitte melden Sie sich vorher an.
URL:https://bauverein-ruestringen.de/event/fruehstueck-zur-marktzeit-2/2027-06-09/
LOCATION:Treff – Auf Siebethsburg\, Störtebekerstraße 14c\, 26386 Wilhelmshaven\, Deutschland
CATEGORIES:Treff – Auf Siebethsburg
ATTACH;FMTTYPE=image/jpeg:https://bauverein-ruestringen.de/wp-content/uploads/2022/11/Fruehstueck.jpg
END:VEVENT
BEGIN:VEVENT
DTSTART;TZID=Europe/Berlin:20270609T140000
DTEND;TZID=Europe/Berlin:20270609T160000
DTSTAMP:20260426T030105
CREATED:20260423T092114Z
LAST-MODIFIED:20260423T095234Z
UID:10016141-1812549600-1812556800@bauverein-ruestringen.de
SUMMARY:Handarbeitsgruppe
DESCRIPTION:Für alle Altersgruppen: Wenn Sie Spaß am Stricken\, Häkeln\, Handarbeit etc. haben\, kommen Sie gern vorbei.
URL:https://bauverein-ruestringen.de/event/handarbeitsgruppe/2027-06-09/
LOCATION:Treff – Auf Siebethsburg\, Störtebekerstraße 14c\, 26386 Wilhelmshaven\, Deutschland
CATEGORIES:Treff – Auf Siebethsburg
ATTACH;FMTTYPE=image/jpeg:https://bauverein-ruestringen.de/wp-content/uploads/2026/04/Bauverein-Ruestringen-Handarbeitsgruppe.jpg
END:VEVENT
BEGIN:VEVENT
DTSTART;TZID=Europe/Berlin:20270609T183000
DTEND;TZID=Europe/Berlin:20270609T200000
DTSTAMP:20260426T030105
CREATED:20210223T133934Z
LAST-MODIFIED:20250224T200926Z
UID:10010450-1812565800-1812571200@bauverein-ruestringen.de
SUMMARY:Yoga am Abend
DESCRIPTION:Den Tag hinter sich lassen\, sich dehnen\, strecken\, den Körper spüren\, kräftigen\, atmen. Entdecken Sie die Wohltaten des Yoga! Für Menschen von 25-65 Jahren.
URL:https://bauverein-ruestringen.de/event/yoga-am-abend-5/2027-06-09/
LOCATION:Treff – Auf Siebethsburg\, Störtebekerstraße 14c\, 26386 Wilhelmshaven\, Deutschland
CATEGORIES:Treff – Auf Siebethsburg
ATTACH;FMTTYPE=image/jpeg:https://bauverein-ruestringen.de/wp-content/uploads/2022/11/yoga1.jpg
END:VEVENT
BEGIN:VEVENT
DTSTART;TZID=Europe/Berlin:20270610T093000
DTEND;TZID=Europe/Berlin:20270610T110000
DTSTAMP:20260426T030105
CREATED:20260423T101337Z
LAST-MODIFIED:20260423T101337Z
UID:10016525-1812619800-1812625200@bauverein-ruestringen.de
SUMMARY:Café Kinderwagen
DESCRIPTION:Der Treff für Eltern und ihre Kinder von 0 bis 1 Jahren. \nKleine und große Siebethsburger lernen sich kennen und verbringen eine gute Zeit miteinander.
URL:https://bauverein-ruestringen.de/event/cafe-kinderwagen-2/2027-06-10/
LOCATION:Treff – Auf Siebethsburg\, Störtebekerstraße 14c\, 26386 Wilhelmshaven\, Deutschland
CATEGORIES:freiraum
ATTACH;FMTTYPE=image/jpeg:https://bauverein-ruestringen.de/wp-content/uploads/2026/04/Bauverein-Ruestringen-Cafe-Kinderwagen.jpg
END:VEVENT
BEGIN:VEVENT
DTSTART;TZID=Europe/Berlin:20270610T100000
DTEND;TZID=Europe/Berlin:20270610T120000
DTSTAMP:20260426T030105
CREATED:20260423T101908Z
LAST-MODIFIED:20260424T111808Z
UID:10017315-1812621600-1812628800@bauverein-ruestringen.de
SUMMARY:Walking
DESCRIPTION:Spaß an Bewegung in und um Siebethsburg für Menschen\, die sich (wieder) mehr bewegen wollen.
URL:https://bauverein-ruestringen.de/event/walking/2027-06-10/
LOCATION:Treff – Auf Siebethsburg\, Störtebekerstraße 14c\, 26386 Wilhelmshaven\, Deutschland
CATEGORIES:Treff – Auf Siebethsburg
ATTACH;FMTTYPE=image/jpeg:https://bauverein-ruestringen.de/wp-content/uploads/2026/04/Bauverein-Ruestringen-Walking.jpg
END:VEVENT
BEGIN:VEVENT
DTSTART;TZID=Europe/Berlin:20270610T150000
DTEND;TZID=Europe/Berlin:20270610T160000
DTSTAMP:20260426T030105
CREATED:20260423T102316Z
LAST-MODIFIED:20260424T130845Z
UID:10016787-1812639600-1812643200@bauverein-ruestringen.de
SUMMARY:Seniorensport der AWO
DESCRIPTION:Der sportliche Treff für alle ab 60. Wir trainieren mit Freude unsere Kraft und Beweglichkeit\, altersgerecht und ohne Überforderung.
URL:https://bauverein-ruestringen.de/event/seniorensport-der-awo/2027-06-10/
LOCATION:Treff – Auf Siebethsburg\, Störtebekerstraße 14c\, 26386 Wilhelmshaven\, Deutschland
CATEGORIES:Treff – Auf Siebethsburg
ATTACH;FMTTYPE=image/jpeg:https://bauverein-ruestringen.de/wp-content/uploads/2021/02/Seniorensport_Bauverein_Ruestringen.jpg
END:VEVENT
END:VCALENDAR