BEGIN:VCALENDAR
VERSION:2.0
PRODID:-//Bauverein Rüstringen - ECPv6.15.13.1//NONSGML v1.0//EN
CALSCALE:GREGORIAN
METHOD:PUBLISH
X-ORIGINAL-URL:https://bauverein-ruestringen.de
X-WR-CALDESC:Veranstaltungen für Bauverein Rüstringen
REFRESH-INTERVAL;VALUE=DURATION:PT1H
X-Robots-Tag:noindex
X-PUBLISHED-TTL:PT1H
BEGIN:VTIMEZONE
TZID:Europe/Berlin
BEGIN:DAYLIGHT
TZOFFSETFROM:+0100
TZOFFSETTO:+0200
TZNAME:CEST
DTSTART:20260329T010000
END:DAYLIGHT
BEGIN:STANDARD
TZOFFSETFROM:+0200
TZOFFSETTO:+0100
TZNAME:CET
DTSTART:20261025T010000
END:STANDARD
BEGIN:DAYLIGHT
TZOFFSETFROM:+0100
TZOFFSETTO:+0200
TZNAME:CEST
DTSTART:20270328T010000
END:DAYLIGHT
BEGIN:STANDARD
TZOFFSETFROM:+0200
TZOFFSETTO:+0100
TZNAME:CET
DTSTART:20271031T010000
END:STANDARD
BEGIN:DAYLIGHT
TZOFFSETFROM:+0100
TZOFFSETTO:+0200
TZNAME:CEST
DTSTART:20280326T010000
END:DAYLIGHT
BEGIN:STANDARD
TZOFFSETFROM:+0200
TZOFFSETTO:+0100
TZNAME:CET
DTSTART:20281029T010000
END:STANDARD
END:VTIMEZONE
BEGIN:VEVENT
DTSTART;TZID=Europe/Berlin:20270419T133000
DTEND;TZID=Europe/Berlin:20270419T163000
DTSTAMP:20260425T175259
CREATED:20260421T152237Z
LAST-MODIFIED:20260421T152237Z
UID:10014829-1808141400-1808152200@bauverein-ruestringen.de
SUMMARY:Spielenachmittag
DESCRIPTION:Wir spielen Karten-\, Brett- und Würfelspiele\, auch selbst mitgebrachte Spiele sind gern gesehen. Alle Altersgruppen sind willkommen.
URL:https://bauverein-ruestringen.de/event/spielenachmittag-2/2027-04-19/
LOCATION:Treff – Auf Siebethsburg\, Störtebekerstraße 14c\, 26386 Wilhelmshaven\, Deutschland
CATEGORIES:Treff – Auf Siebethsburg
ATTACH;FMTTYPE=image/jpeg:https://bauverein-ruestringen.de/wp-content/uploads/2026/04/Bauverein-Ruestringen-Spielabend.jpg
END:VEVENT
BEGIN:VEVENT
DTSTART;TZID=Europe/Berlin:20270419T140000
DTEND;TZID=Europe/Berlin:20270419T160000
DTSTAMP:20260425T175259
CREATED:20260421T140412Z
LAST-MODIFIED:20260421T140412Z
UID:10011676-1808143200-1808150400@bauverein-ruestringen.de
SUMMARY:Nähstübchen
DESCRIPTION:Nähen ein einsames Hobby? Das muss nicht sein! Im Näh-Café finden Sie Gleichgesinnte. Tauschen Sie sich aus und bekommen Sie beim gemeinsamen Nähen in kreativer Atmosphäre neue Ideen.
URL:https://bauverein-ruestringen.de/event/naeh-cafe-2/2027-04-19/
LOCATION:Treff – Auf Siebethsburg\, Störtebekerstraße 14c\, 26386 Wilhelmshaven\, Deutschland
CATEGORIES:Treff – Auf Siebethsburg
ATTACH;FMTTYPE=image/jpeg:https://bauverein-ruestringen.de/wp-content/uploads/2021/04/Naeh_Cafe_Bauverein_Ruestringen.jpg
END:VEVENT
BEGIN:VEVENT
DTSTART;TZID=Europe/Berlin:20270419T183000
DTEND;TZID=Europe/Berlin:20270419T203000
DTSTAMP:20260425T175259
CREATED:20260423T070905Z
LAST-MODIFIED:20260423T070905Z
UID:10015090-1808159400-1808166600@bauverein-ruestringen.de
SUMMARY:Frauen in Bewegung
DESCRIPTION:In der Gruppe macht Bewegung noch mehr Spaß! Willkommen sind Frauen jeder Altersstufe zu Gymnastik\, Stretching\, Kraftübungen. Im Sommer auch draußen.
URL:https://bauverein-ruestringen.de/event/frauen-in-bewegung-2/2027-04-19/
LOCATION:Treff – Auf Siebethsburg\, Störtebekerstraße 14c\, 26386 Wilhelmshaven\, Deutschland
CATEGORIES:Treff – Auf Siebethsburg
ATTACH;FMTTYPE=image/jpeg:https://bauverein-ruestringen.de/wp-content/uploads/2026/04/Bauverein-Ruestringen-Frauen-in-Bewegung.jpg
END:VEVENT
BEGIN:VEVENT
DTSTART;TZID=Europe/Berlin:20270420T100000
DTEND;TZID=Europe/Berlin:20270420T110000
DTSTAMP:20260425T175259
CREATED:20210901T132110Z
LAST-MODIFIED:20250224T165741Z
UID:10009936-1808215200-1808218800@bauverein-ruestringen.de
SUMMARY:Tai Chi
DESCRIPTION:Tai Chi\, das ist:\nSich spüren\, bewegen – langsam und bewusst. Dem Fluss des Atems folgen und die Kräfte des Lebens stärken. Entspannung für Geist und Körper. \nEs heißt\, wer Tai Chi übt\, wird gesund und stark wie ein Holzfäller\, so geschmeidig wie ein Kind und gelassen wie ein Weiser.
URL:https://bauverein-ruestringen.de/event/thai-chi-2/2027-04-20/
LOCATION:Treff – Auf Siebethsburg\, Störtebekerstraße 14c\, 26386 Wilhelmshaven\, Deutschland
CATEGORIES:Treff – Auf Siebethsburg
ATTACH;FMTTYPE=image/jpeg:https://bauverein-ruestringen.de/wp-content/uploads/2021/09/Thai_Chi.jpg
END:VEVENT
BEGIN:VEVENT
DTSTART;TZID=Europe/Berlin:20270420T103000
DTEND;TZID=Europe/Berlin:20270420T140000
DTSTAMP:20260425T175259
CREATED:20260421T135401Z
LAST-MODIFIED:20260421T135401Z
UID:10011059-1808217000-1808229600@bauverein-ruestringen.de
SUMMARY:Kochgruppe "Männer unter Dampf"
DESCRIPTION:Mit Spaß und Neugier steht das „starke Geschlecht“ unter Anleitung am Herd\, gemeinsam wird gekocht und gegessen.
URL:https://bauverein-ruestringen.de/event/kochgruppe-maenner-unter-dampf/2027-04-20/
LOCATION:Treff – Auf Siebethsburg\, Störtebekerstraße 14c\, 26386 Wilhelmshaven\, Deutschland
CATEGORIES:Seniorenangebote,Treff – Auf Siebethsburg
ATTACH;FMTTYPE=image/jpeg:https://bauverein-ruestringen.de/wp-content/uploads/2022/11/kochkurs.jpg
END:VEVENT
BEGIN:VEVENT
DTSTART;TZID=Europe/Berlin:20270421T100000
DTEND;TZID=Europe/Berlin:20270421T110000
DTSTAMP:20260425T175259
CREATED:20260423T081228Z
LAST-MODIFIED:20260424T124828Z
UID:10015612-1808301600-1808305200@bauverein-ruestringen.de
SUMMARY:Frühstück zur Marktzeit
DESCRIPTION:Frühstücken Sie in netter Runde gemeinsam mit anderen. Bitte melden Sie sich vorher an.
URL:https://bauverein-ruestringen.de/event/fruehstueck-zur-marktzeit-2/2027-04-21/
LOCATION:Treff – Auf Siebethsburg\, Störtebekerstraße 14c\, 26386 Wilhelmshaven\, Deutschland
CATEGORIES:Treff – Auf Siebethsburg
ATTACH;FMTTYPE=image/jpeg:https://bauverein-ruestringen.de/wp-content/uploads/2022/11/Fruehstueck.jpg
END:VEVENT
BEGIN:VEVENT
DTSTART;TZID=Europe/Berlin:20270421T140000
DTEND;TZID=Europe/Berlin:20270421T160000
DTSTAMP:20260425T175259
CREATED:20260423T092114Z
LAST-MODIFIED:20260423T095234Z
UID:10016134-1808316000-1808323200@bauverein-ruestringen.de
SUMMARY:Handarbeitsgruppe
DESCRIPTION:Für alle Altersgruppen: Wenn Sie Spaß am Stricken\, Häkeln\, Handarbeit etc. haben\, kommen Sie gern vorbei.
URL:https://bauverein-ruestringen.de/event/handarbeitsgruppe/2027-04-21/
LOCATION:Treff – Auf Siebethsburg\, Störtebekerstraße 14c\, 26386 Wilhelmshaven\, Deutschland
CATEGORIES:Treff – Auf Siebethsburg
ATTACH;FMTTYPE=image/jpeg:https://bauverein-ruestringen.de/wp-content/uploads/2026/04/Bauverein-Ruestringen-Handarbeitsgruppe.jpg
END:VEVENT
BEGIN:VEVENT
DTSTART;TZID=Europe/Berlin:20270421T183000
DTEND;TZID=Europe/Berlin:20270421T200000
DTSTAMP:20260425T175259
CREATED:20210223T133934Z
LAST-MODIFIED:20250224T200926Z
UID:10010443-1808332200-1808337600@bauverein-ruestringen.de
SUMMARY:Yoga am Abend
DESCRIPTION:Den Tag hinter sich lassen\, sich dehnen\, strecken\, den Körper spüren\, kräftigen\, atmen. Entdecken Sie die Wohltaten des Yoga! Für Menschen von 25-65 Jahren.
URL:https://bauverein-ruestringen.de/event/yoga-am-abend-5/2027-04-21/
LOCATION:Treff – Auf Siebethsburg\, Störtebekerstraße 14c\, 26386 Wilhelmshaven\, Deutschland
CATEGORIES:Treff – Auf Siebethsburg
ATTACH;FMTTYPE=image/jpeg:https://bauverein-ruestringen.de/wp-content/uploads/2022/11/yoga1.jpg
END:VEVENT
BEGIN:VEVENT
DTSTART;TZID=Europe/Berlin:20270422T093000
DTEND;TZID=Europe/Berlin:20270422T110000
DTSTAMP:20260425T175259
CREATED:20260423T101337Z
LAST-MODIFIED:20260423T101337Z
UID:10016518-1808386200-1808391600@bauverein-ruestringen.de
SUMMARY:Café Kinderwagen
DESCRIPTION:Der Treff für Eltern und ihre Kinder von 0 bis 1 Jahren. \nKleine und große Siebethsburger lernen sich kennen und verbringen eine gute Zeit miteinander.
URL:https://bauverein-ruestringen.de/event/cafe-kinderwagen-2/2027-04-22/
LOCATION:Treff – Auf Siebethsburg\, Störtebekerstraße 14c\, 26386 Wilhelmshaven\, Deutschland
CATEGORIES:freiraum
ATTACH;FMTTYPE=image/jpeg:https://bauverein-ruestringen.de/wp-content/uploads/2026/04/Bauverein-Ruestringen-Cafe-Kinderwagen.jpg
END:VEVENT
BEGIN:VEVENT
DTSTART;TZID=Europe/Berlin:20270422T100000
DTEND;TZID=Europe/Berlin:20270422T120000
DTSTAMP:20260425T175259
CREATED:20260423T101908Z
LAST-MODIFIED:20260424T111808Z
UID:10017308-1808388000-1808395200@bauverein-ruestringen.de
SUMMARY:Walking
DESCRIPTION:Spaß an Bewegung in und um Siebethsburg für Menschen\, die sich (wieder) mehr bewegen wollen.
URL:https://bauverein-ruestringen.de/event/walking/2027-04-22/
LOCATION:Treff – Auf Siebethsburg\, Störtebekerstraße 14c\, 26386 Wilhelmshaven\, Deutschland
CATEGORIES:Treff – Auf Siebethsburg
ATTACH;FMTTYPE=image/jpeg:https://bauverein-ruestringen.de/wp-content/uploads/2026/04/Bauverein-Ruestringen-Walking.jpg
END:VEVENT
BEGIN:VEVENT
DTSTART;TZID=Europe/Berlin:20270422T150000
DTEND;TZID=Europe/Berlin:20270422T160000
DTSTAMP:20260425T175259
CREATED:20260423T102316Z
LAST-MODIFIED:20260424T130845Z
UID:10016780-1808406000-1808409600@bauverein-ruestringen.de
SUMMARY:Seniorensport der AWO
DESCRIPTION:Der sportliche Treff für alle ab 60. Wir trainieren mit Freude unsere Kraft und Beweglichkeit\, altersgerecht und ohne Überforderung.
URL:https://bauverein-ruestringen.de/event/seniorensport-der-awo/2027-04-22/
LOCATION:Treff – Auf Siebethsburg\, Störtebekerstraße 14c\, 26386 Wilhelmshaven\, Deutschland
CATEGORIES:Treff – Auf Siebethsburg
ATTACH;FMTTYPE=image/jpeg:https://bauverein-ruestringen.de/wp-content/uploads/2021/02/Seniorensport_Bauverein_Ruestringen.jpg
END:VEVENT
BEGIN:VEVENT
DTSTART;TZID=Europe/Berlin:20270423T100000
DTEND;TZID=Europe/Berlin:20270423T110000
DTSTAMP:20260425T175259
CREATED:20250220T110357Z
LAST-MODIFIED:20250224T212153Z
UID:10012069-1808474400-1808478000@bauverein-ruestringen.de
SUMMARY:Tai Chi
DESCRIPTION:Tai Chi\, das ist:\nSich spüren\, bewegen – langsam und bewusst. Dem Fluss des Atems folgen und die Kräfte des Lebens stärken. Entspannung für Geist und Körper. \nEs heißt\, wer Tai Chi übt\, wird gesund und stark wie ein Holzfäller\, so geschmeidig wie ein Kind und gelassen wie ein Weiser.
URL:https://bauverein-ruestringen.de/event/thai-chi/2027-04-23/
LOCATION:Treff – Auf Siebethsburg\, Störtebekerstraße 14c\, 26386 Wilhelmshaven\, Deutschland
CATEGORIES:Treff – Auf Siebethsburg
ATTACH;FMTTYPE=image/jpeg:https://bauverein-ruestringen.de/wp-content/uploads/2021/09/Thai_Chi.jpg
END:VEVENT
BEGIN:VEVENT
DTSTART;TZID=Europe/Berlin:20270425T150000
DTEND;TZID=Europe/Berlin:20270425T163000
DTSTAMP:20260425T175259
CREATED:20210907T144238Z
LAST-MODIFIED:20260424T072422Z
UID:10011290-1808665200-1808670600@bauverein-ruestringen.de
SUMMARY:Trauer­gesprächs­kreis
DESCRIPTION:Unsere Gesprächskreise geben Menschen in Trauer Gelegenheit\, über ihre Trauer zu sprechen und mit anderen zu teilen.
URL:https://bauverein-ruestringen.de/event/trauergespraechskreis/2027-04-25/
LOCATION:Treff – Auf Siebethsburg\, Störtebekerstraße 14c\, 26386 Wilhelmshaven\, Deutschland
CATEGORIES:Seniorenangebote,Treff – Auf Siebethsburg
ATTACH;FMTTYPE=image/jpeg:https://bauverein-ruestringen.de/wp-content/uploads/2021/09/Trauergespraechskreis.jpg
END:VEVENT
BEGIN:VEVENT
DTSTART;TZID=Europe/Berlin:20270426T093000
DTEND;TZID=Europe/Berlin:20270426T104500
DTSTAMP:20260425T175259
CREATED:20260421T145541Z
LAST-MODIFIED:20260424T125735Z
UID:10014568-1808731800-1808736300@bauverein-ruestringen.de
SUMMARY:Yoga im Sitzen
DESCRIPTION:Ob im Büro oder für die bewegte Pause im Alltag. Yoga auf und am Stuhl bietet die Möglichkeit\, gelenkschonend klassische Yogahaltungen\, Meditations- und Atemtechniken zu praktizieren. Für alle Altersgruppen geeignet.
URL:https://bauverein-ruestringen.de/event/yoga-im-sitzen/2027-04-26/
LOCATION:Treff – Auf Siebethsburg\, Störtebekerstraße 14c\, 26386 Wilhelmshaven\, Deutschland
CATEGORIES:Seniorenangebote,Treff – Auf Siebethsburg
ATTACH;FMTTYPE=image/jpeg:https://bauverein-ruestringen.de/wp-content/uploads/2022/11/yoga2-1.jpg
END:VEVENT
BEGIN:VEVENT
DTSTART;TZID=Europe/Berlin:20270426T133000
DTEND;TZID=Europe/Berlin:20270426T163000
DTSTAMP:20260425T175259
CREATED:20260421T152237Z
LAST-MODIFIED:20260421T152237Z
UID:10014830-1808746200-1808757000@bauverein-ruestringen.de
SUMMARY:Spielenachmittag
DESCRIPTION:Wir spielen Karten-\, Brett- und Würfelspiele\, auch selbst mitgebrachte Spiele sind gern gesehen. Alle Altersgruppen sind willkommen.
URL:https://bauverein-ruestringen.de/event/spielenachmittag-2/2027-04-26/
LOCATION:Treff – Auf Siebethsburg\, Störtebekerstraße 14c\, 26386 Wilhelmshaven\, Deutschland
CATEGORIES:Treff – Auf Siebethsburg
ATTACH;FMTTYPE=image/jpeg:https://bauverein-ruestringen.de/wp-content/uploads/2026/04/Bauverein-Ruestringen-Spielabend.jpg
END:VEVENT
BEGIN:VEVENT
DTSTART;TZID=Europe/Berlin:20270426T140000
DTEND;TZID=Europe/Berlin:20270426T160000
DTSTAMP:20260425T175259
CREATED:20260421T140412Z
LAST-MODIFIED:20260421T140412Z
UID:10011677-1808748000-1808755200@bauverein-ruestringen.de
SUMMARY:Nähstübchen
DESCRIPTION:Nähen ein einsames Hobby? Das muss nicht sein! Im Näh-Café finden Sie Gleichgesinnte. Tauschen Sie sich aus und bekommen Sie beim gemeinsamen Nähen in kreativer Atmosphäre neue Ideen.
URL:https://bauverein-ruestringen.de/event/naeh-cafe-2/2027-04-26/
LOCATION:Treff – Auf Siebethsburg\, Störtebekerstraße 14c\, 26386 Wilhelmshaven\, Deutschland
CATEGORIES:Treff – Auf Siebethsburg
ATTACH;FMTTYPE=image/jpeg:https://bauverein-ruestringen.de/wp-content/uploads/2021/04/Naeh_Cafe_Bauverein_Ruestringen.jpg
END:VEVENT
BEGIN:VEVENT
DTSTART;TZID=Europe/Berlin:20270426T183000
DTEND;TZID=Europe/Berlin:20270426T203000
DTSTAMP:20260425T175259
CREATED:20260423T070905Z
LAST-MODIFIED:20260423T070905Z
UID:10015091-1808764200-1808771400@bauverein-ruestringen.de
SUMMARY:Frauen in Bewegung
DESCRIPTION:In der Gruppe macht Bewegung noch mehr Spaß! Willkommen sind Frauen jeder Altersstufe zu Gymnastik\, Stretching\, Kraftübungen. Im Sommer auch draußen.
URL:https://bauverein-ruestringen.de/event/frauen-in-bewegung-2/2027-04-26/
LOCATION:Treff – Auf Siebethsburg\, Störtebekerstraße 14c\, 26386 Wilhelmshaven\, Deutschland
CATEGORIES:Treff – Auf Siebethsburg
ATTACH;FMTTYPE=image/jpeg:https://bauverein-ruestringen.de/wp-content/uploads/2026/04/Bauverein-Ruestringen-Frauen-in-Bewegung.jpg
END:VEVENT
BEGIN:VEVENT
DTSTART;TZID=Europe/Berlin:20270427T100000
DTEND;TZID=Europe/Berlin:20270427T110000
DTSTAMP:20260425T175259
CREATED:20210901T132110Z
LAST-MODIFIED:20250224T165741Z
UID:10009937-1808820000-1808823600@bauverein-ruestringen.de
SUMMARY:Tai Chi
DESCRIPTION:Tai Chi\, das ist:\nSich spüren\, bewegen – langsam und bewusst. Dem Fluss des Atems folgen und die Kräfte des Lebens stärken. Entspannung für Geist und Körper. \nEs heißt\, wer Tai Chi übt\, wird gesund und stark wie ein Holzfäller\, so geschmeidig wie ein Kind und gelassen wie ein Weiser.
URL:https://bauverein-ruestringen.de/event/thai-chi-2/2027-04-27/
LOCATION:Treff – Auf Siebethsburg\, Störtebekerstraße 14c\, 26386 Wilhelmshaven\, Deutschland
CATEGORIES:Treff – Auf Siebethsburg
ATTACH;FMTTYPE=image/jpeg:https://bauverein-ruestringen.de/wp-content/uploads/2021/09/Thai_Chi.jpg
END:VEVENT
BEGIN:VEVENT
DTSTART;TZID=Europe/Berlin:20270427T143000
DTEND;TZID=Europe/Berlin:20270427T160000
DTSTAMP:20260425T175259
CREATED:20260421T140816Z
LAST-MODIFIED:20260421T140817Z
UID:10010087-1808836200-1808841600@bauverein-ruestringen.de
SUMMARY:Erzählcafè
DESCRIPTION:Gesellige nachbarschaftliche Begegnungen und Informationen zu unterschiedlichen\, aktuellen Themen.
URL:https://bauverein-ruestringen.de/event/erzaehlcafe-2-2/2027-04-27/
LOCATION:Treff – Auf Siebethsburg\, Störtebekerstraße 14c\, 26386 Wilhelmshaven\, Deutschland
CATEGORIES:Seniorenangebote,Treff – Auf Siebethsburg
ATTACH;FMTTYPE=image/jpeg:https://bauverein-ruestringen.de/wp-content/uploads/2022/11/Erzaehlcafe.jpg
END:VEVENT
BEGIN:VEVENT
DTSTART;TZID=Europe/Berlin:20270428T100000
DTEND;TZID=Europe/Berlin:20270428T110000
DTSTAMP:20260425T175259
CREATED:20260423T081228Z
LAST-MODIFIED:20260424T124828Z
UID:10015613-1808906400-1808910000@bauverein-ruestringen.de
SUMMARY:Frühstück zur Marktzeit
DESCRIPTION:Frühstücken Sie in netter Runde gemeinsam mit anderen. Bitte melden Sie sich vorher an.
URL:https://bauverein-ruestringen.de/event/fruehstueck-zur-marktzeit-2/2027-04-28/
LOCATION:Treff – Auf Siebethsburg\, Störtebekerstraße 14c\, 26386 Wilhelmshaven\, Deutschland
CATEGORIES:Treff – Auf Siebethsburg
ATTACH;FMTTYPE=image/jpeg:https://bauverein-ruestringen.de/wp-content/uploads/2022/11/Fruehstueck.jpg
END:VEVENT
BEGIN:VEVENT
DTSTART;TZID=Europe/Berlin:20270428T140000
DTEND;TZID=Europe/Berlin:20270428T160000
DTSTAMP:20260425T175259
CREATED:20260423T092114Z
LAST-MODIFIED:20260423T095234Z
UID:10016135-1808920800-1808928000@bauverein-ruestringen.de
SUMMARY:Handarbeitsgruppe
DESCRIPTION:Für alle Altersgruppen: Wenn Sie Spaß am Stricken\, Häkeln\, Handarbeit etc. haben\, kommen Sie gern vorbei.
URL:https://bauverein-ruestringen.de/event/handarbeitsgruppe/2027-04-28/
LOCATION:Treff – Auf Siebethsburg\, Störtebekerstraße 14c\, 26386 Wilhelmshaven\, Deutschland
CATEGORIES:Treff – Auf Siebethsburg
ATTACH;FMTTYPE=image/jpeg:https://bauverein-ruestringen.de/wp-content/uploads/2026/04/Bauverein-Ruestringen-Handarbeitsgruppe.jpg
END:VEVENT
BEGIN:VEVENT
DTSTART;TZID=Europe/Berlin:20270428T183000
DTEND;TZID=Europe/Berlin:20270428T200000
DTSTAMP:20260425T175259
CREATED:20210223T133934Z
LAST-MODIFIED:20250224T200926Z
UID:10010444-1808937000-1808942400@bauverein-ruestringen.de
SUMMARY:Yoga am Abend
DESCRIPTION:Den Tag hinter sich lassen\, sich dehnen\, strecken\, den Körper spüren\, kräftigen\, atmen. Entdecken Sie die Wohltaten des Yoga! Für Menschen von 25-65 Jahren.
URL:https://bauverein-ruestringen.de/event/yoga-am-abend-5/2027-04-28/
LOCATION:Treff – Auf Siebethsburg\, Störtebekerstraße 14c\, 26386 Wilhelmshaven\, Deutschland
CATEGORIES:Treff – Auf Siebethsburg
ATTACH;FMTTYPE=image/jpeg:https://bauverein-ruestringen.de/wp-content/uploads/2022/11/yoga1.jpg
END:VEVENT
BEGIN:VEVENT
DTSTART;TZID=Europe/Berlin:20270429T093000
DTEND;TZID=Europe/Berlin:20270429T110000
DTSTAMP:20260425T175259
CREATED:20260423T101337Z
LAST-MODIFIED:20260423T101337Z
UID:10016519-1808991000-1808996400@bauverein-ruestringen.de
SUMMARY:Café Kinderwagen
DESCRIPTION:Der Treff für Eltern und ihre Kinder von 0 bis 1 Jahren. \nKleine und große Siebethsburger lernen sich kennen und verbringen eine gute Zeit miteinander.
URL:https://bauverein-ruestringen.de/event/cafe-kinderwagen-2/2027-04-29/
LOCATION:Treff – Auf Siebethsburg\, Störtebekerstraße 14c\, 26386 Wilhelmshaven\, Deutschland
CATEGORIES:freiraum
ATTACH;FMTTYPE=image/jpeg:https://bauverein-ruestringen.de/wp-content/uploads/2026/04/Bauverein-Ruestringen-Cafe-Kinderwagen.jpg
END:VEVENT
BEGIN:VEVENT
DTSTART;TZID=Europe/Berlin:20270429T100000
DTEND;TZID=Europe/Berlin:20270429T120000
DTSTAMP:20260425T175259
CREATED:20260423T101908Z
LAST-MODIFIED:20260424T111808Z
UID:10017309-1808992800-1809000000@bauverein-ruestringen.de
SUMMARY:Walking
DESCRIPTION:Spaß an Bewegung in und um Siebethsburg für Menschen\, die sich (wieder) mehr bewegen wollen.
URL:https://bauverein-ruestringen.de/event/walking/2027-04-29/
LOCATION:Treff – Auf Siebethsburg\, Störtebekerstraße 14c\, 26386 Wilhelmshaven\, Deutschland
CATEGORIES:Treff – Auf Siebethsburg
ATTACH;FMTTYPE=image/jpeg:https://bauverein-ruestringen.de/wp-content/uploads/2026/04/Bauverein-Ruestringen-Walking.jpg
END:VEVENT
BEGIN:VEVENT
DTSTART;TZID=Europe/Berlin:20270429T150000
DTEND;TZID=Europe/Berlin:20270429T160000
DTSTAMP:20260425T175259
CREATED:20260423T102316Z
LAST-MODIFIED:20260424T130845Z
UID:10016781-1809010800-1809014400@bauverein-ruestringen.de
SUMMARY:Seniorensport der AWO
DESCRIPTION:Der sportliche Treff für alle ab 60. Wir trainieren mit Freude unsere Kraft und Beweglichkeit\, altersgerecht und ohne Überforderung.
URL:https://bauverein-ruestringen.de/event/seniorensport-der-awo/2027-04-29/
LOCATION:Treff – Auf Siebethsburg\, Störtebekerstraße 14c\, 26386 Wilhelmshaven\, Deutschland
CATEGORIES:Treff – Auf Siebethsburg
ATTACH;FMTTYPE=image/jpeg:https://bauverein-ruestringen.de/wp-content/uploads/2021/02/Seniorensport_Bauverein_Ruestringen.jpg
END:VEVENT
BEGIN:VEVENT
DTSTART;TZID=Europe/Berlin:20270430T100000
DTEND;TZID=Europe/Berlin:20270430T110000
DTSTAMP:20260425T175259
CREATED:20250220T110357Z
LAST-MODIFIED:20250224T212153Z
UID:10012070-1809079200-1809082800@bauverein-ruestringen.de
SUMMARY:Tai Chi
DESCRIPTION:Tai Chi\, das ist:\nSich spüren\, bewegen – langsam und bewusst. Dem Fluss des Atems folgen und die Kräfte des Lebens stärken. Entspannung für Geist und Körper. \nEs heißt\, wer Tai Chi übt\, wird gesund und stark wie ein Holzfäller\, so geschmeidig wie ein Kind und gelassen wie ein Weiser.
URL:https://bauverein-ruestringen.de/event/thai-chi/2027-04-30/
LOCATION:Treff – Auf Siebethsburg\, Störtebekerstraße 14c\, 26386 Wilhelmshaven\, Deutschland
CATEGORIES:Treff – Auf Siebethsburg
ATTACH;FMTTYPE=image/jpeg:https://bauverein-ruestringen.de/wp-content/uploads/2021/09/Thai_Chi.jpg
END:VEVENT
BEGIN:VEVENT
DTSTART;TZID=Europe/Berlin:20270503T093000
DTEND;TZID=Europe/Berlin:20270503T104500
DTSTAMP:20260425T175259
CREATED:20260421T145541Z
LAST-MODIFIED:20260424T125735Z
UID:10014569-1809336600-1809341100@bauverein-ruestringen.de
SUMMARY:Yoga im Sitzen
DESCRIPTION:Ob im Büro oder für die bewegte Pause im Alltag. Yoga auf und am Stuhl bietet die Möglichkeit\, gelenkschonend klassische Yogahaltungen\, Meditations- und Atemtechniken zu praktizieren. Für alle Altersgruppen geeignet.
URL:https://bauverein-ruestringen.de/event/yoga-im-sitzen/2027-05-03/
LOCATION:Treff – Auf Siebethsburg\, Störtebekerstraße 14c\, 26386 Wilhelmshaven\, Deutschland
CATEGORIES:Seniorenangebote,Treff – Auf Siebethsburg
ATTACH;FMTTYPE=image/jpeg:https://bauverein-ruestringen.de/wp-content/uploads/2022/11/yoga2-1.jpg
END:VEVENT
BEGIN:VEVENT
DTSTART;TZID=Europe/Berlin:20270503T133000
DTEND;TZID=Europe/Berlin:20270503T163000
DTSTAMP:20260425T175259
CREATED:20260421T152237Z
LAST-MODIFIED:20260421T152237Z
UID:10014831-1809351000-1809361800@bauverein-ruestringen.de
SUMMARY:Spielenachmittag
DESCRIPTION:Wir spielen Karten-\, Brett- und Würfelspiele\, auch selbst mitgebrachte Spiele sind gern gesehen. Alle Altersgruppen sind willkommen.
URL:https://bauverein-ruestringen.de/event/spielenachmittag-2/2027-05-03/
LOCATION:Treff – Auf Siebethsburg\, Störtebekerstraße 14c\, 26386 Wilhelmshaven\, Deutschland
CATEGORIES:Treff – Auf Siebethsburg
ATTACH;FMTTYPE=image/jpeg:https://bauverein-ruestringen.de/wp-content/uploads/2026/04/Bauverein-Ruestringen-Spielabend.jpg
END:VEVENT
BEGIN:VEVENT
DTSTART;TZID=Europe/Berlin:20270503T140000
DTEND;TZID=Europe/Berlin:20270503T160000
DTSTAMP:20260425T175259
CREATED:20260421T140412Z
LAST-MODIFIED:20260421T140412Z
UID:10011678-1809352800-1809360000@bauverein-ruestringen.de
SUMMARY:Nähstübchen
DESCRIPTION:Nähen ein einsames Hobby? Das muss nicht sein! Im Näh-Café finden Sie Gleichgesinnte. Tauschen Sie sich aus und bekommen Sie beim gemeinsamen Nähen in kreativer Atmosphäre neue Ideen.
URL:https://bauverein-ruestringen.de/event/naeh-cafe-2/2027-05-03/
LOCATION:Treff – Auf Siebethsburg\, Störtebekerstraße 14c\, 26386 Wilhelmshaven\, Deutschland
CATEGORIES:Treff – Auf Siebethsburg
ATTACH;FMTTYPE=image/jpeg:https://bauverein-ruestringen.de/wp-content/uploads/2021/04/Naeh_Cafe_Bauverein_Ruestringen.jpg
END:VEVENT
BEGIN:VEVENT
DTSTART;TZID=Europe/Berlin:20270503T183000
DTEND;TZID=Europe/Berlin:20270503T203000
DTSTAMP:20260425T175259
CREATED:20260423T070905Z
LAST-MODIFIED:20260423T070905Z
UID:10015092-1809369000-1809376200@bauverein-ruestringen.de
SUMMARY:Frauen in Bewegung
DESCRIPTION:In der Gruppe macht Bewegung noch mehr Spaß! Willkommen sind Frauen jeder Altersstufe zu Gymnastik\, Stretching\, Kraftübungen. Im Sommer auch draußen.
URL:https://bauverein-ruestringen.de/event/frauen-in-bewegung-2/2027-05-03/
LOCATION:Treff – Auf Siebethsburg\, Störtebekerstraße 14c\, 26386 Wilhelmshaven\, Deutschland
CATEGORIES:Treff – Auf Siebethsburg
ATTACH;FMTTYPE=image/jpeg:https://bauverein-ruestringen.de/wp-content/uploads/2026/04/Bauverein-Ruestringen-Frauen-in-Bewegung.jpg
END:VEVENT
END:VCALENDAR