BEGIN:VCALENDAR
VERSION:2.0
PRODID:-//Bauverein Rüstringen - ECPv6.15.13.1//NONSGML v1.0//EN
CALSCALE:GREGORIAN
METHOD:PUBLISH
X-ORIGINAL-URL:https://bauverein-ruestringen.de
X-WR-CALDESC:Veranstaltungen für Bauverein Rüstringen
REFRESH-INTERVAL;VALUE=DURATION:PT1H
X-Robots-Tag:noindex
X-PUBLISHED-TTL:PT1H
BEGIN:VTIMEZONE
TZID:Europe/Berlin
BEGIN:DAYLIGHT
TZOFFSETFROM:+0100
TZOFFSETTO:+0200
TZNAME:CEST
DTSTART:20250330T010000
END:DAYLIGHT
BEGIN:STANDARD
TZOFFSETFROM:+0200
TZOFFSETTO:+0100
TZNAME:CET
DTSTART:20251026T010000
END:STANDARD
BEGIN:DAYLIGHT
TZOFFSETFROM:+0100
TZOFFSETTO:+0200
TZNAME:CEST
DTSTART:20260329T010000
END:DAYLIGHT
BEGIN:STANDARD
TZOFFSETFROM:+0200
TZOFFSETTO:+0100
TZNAME:CET
DTSTART:20261025T010000
END:STANDARD
BEGIN:DAYLIGHT
TZOFFSETFROM:+0100
TZOFFSETTO:+0200
TZNAME:CEST
DTSTART:20270328T010000
END:DAYLIGHT
BEGIN:STANDARD
TZOFFSETFROM:+0200
TZOFFSETTO:+0100
TZNAME:CET
DTSTART:20271031T010000
END:STANDARD
END:VTIMEZONE
BEGIN:VEVENT
DTSTART;TZID=Europe/Berlin:20261125T183000
DTEND;TZID=Europe/Berlin:20261125T200000
DTSTAMP:20260424T035952
CREATED:20210223T133934Z
LAST-MODIFIED:20250224T200926Z
UID:10005966-1795631400-1795636800@bauverein-ruestringen.de
SUMMARY:Yoga am Abend
DESCRIPTION:Den Tag hinter sich lassen\, sich dehnen\, strecken\, den Körper spüren\, kräftigen\, atmen. Entdecken Sie die Wohltaten des Yoga! Für Menschen von 25-65 Jahren.
URL:https://bauverein-ruestringen.de/event/yoga-am-abend-5/2026-11-25/
LOCATION:Treff – Auf Siebethsburg\, Störtebekerstraße 14c\, 26386 Wilhelmshaven\, Deutschland
CATEGORIES:Treff – Auf Siebethsburg
ATTACH;FMTTYPE=image/jpeg:https://bauverein-ruestringen.de/wp-content/uploads/2022/11/yoga1.jpg
END:VEVENT
BEGIN:VEVENT
DTSTART;TZID=Europe/Berlin:20261126T093000
DTEND;TZID=Europe/Berlin:20261126T110000
DTSTAMP:20260424T035952
CREATED:20260423T101337Z
LAST-MODIFIED:20260423T101337Z
UID:10016497-1795685400-1795690800@bauverein-ruestringen.de
SUMMARY:Café Kinderwagen
DESCRIPTION:Der Treff für Eltern und ihre Kinder von 0 bis 1 Jahren. \nKleine und große Siebethsburger lernen sich kennen und verbringen eine gute Zeit miteinander.
URL:https://bauverein-ruestringen.de/event/cafe-kinderwagen-2/2026-11-26/
LOCATION:Treff – Auf Siebethsburg\, Störtebekerstraße 14c\, 26386 Wilhelmshaven\, Deutschland
CATEGORIES:freiraum
ATTACH;FMTTYPE=image/jpeg:https://bauverein-ruestringen.de/wp-content/uploads/2026/04/Bauverein-Ruestringen-Cafe-Kinderwagen.jpg
END:VEVENT
BEGIN:VEVENT
DTSTART;TZID=Europe/Berlin:20261126T150000
DTEND;TZID=Europe/Berlin:20261126T160000
DTSTAMP:20260424T035952
CREATED:20260423T102316Z
LAST-MODIFIED:20260423T102316Z
UID:10016759-1795705200-1795708800@bauverein-ruestringen.de
SUMMARY:Seniorensport der AWO
DESCRIPTION:Der sportliche Treff für alle ab 60. Wir trainieren mit Freude unsere Kraft und Beweglichkeit\, altersgerecht und ohne Überforderung.
URL:https://bauverein-ruestringen.de/event/seniorensport-der-awo/2026-11-26/
LOCATION:Treff – Auf Siebethsburg\, Störtebekerstraße 14c\, 26386 Wilhelmshaven\, Deutschland
CATEGORIES:Treff – Auf Siebethsburg
ATTACH;FMTTYPE=image/jpeg:https://bauverein-ruestringen.de/wp-content/uploads/2026/04/Bauverein-Ruestringen-Seniorensport-AWO.jpg
END:VEVENT
BEGIN:VEVENT
DTSTART;TZID=Europe/Berlin:20261127T100000
DTEND;TZID=Europe/Berlin:20261127T110000
DTSTAMP:20260424T035952
CREATED:20250220T110357Z
LAST-MODIFIED:20250224T212153Z
UID:10008222-1795773600-1795777200@bauverein-ruestringen.de
SUMMARY:Tai Chi
DESCRIPTION:Tai Chi\, das ist:\nSich spüren\, bewegen – langsam und bewusst. Dem Fluss des Atems folgen und die Kräfte des Lebens stärken. Entspannung für Geist und Körper. \nEs heißt\, wer Tai Chi übt\, wird gesund und stark wie ein Holzfäller\, so geschmeidig wie ein Kind und gelassen wie ein Weiser.
URL:https://bauverein-ruestringen.de/event/thai-chi/2026-11-27/
LOCATION:Treff – Auf Siebethsburg\, Störtebekerstraße 14c\, 26386 Wilhelmshaven\, Deutschland
CATEGORIES:Treff – Auf Siebethsburg
ATTACH;FMTTYPE=image/jpeg:https://bauverein-ruestringen.de/wp-content/uploads/2021/09/Thai_Chi.jpg
END:VEVENT
BEGIN:VEVENT
DTSTART;TZID=Europe/Berlin:20261130T093000
DTEND;TZID=Europe/Berlin:20261130T144500
DTSTAMP:20260424T035952
CREATED:20260421T145541Z
LAST-MODIFIED:20260421T150016Z
UID:10014547-1796031000-1796049900@bauverein-ruestringen.de
SUMMARY:Yoga im Sitzen
DESCRIPTION:Ob im Büro oder für die bewegte Pause im Alltag. Yoga auf und am Stuhl bietet die Möglichkeit\, gelenkschonend klassische Yogahaltungen\, Meditations- und Atemtechniken zu praktizieren. Für alle Altersgruppen geeignet.
URL:https://bauverein-ruestringen.de/event/yoga-im-sitzen/2026-11-30/
LOCATION:Treff – Auf Siebethsburg\, Störtebekerstraße 14c\, 26386 Wilhelmshaven\, Deutschland
CATEGORIES:Seniorenangebote,Treff – Auf Siebethsburg
ATTACH;FMTTYPE=image/jpeg:https://bauverein-ruestringen.de/wp-content/uploads/2026/04/Bauverein-Ruestringen-Sitz-Yoga.jpg
END:VEVENT
BEGIN:VEVENT
DTSTART;TZID=Europe/Berlin:20261130T133000
DTEND;TZID=Europe/Berlin:20261130T163000
DTSTAMP:20260424T035952
CREATED:20260421T152237Z
LAST-MODIFIED:20260421T152237Z
UID:10014809-1796045400-1796056200@bauverein-ruestringen.de
SUMMARY:Spielenachmittag
DESCRIPTION:Wir spielen Karten-\, Brett- und Würfelspiele\, auch selbst mitgebrachte Spiele sind gern gesehen. Alle Altersgruppen sind willkommen.
URL:https://bauverein-ruestringen.de/event/spielenachmittag-2/2026-11-30/
LOCATION:Treff – Auf Siebethsburg\, Störtebekerstraße 14c\, 26386 Wilhelmshaven\, Deutschland
CATEGORIES:Treff – Auf Siebethsburg
ATTACH;FMTTYPE=image/jpeg:https://bauverein-ruestringen.de/wp-content/uploads/2026/04/Bauverein-Ruestringen-Spielabend.jpg
END:VEVENT
BEGIN:VEVENT
DTSTART;TZID=Europe/Berlin:20261130T140000
DTEND;TZID=Europe/Berlin:20261130T160000
DTSTAMP:20260424T035952
CREATED:20260421T140412Z
LAST-MODIFIED:20260421T140412Z
UID:10006637-1796047200-1796054400@bauverein-ruestringen.de
SUMMARY:Nähstübchen
DESCRIPTION:Nähen ein einsames Hobby? Das muss nicht sein! Im Näh-Café finden Sie Gleichgesinnte. Tauschen Sie sich aus und bekommen Sie beim gemeinsamen Nähen in kreativer Atmosphäre neue Ideen.
URL:https://bauverein-ruestringen.de/event/naeh-cafe-2/2026-11-30/
LOCATION:Treff – Auf Siebethsburg\, Störtebekerstraße 14c\, 26386 Wilhelmshaven\, Deutschland
CATEGORIES:Treff – Auf Siebethsburg
ATTACH;FMTTYPE=image/jpeg:https://bauverein-ruestringen.de/wp-content/uploads/2021/04/Naeh_Cafe_Bauverein_Ruestringen.jpg
END:VEVENT
BEGIN:VEVENT
DTSTART;TZID=Europe/Berlin:20261130T183000
DTEND;TZID=Europe/Berlin:20261130T203000
DTSTAMP:20260424T035952
CREATED:20260423T070905Z
LAST-MODIFIED:20260423T070905Z
UID:10015070-1796063400-1796070600@bauverein-ruestringen.de
SUMMARY:Frauen in Bewegung
DESCRIPTION:In der Gruppe macht Bewegung noch mehr Spaß! Willkommen sind Frauen jeder Altersstufe zu Gymnastik\, Stretching\, Kraftübungen. Im Sommer auch draußen.
URL:https://bauverein-ruestringen.de/event/frauen-in-bewegung-2/2026-11-30/
LOCATION:Treff – Auf Siebethsburg\, Störtebekerstraße 14c\, 26386 Wilhelmshaven\, Deutschland
CATEGORIES:Treff – Auf Siebethsburg
ATTACH;FMTTYPE=image/jpeg:https://bauverein-ruestringen.de/wp-content/uploads/2026/04/Bauverein-Ruestringen-Frauen-in-Bewegung.jpg
END:VEVENT
BEGIN:VEVENT
DTSTART;TZID=Europe/Berlin:20261201T100000
DTEND;TZID=Europe/Berlin:20261201T110000
DTSTAMP:20260424T035952
CREATED:20210901T132110Z
LAST-MODIFIED:20250224T165741Z
UID:10007943-1796119200-1796122800@bauverein-ruestringen.de
SUMMARY:Tai Chi
DESCRIPTION:Tai Chi\, das ist:\nSich spüren\, bewegen – langsam und bewusst. Dem Fluss des Atems folgen und die Kräfte des Lebens stärken. Entspannung für Geist und Körper. \nEs heißt\, wer Tai Chi übt\, wird gesund und stark wie ein Holzfäller\, so geschmeidig wie ein Kind und gelassen wie ein Weiser.
URL:https://bauverein-ruestringen.de/event/thai-chi-2/2026-12-01/
LOCATION:Treff – Auf Siebethsburg\, Störtebekerstraße 14c\, 26386 Wilhelmshaven\, Deutschland
CATEGORIES:Treff – Auf Siebethsburg
ATTACH;FMTTYPE=image/jpeg:https://bauverein-ruestringen.de/wp-content/uploads/2021/09/Thai_Chi.jpg
END:VEVENT
BEGIN:VEVENT
DTSTART;TZID=Europe/Berlin:20261202T100000
DTEND;TZID=Europe/Berlin:20261202T110000
DTSTAMP:20260424T035952
CREATED:20260423T081228Z
LAST-MODIFIED:20260423T081228Z
UID:10015592-1796205600-1796209200@bauverein-ruestringen.de
SUMMARY:Frühstück zur Marktzeit
DESCRIPTION:Frühstücken Sie in netter Runde gemeinsam mit anderen. Bitte melden Sie sich vorher an.
URL:https://bauverein-ruestringen.de/event/fruehstueck-zur-marktzeit-2/2026-12-02/
LOCATION:Treff – Auf Siebethsburg\, Störtebekerstraße 14c\, 26386 Wilhelmshaven\, Deutschland
CATEGORIES:Treff – Auf Siebethsburg
ATTACH;FMTTYPE=image/jpeg:https://bauverein-ruestringen.de/wp-content/uploads/2026/04/Bauverein-Ruestringen-Fruehstueck-zur-Marktzeit.jpg
END:VEVENT
BEGIN:VEVENT
DTSTART;TZID=Europe/Berlin:20261202T140000
DTEND;TZID=Europe/Berlin:20261202T160000
DTSTAMP:20260424T035952
CREATED:20260423T092114Z
LAST-MODIFIED:20260423T095234Z
UID:10016114-1796220000-1796227200@bauverein-ruestringen.de
SUMMARY:Handarbeitsgruppe
DESCRIPTION:Für alle Altersgruppen: Wenn Sie Spaß am Stricken\, Häkeln\, Handarbeit etc. haben\, kommen Sie gern vorbei.
URL:https://bauverein-ruestringen.de/event/handarbeitsgruppe/2026-12-02/
LOCATION:Treff – Auf Siebethsburg\, Störtebekerstraße 14c\, 26386 Wilhelmshaven\, Deutschland
CATEGORIES:Treff – Auf Siebethsburg
ATTACH;FMTTYPE=image/jpeg:https://bauverein-ruestringen.de/wp-content/uploads/2026/04/Bauverein-Ruestringen-Handarbeitsgruppe.jpg
END:VEVENT
BEGIN:VEVENT
DTSTART;TZID=Europe/Berlin:20261202T183000
DTEND;TZID=Europe/Berlin:20261202T200000
DTSTAMP:20260424T035952
CREATED:20210223T133934Z
LAST-MODIFIED:20250224T200926Z
UID:10005967-1796236200-1796241600@bauverein-ruestringen.de
SUMMARY:Yoga am Abend
DESCRIPTION:Den Tag hinter sich lassen\, sich dehnen\, strecken\, den Körper spüren\, kräftigen\, atmen. Entdecken Sie die Wohltaten des Yoga! Für Menschen von 25-65 Jahren.
URL:https://bauverein-ruestringen.de/event/yoga-am-abend-5/2026-12-02/
LOCATION:Treff – Auf Siebethsburg\, Störtebekerstraße 14c\, 26386 Wilhelmshaven\, Deutschland
CATEGORIES:Treff – Auf Siebethsburg
ATTACH;FMTTYPE=image/jpeg:https://bauverein-ruestringen.de/wp-content/uploads/2022/11/yoga1.jpg
END:VEVENT
BEGIN:VEVENT
DTSTART;TZID=Europe/Berlin:20261203T093000
DTEND;TZID=Europe/Berlin:20261203T110000
DTSTAMP:20260424T035952
CREATED:20260423T101337Z
LAST-MODIFIED:20260423T101337Z
UID:10016498-1796290200-1796295600@bauverein-ruestringen.de
SUMMARY:Café Kinderwagen
DESCRIPTION:Der Treff für Eltern und ihre Kinder von 0 bis 1 Jahren. \nKleine und große Siebethsburger lernen sich kennen und verbringen eine gute Zeit miteinander.
URL:https://bauverein-ruestringen.de/event/cafe-kinderwagen-2/2026-12-03/
LOCATION:Treff – Auf Siebethsburg\, Störtebekerstraße 14c\, 26386 Wilhelmshaven\, Deutschland
CATEGORIES:freiraum
ATTACH;FMTTYPE=image/jpeg:https://bauverein-ruestringen.de/wp-content/uploads/2026/04/Bauverein-Ruestringen-Cafe-Kinderwagen.jpg
END:VEVENT
BEGIN:VEVENT
DTSTART;TZID=Europe/Berlin:20261203T150000
DTEND;TZID=Europe/Berlin:20261203T160000
DTSTAMP:20260424T035952
CREATED:20260423T102316Z
LAST-MODIFIED:20260423T102316Z
UID:10016760-1796310000-1796313600@bauverein-ruestringen.de
SUMMARY:Seniorensport der AWO
DESCRIPTION:Der sportliche Treff für alle ab 60. Wir trainieren mit Freude unsere Kraft und Beweglichkeit\, altersgerecht und ohne Überforderung.
URL:https://bauverein-ruestringen.de/event/seniorensport-der-awo/2026-12-03/
LOCATION:Treff – Auf Siebethsburg\, Störtebekerstraße 14c\, 26386 Wilhelmshaven\, Deutschland
CATEGORIES:Treff – Auf Siebethsburg
ATTACH;FMTTYPE=image/jpeg:https://bauverein-ruestringen.de/wp-content/uploads/2026/04/Bauverein-Ruestringen-Seniorensport-AWO.jpg
END:VEVENT
BEGIN:VEVENT
DTSTART;TZID=Europe/Berlin:20261204T100000
DTEND;TZID=Europe/Berlin:20261204T110000
DTSTAMP:20260424T035952
CREATED:20250220T110357Z
LAST-MODIFIED:20250224T212153Z
UID:10008223-1796378400-1796382000@bauverein-ruestringen.de
SUMMARY:Tai Chi
DESCRIPTION:Tai Chi\, das ist:\nSich spüren\, bewegen – langsam und bewusst. Dem Fluss des Atems folgen und die Kräfte des Lebens stärken. Entspannung für Geist und Körper. \nEs heißt\, wer Tai Chi übt\, wird gesund und stark wie ein Holzfäller\, so geschmeidig wie ein Kind und gelassen wie ein Weiser.
URL:https://bauverein-ruestringen.de/event/thai-chi/2026-12-04/
LOCATION:Treff – Auf Siebethsburg\, Störtebekerstraße 14c\, 26386 Wilhelmshaven\, Deutschland
CATEGORIES:Treff – Auf Siebethsburg
ATTACH;FMTTYPE=image/jpeg:https://bauverein-ruestringen.de/wp-content/uploads/2021/09/Thai_Chi.jpg
END:VEVENT
BEGIN:VEVENT
DTSTART;TZID=Europe/Berlin:20261207T093000
DTEND;TZID=Europe/Berlin:20261207T144500
DTSTAMP:20260424T035952
CREATED:20260421T145541Z
LAST-MODIFIED:20260421T150016Z
UID:10014548-1796635800-1796654700@bauverein-ruestringen.de
SUMMARY:Yoga im Sitzen
DESCRIPTION:Ob im Büro oder für die bewegte Pause im Alltag. Yoga auf und am Stuhl bietet die Möglichkeit\, gelenkschonend klassische Yogahaltungen\, Meditations- und Atemtechniken zu praktizieren. Für alle Altersgruppen geeignet.
URL:https://bauverein-ruestringen.de/event/yoga-im-sitzen/2026-12-07/
LOCATION:Treff – Auf Siebethsburg\, Störtebekerstraße 14c\, 26386 Wilhelmshaven\, Deutschland
CATEGORIES:Seniorenangebote,Treff – Auf Siebethsburg
ATTACH;FMTTYPE=image/jpeg:https://bauverein-ruestringen.de/wp-content/uploads/2026/04/Bauverein-Ruestringen-Sitz-Yoga.jpg
END:VEVENT
BEGIN:VEVENT
DTSTART;TZID=Europe/Berlin:20261207T133000
DTEND;TZID=Europe/Berlin:20261207T163000
DTSTAMP:20260424T035952
CREATED:20260421T152237Z
LAST-MODIFIED:20260421T152237Z
UID:10014810-1796650200-1796661000@bauverein-ruestringen.de
SUMMARY:Spielenachmittag
DESCRIPTION:Wir spielen Karten-\, Brett- und Würfelspiele\, auch selbst mitgebrachte Spiele sind gern gesehen. Alle Altersgruppen sind willkommen.
URL:https://bauverein-ruestringen.de/event/spielenachmittag-2/2026-12-07/
LOCATION:Treff – Auf Siebethsburg\, Störtebekerstraße 14c\, 26386 Wilhelmshaven\, Deutschland
CATEGORIES:Treff – Auf Siebethsburg
ATTACH;FMTTYPE=image/jpeg:https://bauverein-ruestringen.de/wp-content/uploads/2026/04/Bauverein-Ruestringen-Spielabend.jpg
END:VEVENT
BEGIN:VEVENT
DTSTART;TZID=Europe/Berlin:20261207T140000
DTEND;TZID=Europe/Berlin:20261207T160000
DTSTAMP:20260424T035952
CREATED:20260421T140412Z
LAST-MODIFIED:20260421T140412Z
UID:10006638-1796652000-1796659200@bauverein-ruestringen.de
SUMMARY:Nähstübchen
DESCRIPTION:Nähen ein einsames Hobby? Das muss nicht sein! Im Näh-Café finden Sie Gleichgesinnte. Tauschen Sie sich aus und bekommen Sie beim gemeinsamen Nähen in kreativer Atmosphäre neue Ideen.
URL:https://bauverein-ruestringen.de/event/naeh-cafe-2/2026-12-07/
LOCATION:Treff – Auf Siebethsburg\, Störtebekerstraße 14c\, 26386 Wilhelmshaven\, Deutschland
CATEGORIES:Treff – Auf Siebethsburg
ATTACH;FMTTYPE=image/jpeg:https://bauverein-ruestringen.de/wp-content/uploads/2021/04/Naeh_Cafe_Bauverein_Ruestringen.jpg
END:VEVENT
BEGIN:VEVENT
DTSTART;TZID=Europe/Berlin:20261207T183000
DTEND;TZID=Europe/Berlin:20261207T203000
DTSTAMP:20260424T035952
CREATED:20260423T070905Z
LAST-MODIFIED:20260423T070905Z
UID:10015071-1796668200-1796675400@bauverein-ruestringen.de
SUMMARY:Frauen in Bewegung
DESCRIPTION:In der Gruppe macht Bewegung noch mehr Spaß! Willkommen sind Frauen jeder Altersstufe zu Gymnastik\, Stretching\, Kraftübungen. Im Sommer auch draußen.
URL:https://bauverein-ruestringen.de/event/frauen-in-bewegung-2/2026-12-07/
LOCATION:Treff – Auf Siebethsburg\, Störtebekerstraße 14c\, 26386 Wilhelmshaven\, Deutschland
CATEGORIES:Treff – Auf Siebethsburg
ATTACH;FMTTYPE=image/jpeg:https://bauverein-ruestringen.de/wp-content/uploads/2026/04/Bauverein-Ruestringen-Frauen-in-Bewegung.jpg
END:VEVENT
BEGIN:VEVENT
DTSTART;TZID=Europe/Berlin:20261208T100000
DTEND;TZID=Europe/Berlin:20261208T110000
DTSTAMP:20260424T035952
CREATED:20210901T132110Z
LAST-MODIFIED:20250224T165741Z
UID:10007944-1796724000-1796727600@bauverein-ruestringen.de
SUMMARY:Tai Chi
DESCRIPTION:Tai Chi\, das ist:\nSich spüren\, bewegen – langsam und bewusst. Dem Fluss des Atems folgen und die Kräfte des Lebens stärken. Entspannung für Geist und Körper. \nEs heißt\, wer Tai Chi übt\, wird gesund und stark wie ein Holzfäller\, so geschmeidig wie ein Kind und gelassen wie ein Weiser.
URL:https://bauverein-ruestringen.de/event/thai-chi-2/2026-12-08/
LOCATION:Treff – Auf Siebethsburg\, Störtebekerstraße 14c\, 26386 Wilhelmshaven\, Deutschland
CATEGORIES:Treff – Auf Siebethsburg
ATTACH;FMTTYPE=image/jpeg:https://bauverein-ruestringen.de/wp-content/uploads/2021/09/Thai_Chi.jpg
END:VEVENT
BEGIN:VEVENT
DTSTART;TZID=Europe/Berlin:20261208T143000
DTEND;TZID=Europe/Berlin:20261208T163000
DTSTAMP:20260424T035952
CREATED:20210423T091629Z
LAST-MODIFIED:20240702T101013Z
UID:10006678-1796740200-1796747400@bauverein-ruestringen.de
SUMMARY:Erzählcafè
DESCRIPTION:Gesellige nachbarschaftliche Begegnungen und Informationen zu unterschiedlichen\, aktuellen Themen.
URL:https://bauverein-ruestringen.de/event/erzaehlcafe/2026-12-08/
LOCATION:Treff – Auf Siebethsburg\, Störtebekerstraße 14c\, 26386 Wilhelmshaven\, Deutschland
CATEGORIES:Seniorenangebote,Treff – Auf Siebethsburg
ATTACH;FMTTYPE=image/jpeg:https://bauverein-ruestringen.de/wp-content/uploads/2022/11/Erzaehlcafe.jpg
END:VEVENT
BEGIN:VEVENT
DTSTART;TZID=Europe/Berlin:20261209T100000
DTEND;TZID=Europe/Berlin:20261209T110000
DTSTAMP:20260424T035952
CREATED:20260423T081228Z
LAST-MODIFIED:20260423T081228Z
UID:10015593-1796810400-1796814000@bauverein-ruestringen.de
SUMMARY:Frühstück zur Marktzeit
DESCRIPTION:Frühstücken Sie in netter Runde gemeinsam mit anderen. Bitte melden Sie sich vorher an.
URL:https://bauverein-ruestringen.de/event/fruehstueck-zur-marktzeit-2/2026-12-09/
LOCATION:Treff – Auf Siebethsburg\, Störtebekerstraße 14c\, 26386 Wilhelmshaven\, Deutschland
CATEGORIES:Treff – Auf Siebethsburg
ATTACH;FMTTYPE=image/jpeg:https://bauverein-ruestringen.de/wp-content/uploads/2026/04/Bauverein-Ruestringen-Fruehstueck-zur-Marktzeit.jpg
END:VEVENT
BEGIN:VEVENT
DTSTART;TZID=Europe/Berlin:20261209T140000
DTEND;TZID=Europe/Berlin:20261209T160000
DTSTAMP:20260424T035952
CREATED:20260423T092114Z
LAST-MODIFIED:20260423T095234Z
UID:10016115-1796824800-1796832000@bauverein-ruestringen.de
SUMMARY:Handarbeitsgruppe
DESCRIPTION:Für alle Altersgruppen: Wenn Sie Spaß am Stricken\, Häkeln\, Handarbeit etc. haben\, kommen Sie gern vorbei.
URL:https://bauverein-ruestringen.de/event/handarbeitsgruppe/2026-12-09/
LOCATION:Treff – Auf Siebethsburg\, Störtebekerstraße 14c\, 26386 Wilhelmshaven\, Deutschland
CATEGORIES:Treff – Auf Siebethsburg
ATTACH;FMTTYPE=image/jpeg:https://bauverein-ruestringen.de/wp-content/uploads/2026/04/Bauverein-Ruestringen-Handarbeitsgruppe.jpg
END:VEVENT
BEGIN:VEVENT
DTSTART;TZID=Europe/Berlin:20261209T183000
DTEND;TZID=Europe/Berlin:20261209T200000
DTSTAMP:20260424T035952
CREATED:20210223T133934Z
LAST-MODIFIED:20250224T200926Z
UID:10005968-1796841000-1796846400@bauverein-ruestringen.de
SUMMARY:Yoga am Abend
DESCRIPTION:Den Tag hinter sich lassen\, sich dehnen\, strecken\, den Körper spüren\, kräftigen\, atmen. Entdecken Sie die Wohltaten des Yoga! Für Menschen von 25-65 Jahren.
URL:https://bauverein-ruestringen.de/event/yoga-am-abend-5/2026-12-09/
LOCATION:Treff – Auf Siebethsburg\, Störtebekerstraße 14c\, 26386 Wilhelmshaven\, Deutschland
CATEGORIES:Treff – Auf Siebethsburg
ATTACH;FMTTYPE=image/jpeg:https://bauverein-ruestringen.de/wp-content/uploads/2022/11/yoga1.jpg
END:VEVENT
BEGIN:VEVENT
DTSTART;TZID=Europe/Berlin:20261210T093000
DTEND;TZID=Europe/Berlin:20261210T110000
DTSTAMP:20260424T035952
CREATED:20260423T101337Z
LAST-MODIFIED:20260423T101337Z
UID:10016499-1796895000-1796900400@bauverein-ruestringen.de
SUMMARY:Café Kinderwagen
DESCRIPTION:Der Treff für Eltern und ihre Kinder von 0 bis 1 Jahren. \nKleine und große Siebethsburger lernen sich kennen und verbringen eine gute Zeit miteinander.
URL:https://bauverein-ruestringen.de/event/cafe-kinderwagen-2/2026-12-10/
LOCATION:Treff – Auf Siebethsburg\, Störtebekerstraße 14c\, 26386 Wilhelmshaven\, Deutschland
CATEGORIES:freiraum
ATTACH;FMTTYPE=image/jpeg:https://bauverein-ruestringen.de/wp-content/uploads/2026/04/Bauverein-Ruestringen-Cafe-Kinderwagen.jpg
END:VEVENT
BEGIN:VEVENT
DTSTART;TZID=Europe/Berlin:20261210T150000
DTEND;TZID=Europe/Berlin:20261210T160000
DTSTAMP:20260424T035952
CREATED:20260423T102316Z
LAST-MODIFIED:20260423T102316Z
UID:10016761-1796914800-1796918400@bauverein-ruestringen.de
SUMMARY:Seniorensport der AWO
DESCRIPTION:Der sportliche Treff für alle ab 60. Wir trainieren mit Freude unsere Kraft und Beweglichkeit\, altersgerecht und ohne Überforderung.
URL:https://bauverein-ruestringen.de/event/seniorensport-der-awo/2026-12-10/
LOCATION:Treff – Auf Siebethsburg\, Störtebekerstraße 14c\, 26386 Wilhelmshaven\, Deutschland
CATEGORIES:Treff – Auf Siebethsburg
ATTACH;FMTTYPE=image/jpeg:https://bauverein-ruestringen.de/wp-content/uploads/2026/04/Bauverein-Ruestringen-Seniorensport-AWO.jpg
END:VEVENT
BEGIN:VEVENT
DTSTART;TZID=Europe/Berlin:20261211T100000
DTEND;TZID=Europe/Berlin:20261211T110000
DTSTAMP:20260424T035952
CREATED:20250220T110357Z
LAST-MODIFIED:20250224T212153Z
UID:10008224-1796983200-1796986800@bauverein-ruestringen.de
SUMMARY:Tai Chi
DESCRIPTION:Tai Chi\, das ist:\nSich spüren\, bewegen – langsam und bewusst. Dem Fluss des Atems folgen und die Kräfte des Lebens stärken. Entspannung für Geist und Körper. \nEs heißt\, wer Tai Chi übt\, wird gesund und stark wie ein Holzfäller\, so geschmeidig wie ein Kind und gelassen wie ein Weiser.
URL:https://bauverein-ruestringen.de/event/thai-chi/2026-12-11/
LOCATION:Treff – Auf Siebethsburg\, Störtebekerstraße 14c\, 26386 Wilhelmshaven\, Deutschland
CATEGORIES:Treff – Auf Siebethsburg
ATTACH;FMTTYPE=image/jpeg:https://bauverein-ruestringen.de/wp-content/uploads/2021/09/Thai_Chi.jpg
END:VEVENT
BEGIN:VEVENT
DTSTART;TZID=Europe/Berlin:20261214T093000
DTEND;TZID=Europe/Berlin:20261214T144500
DTSTAMP:20260424T035952
CREATED:20260421T145541Z
LAST-MODIFIED:20260421T150016Z
UID:10014549-1797240600-1797259500@bauverein-ruestringen.de
SUMMARY:Yoga im Sitzen
DESCRIPTION:Ob im Büro oder für die bewegte Pause im Alltag. Yoga auf und am Stuhl bietet die Möglichkeit\, gelenkschonend klassische Yogahaltungen\, Meditations- und Atemtechniken zu praktizieren. Für alle Altersgruppen geeignet.
URL:https://bauverein-ruestringen.de/event/yoga-im-sitzen/2026-12-14/
LOCATION:Treff – Auf Siebethsburg\, Störtebekerstraße 14c\, 26386 Wilhelmshaven\, Deutschland
CATEGORIES:Seniorenangebote,Treff – Auf Siebethsburg
ATTACH;FMTTYPE=image/jpeg:https://bauverein-ruestringen.de/wp-content/uploads/2026/04/Bauverein-Ruestringen-Sitz-Yoga.jpg
END:VEVENT
BEGIN:VEVENT
DTSTART;TZID=Europe/Berlin:20261214T133000
DTEND;TZID=Europe/Berlin:20261214T163000
DTSTAMP:20260424T035952
CREATED:20260421T152237Z
LAST-MODIFIED:20260421T152237Z
UID:10014811-1797255000-1797265800@bauverein-ruestringen.de
SUMMARY:Spielenachmittag
DESCRIPTION:Wir spielen Karten-\, Brett- und Würfelspiele\, auch selbst mitgebrachte Spiele sind gern gesehen. Alle Altersgruppen sind willkommen.
URL:https://bauverein-ruestringen.de/event/spielenachmittag-2/2026-12-14/
LOCATION:Treff – Auf Siebethsburg\, Störtebekerstraße 14c\, 26386 Wilhelmshaven\, Deutschland
CATEGORIES:Treff – Auf Siebethsburg
ATTACH;FMTTYPE=image/jpeg:https://bauverein-ruestringen.de/wp-content/uploads/2026/04/Bauverein-Ruestringen-Spielabend.jpg
END:VEVENT
BEGIN:VEVENT
DTSTART;TZID=Europe/Berlin:20261214T140000
DTEND;TZID=Europe/Berlin:20261214T160000
DTSTAMP:20260424T035952
CREATED:20260421T140412Z
LAST-MODIFIED:20260421T140412Z
UID:10006639-1797256800-1797264000@bauverein-ruestringen.de
SUMMARY:Nähstübchen
DESCRIPTION:Nähen ein einsames Hobby? Das muss nicht sein! Im Näh-Café finden Sie Gleichgesinnte. Tauschen Sie sich aus und bekommen Sie beim gemeinsamen Nähen in kreativer Atmosphäre neue Ideen.
URL:https://bauverein-ruestringen.de/event/naeh-cafe-2/2026-12-14/
LOCATION:Treff – Auf Siebethsburg\, Störtebekerstraße 14c\, 26386 Wilhelmshaven\, Deutschland
CATEGORIES:Treff – Auf Siebethsburg
ATTACH;FMTTYPE=image/jpeg:https://bauverein-ruestringen.de/wp-content/uploads/2021/04/Naeh_Cafe_Bauverein_Ruestringen.jpg
END:VEVENT
END:VCALENDAR