BEGIN:VCALENDAR
VERSION:2.0
PRODID:-//Bauverein Rüstringen - ECPv6.15.13.1//NONSGML v1.0//EN
CALSCALE:GREGORIAN
METHOD:PUBLISH
X-ORIGINAL-URL:https://bauverein-ruestringen.de
X-WR-CALDESC:Veranstaltungen für Bauverein Rüstringen
REFRESH-INTERVAL;VALUE=DURATION:PT1H
X-Robots-Tag:noindex
X-PUBLISHED-TTL:PT1H
BEGIN:VTIMEZONE
TZID:Europe/Berlin
BEGIN:DAYLIGHT
TZOFFSETFROM:+0100
TZOFFSETTO:+0200
TZNAME:CEST
DTSTART:20260329T010000
END:DAYLIGHT
BEGIN:STANDARD
TZOFFSETFROM:+0200
TZOFFSETTO:+0100
TZNAME:CET
DTSTART:20261025T010000
END:STANDARD
BEGIN:DAYLIGHT
TZOFFSETFROM:+0100
TZOFFSETTO:+0200
TZNAME:CEST
DTSTART:20270328T010000
END:DAYLIGHT
BEGIN:STANDARD
TZOFFSETFROM:+0200
TZOFFSETTO:+0100
TZNAME:CET
DTSTART:20271031T010000
END:STANDARD
BEGIN:DAYLIGHT
TZOFFSETFROM:+0100
TZOFFSETTO:+0200
TZNAME:CEST
DTSTART:20280326T010000
END:DAYLIGHT
BEGIN:STANDARD
TZOFFSETFROM:+0200
TZOFFSETTO:+0100
TZNAME:CET
DTSTART:20281029T010000
END:STANDARD
END:VTIMEZONE
BEGIN:VEVENT
DTSTART;TZID=Europe/Berlin:20270527T100000
DTEND;TZID=Europe/Berlin:20270527T113000
DTSTAMP:20260426T023605
CREATED:20260421T140540Z
LAST-MODIFIED:20260421T140540Z
UID:10014310-1811412000-1811417400@bauverein-ruestringen.de
SUMMARY:Digital-Kompass
DESCRIPTION:Unser Angebot für alle Senioren und Seniorinnen. Der Umgang mit Internet\, Smartphone\, Laptop und Tablet wird entspannt erklärt und geübt.
URL:https://bauverein-ruestringen.de/event/digital-kompass-3-2/2027-05-27/
LOCATION:freiraum\, Störtebekerstraße 3 \, 26386 Wilhelmshaven\, Deutschland
CATEGORIES:freiraum,Seniorenangebote,Treff – Auf Siebethsburg
ATTACH;FMTTYPE=image/jpeg:https://bauverein-ruestringen.de/wp-content/uploads/2021/04/Digital-Kompass_Bauverein_Ruestringen.jpg
END:VEVENT
BEGIN:VEVENT
DTSTART;TZID=Europe/Berlin:20270528T170000
DTEND;TZID=Europe/Berlin:20270528T190000
DTSTAMP:20260426T023605
CREATED:20240703T091914Z
LAST-MODIFIED:20250224T210331Z
UID:10013075-1811523600-1811530800@bauverein-ruestringen.de
SUMMARY:Haste Töne
DESCRIPTION:Jeder\, der Spaß am Musizieren oder Singen hat ist willkommen.
URL:https://bauverein-ruestringen.de/event/mal-anders-2-2/2027-05-28/
LOCATION:freiraum\, Störtebekerstraße 3 \, 26386 Wilhelmshaven\, Deutschland
CATEGORIES:freiraum
ATTACH;FMTTYPE=image/jpeg:https://bauverein-ruestringen.de/wp-content/uploads/2024/07/musik.jpg
END:VEVENT
BEGIN:VEVENT
DTSTART;TZID=Europe/Berlin:20270601T150000
DTEND;TZID=Europe/Berlin:20270601T160000
DTSTAMP:20260426T023605
CREATED:20260423T073551Z
LAST-MODIFIED:20260424T100810Z
UID:10017052-1811862000-1811865600@bauverein-ruestringen.de
SUMMARY:Frische Brise für den Kopf
DESCRIPTION:Bringen Sie Ihre grauen Zellen in Schwung. Unter Anleitung macht das besonders viel Spaß! Ab 60 Jahren.
URL:https://bauverein-ruestringen.de/event/frische-brise-fuer-den-kopf/2027-06-01/
LOCATION:freiraum\, Störtebekerstraße 3 \, 26386 Wilhelmshaven\, Deutschland
CATEGORIES:freiraum,Seniorenangebote
ATTACH;FMTTYPE=image/jpeg:https://bauverein-ruestringen.de/wp-content/uploads/2026/04/Bauverein-Ruestringen-Brise-fuer-den-Kopf.jpg
END:VEVENT
BEGIN:VEVENT
DTSTART;TZID=Europe/Berlin:20270602T104500
DTEND;TZID=Europe/Berlin:20270602T114500
DTSTAMP:20260426T023605
CREATED:20260423T082524Z
LAST-MODIFIED:20260423T082524Z
UID:10015879-1811933100-1811936700@bauverein-ruestringen.de
SUMMARY:Tanzen „Querbeet“
DESCRIPTION:In kleiner Gruppe wird mit viel Spaß in Reihen\, gemischt oder im Kreis getanzt.
URL:https://bauverein-ruestringen.de/event/tanzen-querbeet/2027-06-02/
LOCATION:freiraum\, Störtebekerstraße 3 \, 26386 Wilhelmshaven\, Deutschland
CATEGORIES:freiraum
ATTACH;FMTTYPE=image/jpeg:https://bauverein-ruestringen.de/wp-content/uploads/2026/04/Bauverein-Ruestringen-Tanz-Querbeet.jpg
END:VEVENT
BEGIN:VEVENT
DTSTART;TZID=Europe/Berlin:20270602T150000
DTEND;TZID=Europe/Berlin:20270602T163000
DTSTAMP:20260426T023605
CREATED:20260423T100729Z
LAST-MODIFIED:20260424T083926Z
UID:10016358-1811948400-1811953800@bauverein-ruestringen.de
SUMMARY:Plattdeutsch
DESCRIPTION:Plattsnacker finden sich zusammen unter dem Motto:\n„Snack keen dumm Tüch\, sondern platt!“
URL:https://bauverein-ruestringen.de/event/plattdeutsch/2027-06-02/
LOCATION:freiraum\, Störtebekerstraße 3 \, 26386 Wilhelmshaven\, Deutschland
CATEGORIES:freiraum
ATTACH;FMTTYPE=image/jpeg:https://bauverein-ruestringen.de/wp-content/uploads/2026/04/Bauverein-Ruestringen-Die-Plattsnacker.jpg
END:VEVENT
BEGIN:VEVENT
DTSTART;TZID=Europe/Berlin:20270602T190000
DTEND;TZID=Europe/Berlin:20270602T210000
DTSTAMP:20260426T023605
CREATED:20221129T155839Z
LAST-MODIFIED:20250224T200953Z
UID:10010606-1811962800-1811970000@bauverein-ruestringen.de
SUMMARY:WLAN-Cafè
DESCRIPTION:Für Menschen ab 16 Jahren. In entspannter Atmosphäre erhalten Sie Unterstützung rund um Smartphone\, Tablet und Laptop.
URL:https://bauverein-ruestringen.de/event/wlan-cafe/2027-06-02/
LOCATION:freiraum\, Störtebekerstraße 3 \, 26386 Wilhelmshaven\, Deutschland
CATEGORIES:freiraum
ATTACH;FMTTYPE=image/jpeg:https://bauverein-ruestringen.de/wp-content/uploads/2022/11/wlancafe.jpg
END:VEVENT
BEGIN:VEVENT
DTSTART;TZID=Europe/Berlin:20270603T100000
DTEND;TZID=Europe/Berlin:20270603T113000
DTSTAMP:20260426T023605
CREATED:20260421T140540Z
LAST-MODIFIED:20260421T140540Z
UID:10014311-1812016800-1812022200@bauverein-ruestringen.de
SUMMARY:Digital-Kompass
DESCRIPTION:Unser Angebot für alle Senioren und Seniorinnen. Der Umgang mit Internet\, Smartphone\, Laptop und Tablet wird entspannt erklärt und geübt.
URL:https://bauverein-ruestringen.de/event/digital-kompass-3-2/2027-06-03/
LOCATION:freiraum\, Störtebekerstraße 3 \, 26386 Wilhelmshaven\, Deutschland
CATEGORIES:freiraum,Seniorenangebote,Treff – Auf Siebethsburg
ATTACH;FMTTYPE=image/jpeg:https://bauverein-ruestringen.de/wp-content/uploads/2021/04/Digital-Kompass_Bauverein_Ruestringen.jpg
END:VEVENT
BEGIN:VEVENT
DTSTART;TZID=Europe/Berlin:20270603T163000
DTEND;TZID=Europe/Berlin:20270603T183000
DTSTAMP:20260426T023605
CREATED:20260119T111716Z
LAST-MODIFIED:20260330T114233Z
UID:10014017-1812040200-1812047400@bauverein-ruestringen.de
SUMMARY:Lesekreis
DESCRIPTION:Lesebegeisterte Menschen jeden Alters teilen das Interesse für Bücher und tauschen sich aus.
URL:https://bauverein-ruestringen.de/event/gedaechtnistraining-2-2-2/2027-06-03/
LOCATION:freiraum\, Störtebekerstraße 3 \, 26386 Wilhelmshaven\, Deutschland
CATEGORIES:freiraum,Seniorenangebote,Treff – Auf Siebethsburg
ATTACH;FMTTYPE=image/jpeg:https://bauverein-ruestringen.de/wp-content/uploads/2024/07/lesekreis.jpg
END:VEVENT
BEGIN:VEVENT
DTSTART;TZID=Europe/Berlin:20270604T140000
DTEND;TZID=Europe/Berlin:20270604T163000
DTSTAMP:20260426T023605
CREATED:20210422T164755Z
LAST-MODIFIED:20250224T202425Z
UID:10013452-1812117600-1812126600@bauverein-ruestringen.de
SUMMARY:Bingo
DESCRIPTION:Aufmerksamkeit ist gefragt: Bingo ist ein heiteres\, geselliges Spiel für alle Altersgruppen. Termine auf Anfrage. \n 
URL:https://bauverein-ruestringen.de/event/bingo-2/2027-06-04/
LOCATION:freiraum\, Störtebekerstraße 3 \, 26386 Wilhelmshaven\, Deutschland
CATEGORIES:freiraum
ATTACH;FMTTYPE=image/jpeg:https://bauverein-ruestringen.de/wp-content/uploads/2021/04/Bingo_Bauverein_Ruestringen.jpg
END:VEVENT
BEGIN:VEVENT
DTSTART;TZID=Europe/Berlin:20270608T150000
DTEND;TZID=Europe/Berlin:20270608T160000
DTSTAMP:20260426T023605
CREATED:20260423T073551Z
LAST-MODIFIED:20260424T100810Z
UID:10017053-1812466800-1812470400@bauverein-ruestringen.de
SUMMARY:Frische Brise für den Kopf
DESCRIPTION:Bringen Sie Ihre grauen Zellen in Schwung. Unter Anleitung macht das besonders viel Spaß! Ab 60 Jahren.
URL:https://bauverein-ruestringen.de/event/frische-brise-fuer-den-kopf/2027-06-08/
LOCATION:freiraum\, Störtebekerstraße 3 \, 26386 Wilhelmshaven\, Deutschland
CATEGORIES:freiraum,Seniorenangebote
ATTACH;FMTTYPE=image/jpeg:https://bauverein-ruestringen.de/wp-content/uploads/2026/04/Bauverein-Ruestringen-Brise-fuer-den-Kopf.jpg
END:VEVENT
BEGIN:VEVENT
DTSTART;TZID=Europe/Berlin:20270609T104500
DTEND;TZID=Europe/Berlin:20270609T114500
DTSTAMP:20260426T023605
CREATED:20260423T082524Z
LAST-MODIFIED:20260423T082524Z
UID:10015880-1812537900-1812541500@bauverein-ruestringen.de
SUMMARY:Tanzen „Querbeet“
DESCRIPTION:In kleiner Gruppe wird mit viel Spaß in Reihen\, gemischt oder im Kreis getanzt.
URL:https://bauverein-ruestringen.de/event/tanzen-querbeet/2027-06-09/
LOCATION:freiraum\, Störtebekerstraße 3 \, 26386 Wilhelmshaven\, Deutschland
CATEGORIES:freiraum
ATTACH;FMTTYPE=image/jpeg:https://bauverein-ruestringen.de/wp-content/uploads/2026/04/Bauverein-Ruestringen-Tanz-Querbeet.jpg
END:VEVENT
BEGIN:VEVENT
DTSTART;TZID=Europe/Berlin:20270609T190000
DTEND;TZID=Europe/Berlin:20270609T210000
DTSTAMP:20260426T023605
CREATED:20221129T155839Z
LAST-MODIFIED:20250224T200953Z
UID:10010607-1812567600-1812574800@bauverein-ruestringen.de
SUMMARY:WLAN-Cafè
DESCRIPTION:Für Menschen ab 16 Jahren. In entspannter Atmosphäre erhalten Sie Unterstützung rund um Smartphone\, Tablet und Laptop.
URL:https://bauverein-ruestringen.de/event/wlan-cafe/2027-06-09/
LOCATION:freiraum\, Störtebekerstraße 3 \, 26386 Wilhelmshaven\, Deutschland
CATEGORIES:freiraum
ATTACH;FMTTYPE=image/jpeg:https://bauverein-ruestringen.de/wp-content/uploads/2022/11/wlancafe.jpg
END:VEVENT
BEGIN:VEVENT
DTSTART;TZID=Europe/Berlin:20270610T100000
DTEND;TZID=Europe/Berlin:20270610T113000
DTSTAMP:20260426T023605
CREATED:20260421T140540Z
LAST-MODIFIED:20260421T140540Z
UID:10014312-1812621600-1812627000@bauverein-ruestringen.de
SUMMARY:Digital-Kompass
DESCRIPTION:Unser Angebot für alle Senioren und Seniorinnen. Der Umgang mit Internet\, Smartphone\, Laptop und Tablet wird entspannt erklärt und geübt.
URL:https://bauverein-ruestringen.de/event/digital-kompass-3-2/2027-06-10/
LOCATION:freiraum\, Störtebekerstraße 3 \, 26386 Wilhelmshaven\, Deutschland
CATEGORIES:freiraum,Seniorenangebote,Treff – Auf Siebethsburg
ATTACH;FMTTYPE=image/jpeg:https://bauverein-ruestringen.de/wp-content/uploads/2021/04/Digital-Kompass_Bauverein_Ruestringen.jpg
END:VEVENT
BEGIN:VEVENT
DTSTART;TZID=Europe/Berlin:20270610T183000
DTEND;TZID=Europe/Berlin:20270610T210000
DTSTAMP:20260426T023605
CREATED:20260421T140153Z
LAST-MODIFIED:20260421T140153Z
UID:10011328-1812652200-1812661200@bauverein-ruestringen.de
SUMMARY:Fotografieren auf Siebethsburg
DESCRIPTION:Offener Austausch für Interessierte\, die Spaß am Fotografieren haben.
URL:https://bauverein-ruestringen.de/event/fotografieren-auf-siebethsburg-2/2027-06-10/
LOCATION:freiraum\, Störtebekerstraße 3 \, 26386 Wilhelmshaven\, Deutschland
ATTACH;FMTTYPE=image/jpeg:https://bauverein-ruestringen.de/wp-content/uploads/2023/06/Fotografieren.jpg
END:VEVENT
BEGIN:VEVENT
DTSTART;TZID=Europe/Berlin:20270611T170000
DTEND;TZID=Europe/Berlin:20270611T190000
DTSTAMP:20260426T023605
CREATED:20240703T091914Z
LAST-MODIFIED:20250224T210331Z
UID:10013076-1812733200-1812740400@bauverein-ruestringen.de
SUMMARY:Haste Töne
DESCRIPTION:Jeder\, der Spaß am Musizieren oder Singen hat ist willkommen.
URL:https://bauverein-ruestringen.de/event/mal-anders-2-2/2027-06-11/
LOCATION:freiraum\, Störtebekerstraße 3 \, 26386 Wilhelmshaven\, Deutschland
CATEGORIES:freiraum
ATTACH;FMTTYPE=image/jpeg:https://bauverein-ruestringen.de/wp-content/uploads/2024/07/musik.jpg
END:VEVENT
BEGIN:VEVENT
DTSTART;TZID=Europe/Berlin:20270615T150000
DTEND;TZID=Europe/Berlin:20270615T160000
DTSTAMP:20260426T023605
CREATED:20260423T073551Z
LAST-MODIFIED:20260424T100810Z
UID:10017054-1813071600-1813075200@bauverein-ruestringen.de
SUMMARY:Frische Brise für den Kopf
DESCRIPTION:Bringen Sie Ihre grauen Zellen in Schwung. Unter Anleitung macht das besonders viel Spaß! Ab 60 Jahren.
URL:https://bauverein-ruestringen.de/event/frische-brise-fuer-den-kopf/2027-06-15/
LOCATION:freiraum\, Störtebekerstraße 3 \, 26386 Wilhelmshaven\, Deutschland
CATEGORIES:freiraum,Seniorenangebote
ATTACH;FMTTYPE=image/jpeg:https://bauverein-ruestringen.de/wp-content/uploads/2026/04/Bauverein-Ruestringen-Brise-fuer-den-Kopf.jpg
END:VEVENT
BEGIN:VEVENT
DTSTART;TZID=Europe/Berlin:20270616T104500
DTEND;TZID=Europe/Berlin:20270616T114500
DTSTAMP:20260426T023605
CREATED:20260423T082524Z
LAST-MODIFIED:20260423T082524Z
UID:10015881-1813142700-1813146300@bauverein-ruestringen.de
SUMMARY:Tanzen „Querbeet“
DESCRIPTION:In kleiner Gruppe wird mit viel Spaß in Reihen\, gemischt oder im Kreis getanzt.
URL:https://bauverein-ruestringen.de/event/tanzen-querbeet/2027-06-16/
LOCATION:freiraum\, Störtebekerstraße 3 \, 26386 Wilhelmshaven\, Deutschland
CATEGORIES:freiraum
ATTACH;FMTTYPE=image/jpeg:https://bauverein-ruestringen.de/wp-content/uploads/2026/04/Bauverein-Ruestringen-Tanz-Querbeet.jpg
END:VEVENT
BEGIN:VEVENT
DTSTART;TZID=Europe/Berlin:20270616T150000
DTEND;TZID=Europe/Berlin:20270616T163000
DTSTAMP:20260426T023605
CREATED:20260423T100847Z
LAST-MODIFIED:20260423T100847Z
UID:10016419-1813158000-1813163400@bauverein-ruestringen.de
SUMMARY:Plattdeutsch
DESCRIPTION:Plattsnacker finden sich zusammen unter dem Motto: „Snack keen dumm Tüch\, sondern platt!“
URL:https://bauverein-ruestringen.de/event/plattdeutsch-2/2027-06-16/
LOCATION:freiraum\, Störtebekerstraße 3 \, 26386 Wilhelmshaven\, Deutschland
CATEGORIES:freiraum
END:VEVENT
BEGIN:VEVENT
DTSTART;TZID=Europe/Berlin:20270616T190000
DTEND;TZID=Europe/Berlin:20270616T210000
DTSTAMP:20260426T023605
CREATED:20221129T155839Z
LAST-MODIFIED:20250224T200953Z
UID:10010608-1813172400-1813179600@bauverein-ruestringen.de
SUMMARY:WLAN-Cafè
DESCRIPTION:Für Menschen ab 16 Jahren. In entspannter Atmosphäre erhalten Sie Unterstützung rund um Smartphone\, Tablet und Laptop.
URL:https://bauverein-ruestringen.de/event/wlan-cafe/2027-06-16/
LOCATION:freiraum\, Störtebekerstraße 3 \, 26386 Wilhelmshaven\, Deutschland
CATEGORIES:freiraum
ATTACH;FMTTYPE=image/jpeg:https://bauverein-ruestringen.de/wp-content/uploads/2022/11/wlancafe.jpg
END:VEVENT
BEGIN:VEVENT
DTSTART;TZID=Europe/Berlin:20270617T100000
DTEND;TZID=Europe/Berlin:20270617T113000
DTSTAMP:20260426T023605
CREATED:20260421T140540Z
LAST-MODIFIED:20260421T140540Z
UID:10014313-1813226400-1813231800@bauverein-ruestringen.de
SUMMARY:Digital-Kompass
DESCRIPTION:Unser Angebot für alle Senioren und Seniorinnen. Der Umgang mit Internet\, Smartphone\, Laptop und Tablet wird entspannt erklärt und geübt.
URL:https://bauverein-ruestringen.de/event/digital-kompass-3-2/2027-06-17/
LOCATION:freiraum\, Störtebekerstraße 3 \, 26386 Wilhelmshaven\, Deutschland
CATEGORIES:freiraum,Seniorenangebote,Treff – Auf Siebethsburg
ATTACH;FMTTYPE=image/jpeg:https://bauverein-ruestringen.de/wp-content/uploads/2021/04/Digital-Kompass_Bauverein_Ruestringen.jpg
END:VEVENT
BEGIN:VEVENT
DTSTART;TZID=Europe/Berlin:20270617T163000
DTEND;TZID=Europe/Berlin:20270617T183000
DTSTAMP:20260426T023605
CREATED:20260119T112150Z
LAST-MODIFIED:20260330T114648Z
UID:10014076-1813249800-1813257000@bauverein-ruestringen.de
SUMMARY:Lesekreis
DESCRIPTION:Lesebegeisterte Menschen jeden Alters teilen das Interesse für Bücher und tauschen sich aus.
URL:https://bauverein-ruestringen.de/event/gedaechtnistraining-2-3/2027-06-17/
LOCATION:freiraum\, Störtebekerstraße 3 \, 26386 Wilhelmshaven\, Deutschland
CATEGORIES:freiraum,Seniorenangebote,Treff – Auf Siebethsburg
ATTACH;FMTTYPE=image/jpeg:https://bauverein-ruestringen.de/wp-content/uploads/2024/07/lesekreis.jpg
END:VEVENT
BEGIN:VEVENT
DTSTART;TZID=Europe/Berlin:20270618T140000
DTEND;TZID=Europe/Berlin:20270618T163000
DTSTAMP:20260426T023605
CREATED:20210422T164755Z
LAST-MODIFIED:20250224T202425Z
UID:10013453-1813327200-1813336200@bauverein-ruestringen.de
SUMMARY:Bingo
DESCRIPTION:Aufmerksamkeit ist gefragt: Bingo ist ein heiteres\, geselliges Spiel für alle Altersgruppen. Termine auf Anfrage. \n 
URL:https://bauverein-ruestringen.de/event/bingo-2/2027-06-18/
LOCATION:freiraum\, Störtebekerstraße 3 \, 26386 Wilhelmshaven\, Deutschland
CATEGORIES:freiraum
ATTACH;FMTTYPE=image/jpeg:https://bauverein-ruestringen.de/wp-content/uploads/2021/04/Bingo_Bauverein_Ruestringen.jpg
END:VEVENT
BEGIN:VEVENT
DTSTART;TZID=Europe/Berlin:20270622T150000
DTEND;TZID=Europe/Berlin:20270622T160000
DTSTAMP:20260426T023605
CREATED:20260423T073551Z
LAST-MODIFIED:20260424T100810Z
UID:10017055-1813676400-1813680000@bauverein-ruestringen.de
SUMMARY:Frische Brise für den Kopf
DESCRIPTION:Bringen Sie Ihre grauen Zellen in Schwung. Unter Anleitung macht das besonders viel Spaß! Ab 60 Jahren.
URL:https://bauverein-ruestringen.de/event/frische-brise-fuer-den-kopf/2027-06-22/
LOCATION:freiraum\, Störtebekerstraße 3 \, 26386 Wilhelmshaven\, Deutschland
CATEGORIES:freiraum,Seniorenangebote
ATTACH;FMTTYPE=image/jpeg:https://bauverein-ruestringen.de/wp-content/uploads/2026/04/Bauverein-Ruestringen-Brise-fuer-den-Kopf.jpg
END:VEVENT
BEGIN:VEVENT
DTSTART;TZID=Europe/Berlin:20270623T104500
DTEND;TZID=Europe/Berlin:20270623T114500
DTSTAMP:20260426T023605
CREATED:20260423T082524Z
LAST-MODIFIED:20260423T082524Z
UID:10015882-1813747500-1813751100@bauverein-ruestringen.de
SUMMARY:Tanzen „Querbeet“
DESCRIPTION:In kleiner Gruppe wird mit viel Spaß in Reihen\, gemischt oder im Kreis getanzt.
URL:https://bauverein-ruestringen.de/event/tanzen-querbeet/2027-06-23/
LOCATION:freiraum\, Störtebekerstraße 3 \, 26386 Wilhelmshaven\, Deutschland
CATEGORIES:freiraum
ATTACH;FMTTYPE=image/jpeg:https://bauverein-ruestringen.de/wp-content/uploads/2026/04/Bauverein-Ruestringen-Tanz-Querbeet.jpg
END:VEVENT
BEGIN:VEVENT
DTSTART;TZID=Europe/Berlin:20270623T190000
DTEND;TZID=Europe/Berlin:20270623T210000
DTSTAMP:20260426T023605
CREATED:20221129T155839Z
LAST-MODIFIED:20250224T200953Z
UID:10010609-1813777200-1813784400@bauverein-ruestringen.de
SUMMARY:WLAN-Cafè
DESCRIPTION:Für Menschen ab 16 Jahren. In entspannter Atmosphäre erhalten Sie Unterstützung rund um Smartphone\, Tablet und Laptop.
URL:https://bauverein-ruestringen.de/event/wlan-cafe/2027-06-23/
LOCATION:freiraum\, Störtebekerstraße 3 \, 26386 Wilhelmshaven\, Deutschland
CATEGORIES:freiraum
ATTACH;FMTTYPE=image/jpeg:https://bauverein-ruestringen.de/wp-content/uploads/2022/11/wlancafe.jpg
END:VEVENT
BEGIN:VEVENT
DTSTART;TZID=Europe/Berlin:20270624T100000
DTEND;TZID=Europe/Berlin:20270624T113000
DTSTAMP:20260426T023605
CREATED:20260421T140540Z
LAST-MODIFIED:20260421T140540Z
UID:10014314-1813831200-1813836600@bauverein-ruestringen.de
SUMMARY:Digital-Kompass
DESCRIPTION:Unser Angebot für alle Senioren und Seniorinnen. Der Umgang mit Internet\, Smartphone\, Laptop und Tablet wird entspannt erklärt und geübt.
URL:https://bauverein-ruestringen.de/event/digital-kompass-3-2/2027-06-24/
LOCATION:freiraum\, Störtebekerstraße 3 \, 26386 Wilhelmshaven\, Deutschland
CATEGORIES:freiraum,Seniorenangebote,Treff – Auf Siebethsburg
ATTACH;FMTTYPE=image/jpeg:https://bauverein-ruestringen.de/wp-content/uploads/2021/04/Digital-Kompass_Bauverein_Ruestringen.jpg
END:VEVENT
BEGIN:VEVENT
DTSTART;TZID=Europe/Berlin:20270625T170000
DTEND;TZID=Europe/Berlin:20270625T190000
DTSTAMP:20260426T023605
CREATED:20240703T091914Z
LAST-MODIFIED:20250224T210331Z
UID:10013077-1813942800-1813950000@bauverein-ruestringen.de
SUMMARY:Haste Töne
DESCRIPTION:Jeder\, der Spaß am Musizieren oder Singen hat ist willkommen.
URL:https://bauverein-ruestringen.de/event/mal-anders-2-2/2027-06-25/
LOCATION:freiraum\, Störtebekerstraße 3 \, 26386 Wilhelmshaven\, Deutschland
CATEGORIES:freiraum
ATTACH;FMTTYPE=image/jpeg:https://bauverein-ruestringen.de/wp-content/uploads/2024/07/musik.jpg
END:VEVENT
BEGIN:VEVENT
DTSTART;TZID=Europe/Berlin:20270629T150000
DTEND;TZID=Europe/Berlin:20270629T160000
DTSTAMP:20260426T023605
CREATED:20260423T073551Z
LAST-MODIFIED:20260424T100810Z
UID:10017056-1814281200-1814284800@bauverein-ruestringen.de
SUMMARY:Frische Brise für den Kopf
DESCRIPTION:Bringen Sie Ihre grauen Zellen in Schwung. Unter Anleitung macht das besonders viel Spaß! Ab 60 Jahren.
URL:https://bauverein-ruestringen.de/event/frische-brise-fuer-den-kopf/2027-06-29/
LOCATION:freiraum\, Störtebekerstraße 3 \, 26386 Wilhelmshaven\, Deutschland
CATEGORIES:freiraum,Seniorenangebote
ATTACH;FMTTYPE=image/jpeg:https://bauverein-ruestringen.de/wp-content/uploads/2026/04/Bauverein-Ruestringen-Brise-fuer-den-Kopf.jpg
END:VEVENT
BEGIN:VEVENT
DTSTART;TZID=Europe/Berlin:20270630T104500
DTEND;TZID=Europe/Berlin:20270630T114500
DTSTAMP:20260426T023605
CREATED:20260423T082524Z
LAST-MODIFIED:20260423T082524Z
UID:10015883-1814352300-1814355900@bauverein-ruestringen.de
SUMMARY:Tanzen „Querbeet“
DESCRIPTION:In kleiner Gruppe wird mit viel Spaß in Reihen\, gemischt oder im Kreis getanzt.
URL:https://bauverein-ruestringen.de/event/tanzen-querbeet/2027-06-30/
LOCATION:freiraum\, Störtebekerstraße 3 \, 26386 Wilhelmshaven\, Deutschland
CATEGORIES:freiraum
ATTACH;FMTTYPE=image/jpeg:https://bauverein-ruestringen.de/wp-content/uploads/2026/04/Bauverein-Ruestringen-Tanz-Querbeet.jpg
END:VEVENT
BEGIN:VEVENT
DTSTART;TZID=Europe/Berlin:20270630T190000
DTEND;TZID=Europe/Berlin:20270630T210000
DTSTAMP:20260426T023605
CREATED:20221129T155839Z
LAST-MODIFIED:20250224T200953Z
UID:10010610-1814382000-1814389200@bauverein-ruestringen.de
SUMMARY:WLAN-Cafè
DESCRIPTION:Für Menschen ab 16 Jahren. In entspannter Atmosphäre erhalten Sie Unterstützung rund um Smartphone\, Tablet und Laptop.
URL:https://bauverein-ruestringen.de/event/wlan-cafe/2027-06-30/
LOCATION:freiraum\, Störtebekerstraße 3 \, 26386 Wilhelmshaven\, Deutschland
CATEGORIES:freiraum
ATTACH;FMTTYPE=image/jpeg:https://bauverein-ruestringen.de/wp-content/uploads/2022/11/wlancafe.jpg
END:VEVENT
END:VCALENDAR