BEGIN:VCALENDAR
VERSION:2.0
PRODID:-//Bauverein Rüstringen - ECPv6.15.13.1//NONSGML v1.0//EN
CALSCALE:GREGORIAN
METHOD:PUBLISH
X-ORIGINAL-URL:https://bauverein-ruestringen.de
X-WR-CALDESC:Veranstaltungen für Bauverein Rüstringen
REFRESH-INTERVAL;VALUE=DURATION:PT1H
X-Robots-Tag:noindex
X-PUBLISHED-TTL:PT1H
BEGIN:VTIMEZONE
TZID:Europe/Berlin
BEGIN:DAYLIGHT
TZOFFSETFROM:+0100
TZOFFSETTO:+0200
TZNAME:CEST
DTSTART:20260329T010000
END:DAYLIGHT
BEGIN:STANDARD
TZOFFSETFROM:+0200
TZOFFSETTO:+0100
TZNAME:CET
DTSTART:20261025T010000
END:STANDARD
BEGIN:DAYLIGHT
TZOFFSETFROM:+0100
TZOFFSETTO:+0200
TZNAME:CEST
DTSTART:20270328T010000
END:DAYLIGHT
BEGIN:STANDARD
TZOFFSETFROM:+0200
TZOFFSETTO:+0100
TZNAME:CET
DTSTART:20271031T010000
END:STANDARD
BEGIN:DAYLIGHT
TZOFFSETFROM:+0100
TZOFFSETTO:+0200
TZNAME:CEST
DTSTART:20280326T010000
END:DAYLIGHT
BEGIN:STANDARD
TZOFFSETFROM:+0200
TZOFFSETTO:+0100
TZNAME:CET
DTSTART:20281029T010000
END:STANDARD
END:VTIMEZONE
BEGIN:VEVENT
DTSTART;TZID=Europe/Berlin:20270415T163000
DTEND;TZID=Europe/Berlin:20270415T183000
DTSTAMP:20260425T213502
CREATED:20260119T112150Z
LAST-MODIFIED:20260330T114648Z
UID:10014074-1807806600-1807813800@bauverein-ruestringen.de
SUMMARY:Lesekreis
DESCRIPTION:Lesebegeisterte Menschen jeden Alters teilen das Interesse für Bücher und tauschen sich aus.
URL:https://bauverein-ruestringen.de/event/gedaechtnistraining-2-3/2027-04-15/
LOCATION:freiraum\, Störtebekerstraße 3 \, 26386 Wilhelmshaven\, Deutschland
CATEGORIES:freiraum,Seniorenangebote,Treff – Auf Siebethsburg
ATTACH;FMTTYPE=image/jpeg:https://bauverein-ruestringen.de/wp-content/uploads/2024/07/lesekreis.jpg
END:VEVENT
BEGIN:VEVENT
DTSTART;TZID=Europe/Berlin:20270416T170000
DTEND;TZID=Europe/Berlin:20270416T190000
DTSTAMP:20260425T213502
CREATED:20240703T091914Z
LAST-MODIFIED:20250224T210331Z
UID:10013072-1807894800-1807902000@bauverein-ruestringen.de
SUMMARY:Haste Töne
DESCRIPTION:Jeder\, der Spaß am Musizieren oder Singen hat ist willkommen.
URL:https://bauverein-ruestringen.de/event/mal-anders-2-2/2027-04-16/
LOCATION:freiraum\, Störtebekerstraße 3 \, 26386 Wilhelmshaven\, Deutschland
CATEGORIES:freiraum
ATTACH;FMTTYPE=image/jpeg:https://bauverein-ruestringen.de/wp-content/uploads/2024/07/musik.jpg
END:VEVENT
BEGIN:VEVENT
DTSTART;TZID=Europe/Berlin:20270420T150000
DTEND;TZID=Europe/Berlin:20270420T160000
DTSTAMP:20260425T213502
CREATED:20260423T073551Z
LAST-MODIFIED:20260424T100810Z
UID:10017046-1808233200-1808236800@bauverein-ruestringen.de
SUMMARY:Frische Brise für den Kopf
DESCRIPTION:Bringen Sie Ihre grauen Zellen in Schwung. Unter Anleitung macht das besonders viel Spaß! Ab 60 Jahren.
URL:https://bauverein-ruestringen.de/event/frische-brise-fuer-den-kopf/2027-04-20/
LOCATION:freiraum\, Störtebekerstraße 3 \, 26386 Wilhelmshaven\, Deutschland
CATEGORIES:freiraum,Seniorenangebote
ATTACH;FMTTYPE=image/jpeg:https://bauverein-ruestringen.de/wp-content/uploads/2026/04/Bauverein-Ruestringen-Brise-fuer-den-Kopf.jpg
END:VEVENT
BEGIN:VEVENT
DTSTART;TZID=Europe/Berlin:20270421T104500
DTEND;TZID=Europe/Berlin:20270421T114500
DTSTAMP:20260425T213502
CREATED:20260423T082524Z
LAST-MODIFIED:20260423T082524Z
UID:10015873-1808304300-1808307900@bauverein-ruestringen.de
SUMMARY:Tanzen „Querbeet“
DESCRIPTION:In kleiner Gruppe wird mit viel Spaß in Reihen\, gemischt oder im Kreis getanzt.
URL:https://bauverein-ruestringen.de/event/tanzen-querbeet/2027-04-21/
LOCATION:freiraum\, Störtebekerstraße 3 \, 26386 Wilhelmshaven\, Deutschland
CATEGORIES:freiraum
ATTACH;FMTTYPE=image/jpeg:https://bauverein-ruestringen.de/wp-content/uploads/2026/04/Bauverein-Ruestringen-Tanz-Querbeet.jpg
END:VEVENT
BEGIN:VEVENT
DTSTART;TZID=Europe/Berlin:20270421T150000
DTEND;TZID=Europe/Berlin:20270421T163000
DTSTAMP:20260425T213502
CREATED:20260423T100847Z
LAST-MODIFIED:20260423T100847Z
UID:10016417-1808319600-1808325000@bauverein-ruestringen.de
SUMMARY:Plattdeutsch
DESCRIPTION:Plattsnacker finden sich zusammen unter dem Motto: „Snack keen dumm Tüch\, sondern platt!“
URL:https://bauverein-ruestringen.de/event/plattdeutsch-2/2027-04-21/
LOCATION:freiraum\, Störtebekerstraße 3 \, 26386 Wilhelmshaven\, Deutschland
CATEGORIES:freiraum
END:VEVENT
BEGIN:VEVENT
DTSTART;TZID=Europe/Berlin:20270421T190000
DTEND;TZID=Europe/Berlin:20270421T210000
DTSTAMP:20260425T213502
CREATED:20221129T155839Z
LAST-MODIFIED:20250224T200953Z
UID:10010600-1808334000-1808341200@bauverein-ruestringen.de
SUMMARY:WLAN-Cafè
DESCRIPTION:Für Menschen ab 16 Jahren. In entspannter Atmosphäre erhalten Sie Unterstützung rund um Smartphone\, Tablet und Laptop.
URL:https://bauverein-ruestringen.de/event/wlan-cafe/2027-04-21/
LOCATION:freiraum\, Störtebekerstraße 3 \, 26386 Wilhelmshaven\, Deutschland
CATEGORIES:freiraum
ATTACH;FMTTYPE=image/jpeg:https://bauverein-ruestringen.de/wp-content/uploads/2022/11/wlancafe.jpg
END:VEVENT
BEGIN:VEVENT
DTSTART;TZID=Europe/Berlin:20270422T100000
DTEND;TZID=Europe/Berlin:20270422T113000
DTSTAMP:20260425T213502
CREATED:20260421T140540Z
LAST-MODIFIED:20260421T140540Z
UID:10014305-1808388000-1808393400@bauverein-ruestringen.de
SUMMARY:Digital-Kompass
DESCRIPTION:Unser Angebot für alle Senioren und Seniorinnen. Der Umgang mit Internet\, Smartphone\, Laptop und Tablet wird entspannt erklärt und geübt.
URL:https://bauverein-ruestringen.de/event/digital-kompass-3-2/2027-04-22/
LOCATION:freiraum\, Störtebekerstraße 3 \, 26386 Wilhelmshaven\, Deutschland
CATEGORIES:freiraum,Seniorenangebote,Treff – Auf Siebethsburg
ATTACH;FMTTYPE=image/jpeg:https://bauverein-ruestringen.de/wp-content/uploads/2021/04/Digital-Kompass_Bauverein_Ruestringen.jpg
END:VEVENT
BEGIN:VEVENT
DTSTART;TZID=Europe/Berlin:20270423T140000
DTEND;TZID=Europe/Berlin:20270423T163000
DTSTAMP:20260425T213502
CREATED:20210422T164755Z
LAST-MODIFIED:20250224T202425Z
UID:10013449-1808488800-1808497800@bauverein-ruestringen.de
SUMMARY:Bingo
DESCRIPTION:Aufmerksamkeit ist gefragt: Bingo ist ein heiteres\, geselliges Spiel für alle Altersgruppen. Termine auf Anfrage. \n 
URL:https://bauverein-ruestringen.de/event/bingo-2/2027-04-23/
LOCATION:freiraum\, Störtebekerstraße 3 \, 26386 Wilhelmshaven\, Deutschland
CATEGORIES:freiraum
ATTACH;FMTTYPE=image/jpeg:https://bauverein-ruestringen.de/wp-content/uploads/2021/04/Bingo_Bauverein_Ruestringen.jpg
END:VEVENT
BEGIN:VEVENT
DTSTART;TZID=Europe/Berlin:20270427T150000
DTEND;TZID=Europe/Berlin:20270427T160000
DTSTAMP:20260425T213502
CREATED:20260423T073551Z
LAST-MODIFIED:20260424T100810Z
UID:10017047-1808838000-1808841600@bauverein-ruestringen.de
SUMMARY:Frische Brise für den Kopf
DESCRIPTION:Bringen Sie Ihre grauen Zellen in Schwung. Unter Anleitung macht das besonders viel Spaß! Ab 60 Jahren.
URL:https://bauverein-ruestringen.de/event/frische-brise-fuer-den-kopf/2027-04-27/
LOCATION:freiraum\, Störtebekerstraße 3 \, 26386 Wilhelmshaven\, Deutschland
CATEGORIES:freiraum,Seniorenangebote
ATTACH;FMTTYPE=image/jpeg:https://bauverein-ruestringen.de/wp-content/uploads/2026/04/Bauverein-Ruestringen-Brise-fuer-den-Kopf.jpg
END:VEVENT
BEGIN:VEVENT
DTSTART;TZID=Europe/Berlin:20270428T104500
DTEND;TZID=Europe/Berlin:20270428T114500
DTSTAMP:20260425T213502
CREATED:20260423T082524Z
LAST-MODIFIED:20260423T082524Z
UID:10015874-1808909100-1808912700@bauverein-ruestringen.de
SUMMARY:Tanzen „Querbeet“
DESCRIPTION:In kleiner Gruppe wird mit viel Spaß in Reihen\, gemischt oder im Kreis getanzt.
URL:https://bauverein-ruestringen.de/event/tanzen-querbeet/2027-04-28/
LOCATION:freiraum\, Störtebekerstraße 3 \, 26386 Wilhelmshaven\, Deutschland
CATEGORIES:freiraum
ATTACH;FMTTYPE=image/jpeg:https://bauverein-ruestringen.de/wp-content/uploads/2026/04/Bauverein-Ruestringen-Tanz-Querbeet.jpg
END:VEVENT
BEGIN:VEVENT
DTSTART;TZID=Europe/Berlin:20270428T190000
DTEND;TZID=Europe/Berlin:20270428T210000
DTSTAMP:20260425T213502
CREATED:20221129T155839Z
LAST-MODIFIED:20250224T200953Z
UID:10010601-1808938800-1808946000@bauverein-ruestringen.de
SUMMARY:WLAN-Cafè
DESCRIPTION:Für Menschen ab 16 Jahren. In entspannter Atmosphäre erhalten Sie Unterstützung rund um Smartphone\, Tablet und Laptop.
URL:https://bauverein-ruestringen.de/event/wlan-cafe/2027-04-28/
LOCATION:freiraum\, Störtebekerstraße 3 \, 26386 Wilhelmshaven\, Deutschland
CATEGORIES:freiraum
ATTACH;FMTTYPE=image/jpeg:https://bauverein-ruestringen.de/wp-content/uploads/2022/11/wlancafe.jpg
END:VEVENT
BEGIN:VEVENT
DTSTART;TZID=Europe/Berlin:20270429T100000
DTEND;TZID=Europe/Berlin:20270429T113000
DTSTAMP:20260425T213502
CREATED:20260421T140540Z
LAST-MODIFIED:20260421T140540Z
UID:10014306-1808992800-1808998200@bauverein-ruestringen.de
SUMMARY:Digital-Kompass
DESCRIPTION:Unser Angebot für alle Senioren und Seniorinnen. Der Umgang mit Internet\, Smartphone\, Laptop und Tablet wird entspannt erklärt und geübt.
URL:https://bauverein-ruestringen.de/event/digital-kompass-3-2/2027-04-29/
LOCATION:freiraum\, Störtebekerstraße 3 \, 26386 Wilhelmshaven\, Deutschland
CATEGORIES:freiraum,Seniorenangebote,Treff – Auf Siebethsburg
ATTACH;FMTTYPE=image/jpeg:https://bauverein-ruestringen.de/wp-content/uploads/2021/04/Digital-Kompass_Bauverein_Ruestringen.jpg
END:VEVENT
BEGIN:VEVENT
DTSTART;TZID=Europe/Berlin:20270430T170000
DTEND;TZID=Europe/Berlin:20270430T190000
DTSTAMP:20260425T213502
CREATED:20240703T091914Z
LAST-MODIFIED:20250224T210331Z
UID:10013073-1809104400-1809111600@bauverein-ruestringen.de
SUMMARY:Haste Töne
DESCRIPTION:Jeder\, der Spaß am Musizieren oder Singen hat ist willkommen.
URL:https://bauverein-ruestringen.de/event/mal-anders-2-2/2027-04-30/
LOCATION:freiraum\, Störtebekerstraße 3 \, 26386 Wilhelmshaven\, Deutschland
CATEGORIES:freiraum
ATTACH;FMTTYPE=image/jpeg:https://bauverein-ruestringen.de/wp-content/uploads/2024/07/musik.jpg
END:VEVENT
BEGIN:VEVENT
DTSTART;TZID=Europe/Berlin:20270504T150000
DTEND;TZID=Europe/Berlin:20270504T160000
DTSTAMP:20260425T213502
CREATED:20260423T073551Z
LAST-MODIFIED:20260424T100810Z
UID:10017048-1809442800-1809446400@bauverein-ruestringen.de
SUMMARY:Frische Brise für den Kopf
DESCRIPTION:Bringen Sie Ihre grauen Zellen in Schwung. Unter Anleitung macht das besonders viel Spaß! Ab 60 Jahren.
URL:https://bauverein-ruestringen.de/event/frische-brise-fuer-den-kopf/2027-05-04/
LOCATION:freiraum\, Störtebekerstraße 3 \, 26386 Wilhelmshaven\, Deutschland
CATEGORIES:freiraum,Seniorenangebote
ATTACH;FMTTYPE=image/jpeg:https://bauverein-ruestringen.de/wp-content/uploads/2026/04/Bauverein-Ruestringen-Brise-fuer-den-Kopf.jpg
END:VEVENT
BEGIN:VEVENT
DTSTART;TZID=Europe/Berlin:20270505T104500
DTEND;TZID=Europe/Berlin:20270505T114500
DTSTAMP:20260425T213502
CREATED:20260423T082524Z
LAST-MODIFIED:20260423T082524Z
UID:10015875-1809513900-1809517500@bauverein-ruestringen.de
SUMMARY:Tanzen „Querbeet“
DESCRIPTION:In kleiner Gruppe wird mit viel Spaß in Reihen\, gemischt oder im Kreis getanzt.
URL:https://bauverein-ruestringen.de/event/tanzen-querbeet/2027-05-05/
LOCATION:freiraum\, Störtebekerstraße 3 \, 26386 Wilhelmshaven\, Deutschland
CATEGORIES:freiraum
ATTACH;FMTTYPE=image/jpeg:https://bauverein-ruestringen.de/wp-content/uploads/2026/04/Bauverein-Ruestringen-Tanz-Querbeet.jpg
END:VEVENT
BEGIN:VEVENT
DTSTART;TZID=Europe/Berlin:20270505T150000
DTEND;TZID=Europe/Berlin:20270505T163000
DTSTAMP:20260425T213502
CREATED:20260423T100729Z
LAST-MODIFIED:20260424T083926Z
UID:10016357-1809529200-1809534600@bauverein-ruestringen.de
SUMMARY:Plattdeutsch
DESCRIPTION:Plattsnacker finden sich zusammen unter dem Motto:\n„Snack keen dumm Tüch\, sondern platt!“
URL:https://bauverein-ruestringen.de/event/plattdeutsch/2027-05-05/
LOCATION:freiraum\, Störtebekerstraße 3 \, 26386 Wilhelmshaven\, Deutschland
CATEGORIES:freiraum
ATTACH;FMTTYPE=image/jpeg:https://bauverein-ruestringen.de/wp-content/uploads/2026/04/Bauverein-Ruestringen-Die-Plattsnacker.jpg
END:VEVENT
BEGIN:VEVENT
DTSTART;TZID=Europe/Berlin:20270505T190000
DTEND;TZID=Europe/Berlin:20270505T210000
DTSTAMP:20260425T213502
CREATED:20221129T155839Z
LAST-MODIFIED:20250224T200953Z
UID:10010602-1809543600-1809550800@bauverein-ruestringen.de
SUMMARY:WLAN-Cafè
DESCRIPTION:Für Menschen ab 16 Jahren. In entspannter Atmosphäre erhalten Sie Unterstützung rund um Smartphone\, Tablet und Laptop.
URL:https://bauverein-ruestringen.de/event/wlan-cafe/2027-05-05/
LOCATION:freiraum\, Störtebekerstraße 3 \, 26386 Wilhelmshaven\, Deutschland
CATEGORIES:freiraum
ATTACH;FMTTYPE=image/jpeg:https://bauverein-ruestringen.de/wp-content/uploads/2022/11/wlancafe.jpg
END:VEVENT
BEGIN:VEVENT
DTSTART;TZID=Europe/Berlin:20270506T100000
DTEND;TZID=Europe/Berlin:20270506T113000
DTSTAMP:20260425T213502
CREATED:20260421T140540Z
LAST-MODIFIED:20260421T140540Z
UID:10014307-1809597600-1809603000@bauverein-ruestringen.de
SUMMARY:Digital-Kompass
DESCRIPTION:Unser Angebot für alle Senioren und Seniorinnen. Der Umgang mit Internet\, Smartphone\, Laptop und Tablet wird entspannt erklärt und geübt.
URL:https://bauverein-ruestringen.de/event/digital-kompass-3-2/2027-05-06/
LOCATION:freiraum\, Störtebekerstraße 3 \, 26386 Wilhelmshaven\, Deutschland
CATEGORIES:freiraum,Seniorenangebote,Treff – Auf Siebethsburg
ATTACH;FMTTYPE=image/jpeg:https://bauverein-ruestringen.de/wp-content/uploads/2021/04/Digital-Kompass_Bauverein_Ruestringen.jpg
END:VEVENT
BEGIN:VEVENT
DTSTART;TZID=Europe/Berlin:20270506T163000
DTEND;TZID=Europe/Berlin:20270506T183000
DTSTAMP:20260425T213502
CREATED:20260119T111716Z
LAST-MODIFIED:20260330T114233Z
UID:10014016-1809621000-1809628200@bauverein-ruestringen.de
SUMMARY:Lesekreis
DESCRIPTION:Lesebegeisterte Menschen jeden Alters teilen das Interesse für Bücher und tauschen sich aus.
URL:https://bauverein-ruestringen.de/event/gedaechtnistraining-2-2-2/2027-05-06/
LOCATION:freiraum\, Störtebekerstraße 3 \, 26386 Wilhelmshaven\, Deutschland
CATEGORIES:freiraum,Seniorenangebote,Treff – Auf Siebethsburg
ATTACH;FMTTYPE=image/jpeg:https://bauverein-ruestringen.de/wp-content/uploads/2024/07/lesekreis.jpg
END:VEVENT
BEGIN:VEVENT
DTSTART;TZID=Europe/Berlin:20270507T140000
DTEND;TZID=Europe/Berlin:20270507T163000
DTSTAMP:20260425T213502
CREATED:20210422T164755Z
LAST-MODIFIED:20250224T202425Z
UID:10013450-1809698400-1809707400@bauverein-ruestringen.de
SUMMARY:Bingo
DESCRIPTION:Aufmerksamkeit ist gefragt: Bingo ist ein heiteres\, geselliges Spiel für alle Altersgruppen. Termine auf Anfrage. \n 
URL:https://bauverein-ruestringen.de/event/bingo-2/2027-05-07/
LOCATION:freiraum\, Störtebekerstraße 3 \, 26386 Wilhelmshaven\, Deutschland
CATEGORIES:freiraum
ATTACH;FMTTYPE=image/jpeg:https://bauverein-ruestringen.de/wp-content/uploads/2021/04/Bingo_Bauverein_Ruestringen.jpg
END:VEVENT
BEGIN:VEVENT
DTSTART;TZID=Europe/Berlin:20270511T150000
DTEND;TZID=Europe/Berlin:20270511T160000
DTSTAMP:20260425T213502
CREATED:20260423T073551Z
LAST-MODIFIED:20260424T100810Z
UID:10017049-1810047600-1810051200@bauverein-ruestringen.de
SUMMARY:Frische Brise für den Kopf
DESCRIPTION:Bringen Sie Ihre grauen Zellen in Schwung. Unter Anleitung macht das besonders viel Spaß! Ab 60 Jahren.
URL:https://bauverein-ruestringen.de/event/frische-brise-fuer-den-kopf/2027-05-11/
LOCATION:freiraum\, Störtebekerstraße 3 \, 26386 Wilhelmshaven\, Deutschland
CATEGORIES:freiraum,Seniorenangebote
ATTACH;FMTTYPE=image/jpeg:https://bauverein-ruestringen.de/wp-content/uploads/2026/04/Bauverein-Ruestringen-Brise-fuer-den-Kopf.jpg
END:VEVENT
BEGIN:VEVENT
DTSTART;TZID=Europe/Berlin:20270512T104500
DTEND;TZID=Europe/Berlin:20270512T114500
DTSTAMP:20260425T213502
CREATED:20260423T082524Z
LAST-MODIFIED:20260423T082524Z
UID:10015876-1810118700-1810122300@bauverein-ruestringen.de
SUMMARY:Tanzen „Querbeet“
DESCRIPTION:In kleiner Gruppe wird mit viel Spaß in Reihen\, gemischt oder im Kreis getanzt.
URL:https://bauverein-ruestringen.de/event/tanzen-querbeet/2027-05-12/
LOCATION:freiraum\, Störtebekerstraße 3 \, 26386 Wilhelmshaven\, Deutschland
CATEGORIES:freiraum
ATTACH;FMTTYPE=image/jpeg:https://bauverein-ruestringen.de/wp-content/uploads/2026/04/Bauverein-Ruestringen-Tanz-Querbeet.jpg
END:VEVENT
BEGIN:VEVENT
DTSTART;TZID=Europe/Berlin:20270512T190000
DTEND;TZID=Europe/Berlin:20270512T210000
DTSTAMP:20260425T213502
CREATED:20221129T155839Z
LAST-MODIFIED:20250224T200953Z
UID:10010603-1810148400-1810155600@bauverein-ruestringen.de
SUMMARY:WLAN-Cafè
DESCRIPTION:Für Menschen ab 16 Jahren. In entspannter Atmosphäre erhalten Sie Unterstützung rund um Smartphone\, Tablet und Laptop.
URL:https://bauverein-ruestringen.de/event/wlan-cafe/2027-05-12/
LOCATION:freiraum\, Störtebekerstraße 3 \, 26386 Wilhelmshaven\, Deutschland
CATEGORIES:freiraum
ATTACH;FMTTYPE=image/jpeg:https://bauverein-ruestringen.de/wp-content/uploads/2022/11/wlancafe.jpg
END:VEVENT
BEGIN:VEVENT
DTSTART;TZID=Europe/Berlin:20270513T100000
DTEND;TZID=Europe/Berlin:20270513T113000
DTSTAMP:20260425T213502
CREATED:20260421T140540Z
LAST-MODIFIED:20260421T140540Z
UID:10014308-1810202400-1810207800@bauverein-ruestringen.de
SUMMARY:Digital-Kompass
DESCRIPTION:Unser Angebot für alle Senioren und Seniorinnen. Der Umgang mit Internet\, Smartphone\, Laptop und Tablet wird entspannt erklärt und geübt.
URL:https://bauverein-ruestringen.de/event/digital-kompass-3-2/2027-05-13/
LOCATION:freiraum\, Störtebekerstraße 3 \, 26386 Wilhelmshaven\, Deutschland
CATEGORIES:freiraum,Seniorenangebote,Treff – Auf Siebethsburg
ATTACH;FMTTYPE=image/jpeg:https://bauverein-ruestringen.de/wp-content/uploads/2021/04/Digital-Kompass_Bauverein_Ruestringen.jpg
END:VEVENT
BEGIN:VEVENT
DTSTART;TZID=Europe/Berlin:20270513T183000
DTEND;TZID=Europe/Berlin:20270513T210000
DTSTAMP:20260425T213502
CREATED:20260421T140153Z
LAST-MODIFIED:20260421T140153Z
UID:10011327-1810233000-1810242000@bauverein-ruestringen.de
SUMMARY:Fotografieren auf Siebethsburg
DESCRIPTION:Offener Austausch für Interessierte\, die Spaß am Fotografieren haben.
URL:https://bauverein-ruestringen.de/event/fotografieren-auf-siebethsburg-2/2027-05-13/
LOCATION:freiraum\, Störtebekerstraße 3 \, 26386 Wilhelmshaven\, Deutschland
ATTACH;FMTTYPE=image/jpeg:https://bauverein-ruestringen.de/wp-content/uploads/2023/06/Fotografieren.jpg
END:VEVENT
BEGIN:VEVENT
DTSTART;TZID=Europe/Berlin:20270514T170000
DTEND;TZID=Europe/Berlin:20270514T190000
DTSTAMP:20260425T213502
CREATED:20240703T091914Z
LAST-MODIFIED:20250224T210331Z
UID:10013074-1810314000-1810321200@bauverein-ruestringen.de
SUMMARY:Haste Töne
DESCRIPTION:Jeder\, der Spaß am Musizieren oder Singen hat ist willkommen.
URL:https://bauverein-ruestringen.de/event/mal-anders-2-2/2027-05-14/
LOCATION:freiraum\, Störtebekerstraße 3 \, 26386 Wilhelmshaven\, Deutschland
CATEGORIES:freiraum
ATTACH;FMTTYPE=image/jpeg:https://bauverein-ruestringen.de/wp-content/uploads/2024/07/musik.jpg
END:VEVENT
BEGIN:VEVENT
DTSTART;TZID=Europe/Berlin:20270518T150000
DTEND;TZID=Europe/Berlin:20270518T160000
DTSTAMP:20260425T213502
CREATED:20260423T073551Z
LAST-MODIFIED:20260424T100810Z
UID:10017050-1810652400-1810656000@bauverein-ruestringen.de
SUMMARY:Frische Brise für den Kopf
DESCRIPTION:Bringen Sie Ihre grauen Zellen in Schwung. Unter Anleitung macht das besonders viel Spaß! Ab 60 Jahren.
URL:https://bauverein-ruestringen.de/event/frische-brise-fuer-den-kopf/2027-05-18/
LOCATION:freiraum\, Störtebekerstraße 3 \, 26386 Wilhelmshaven\, Deutschland
CATEGORIES:freiraum,Seniorenangebote
ATTACH;FMTTYPE=image/jpeg:https://bauverein-ruestringen.de/wp-content/uploads/2026/04/Bauverein-Ruestringen-Brise-fuer-den-Kopf.jpg
END:VEVENT
BEGIN:VEVENT
DTSTART;TZID=Europe/Berlin:20270519T104500
DTEND;TZID=Europe/Berlin:20270519T114500
DTSTAMP:20260425T213502
CREATED:20260423T082524Z
LAST-MODIFIED:20260423T082524Z
UID:10015877-1810723500-1810727100@bauverein-ruestringen.de
SUMMARY:Tanzen „Querbeet“
DESCRIPTION:In kleiner Gruppe wird mit viel Spaß in Reihen\, gemischt oder im Kreis getanzt.
URL:https://bauverein-ruestringen.de/event/tanzen-querbeet/2027-05-19/
LOCATION:freiraum\, Störtebekerstraße 3 \, 26386 Wilhelmshaven\, Deutschland
CATEGORIES:freiraum
ATTACH;FMTTYPE=image/jpeg:https://bauverein-ruestringen.de/wp-content/uploads/2026/04/Bauverein-Ruestringen-Tanz-Querbeet.jpg
END:VEVENT
BEGIN:VEVENT
DTSTART;TZID=Europe/Berlin:20270519T150000
DTEND;TZID=Europe/Berlin:20270519T163000
DTSTAMP:20260425T213502
CREATED:20260423T100847Z
LAST-MODIFIED:20260423T100847Z
UID:10016418-1810738800-1810744200@bauverein-ruestringen.de
SUMMARY:Plattdeutsch
DESCRIPTION:Plattsnacker finden sich zusammen unter dem Motto: „Snack keen dumm Tüch\, sondern platt!“
URL:https://bauverein-ruestringen.de/event/plattdeutsch-2/2027-05-19/
LOCATION:freiraum\, Störtebekerstraße 3 \, 26386 Wilhelmshaven\, Deutschland
CATEGORIES:freiraum
END:VEVENT
BEGIN:VEVENT
DTSTART;TZID=Europe/Berlin:20270519T190000
DTEND;TZID=Europe/Berlin:20270519T210000
DTSTAMP:20260425T213502
CREATED:20221129T155839Z
LAST-MODIFIED:20250224T200953Z
UID:10010604-1810753200-1810760400@bauverein-ruestringen.de
SUMMARY:WLAN-Cafè
DESCRIPTION:Für Menschen ab 16 Jahren. In entspannter Atmosphäre erhalten Sie Unterstützung rund um Smartphone\, Tablet und Laptop.
URL:https://bauverein-ruestringen.de/event/wlan-cafe/2027-05-19/
LOCATION:freiraum\, Störtebekerstraße 3 \, 26386 Wilhelmshaven\, Deutschland
CATEGORIES:freiraum
ATTACH;FMTTYPE=image/jpeg:https://bauverein-ruestringen.de/wp-content/uploads/2022/11/wlancafe.jpg
END:VEVENT
END:VCALENDAR