BEGIN:VCALENDAR
VERSION:2.0
PRODID:-//Bauverein Rüstringen - ECPv6.15.13.1//NONSGML v1.0//EN
CALSCALE:GREGORIAN
METHOD:PUBLISH
X-ORIGINAL-URL:https://bauverein-ruestringen.de
X-WR-CALDESC:Veranstaltungen für Bauverein Rüstringen
REFRESH-INTERVAL;VALUE=DURATION:PT1H
X-Robots-Tag:noindex
X-PUBLISHED-TTL:PT1H
BEGIN:VTIMEZONE
TZID:Europe/Berlin
BEGIN:DAYLIGHT
TZOFFSETFROM:+0100
TZOFFSETTO:+0200
TZNAME:CEST
DTSTART:20300331T010000
END:DAYLIGHT
BEGIN:STANDARD
TZOFFSETFROM:+0200
TZOFFSETTO:+0100
TZNAME:CET
DTSTART:20301027T010000
END:STANDARD
BEGIN:DAYLIGHT
TZOFFSETFROM:+0100
TZOFFSETTO:+0200
TZNAME:CEST
DTSTART:20310330T010000
END:DAYLIGHT
BEGIN:STANDARD
TZOFFSETFROM:+0200
TZOFFSETTO:+0100
TZNAME:CET
DTSTART:20311026T010000
END:STANDARD
BEGIN:DAYLIGHT
TZOFFSETFROM:+0100
TZOFFSETTO:+0200
TZNAME:CEST
DTSTART:20320328T010000
END:DAYLIGHT
BEGIN:STANDARD
TZOFFSETFROM:+0200
TZOFFSETTO:+0100
TZNAME:CET
DTSTART:20321031T010000
END:STANDARD
END:VTIMEZONE
BEGIN:VEVENT
DTSTART;TZID=Europe/Berlin:20310421T093000
DTEND;TZID=Europe/Berlin:20310421T104500
DTSTAMP:20260425T043611
CREATED:20260421T145541Z
LAST-MODIFIED:20260424T125735Z
UID:10014776-1934530200-1934534700@bauverein-ruestringen.de
SUMMARY:Yoga im Sitzen
DESCRIPTION:Ob im Büro oder für die bewegte Pause im Alltag. Yoga auf und am Stuhl bietet die Möglichkeit\, gelenkschonend klassische Yogahaltungen\, Meditations- und Atemtechniken zu praktizieren. Für alle Altersgruppen geeignet.
URL:https://bauverein-ruestringen.de/event/yoga-im-sitzen/2031-04-21/
LOCATION:Treff – Auf Siebethsburg\, Störtebekerstraße 14c\, 26386 Wilhelmshaven\, Deutschland
CATEGORIES:Seniorenangebote,Treff – Auf Siebethsburg
ATTACH;FMTTYPE=image/jpeg:https://bauverein-ruestringen.de/wp-content/uploads/2022/11/yoga2-1.jpg
END:VEVENT
BEGIN:VEVENT
DTSTART;TZID=Europe/Berlin:20310421T133000
DTEND;TZID=Europe/Berlin:20310421T163000
DTSTAMP:20260425T043611
CREATED:20260421T152237Z
LAST-MODIFIED:20260421T152237Z
UID:10015038-1934544600-1934555400@bauverein-ruestringen.de
SUMMARY:Spielenachmittag
DESCRIPTION:Wir spielen Karten-\, Brett- und Würfelspiele\, auch selbst mitgebrachte Spiele sind gern gesehen. Alle Altersgruppen sind willkommen.
URL:https://bauverein-ruestringen.de/event/spielenachmittag-2/2031-04-21/
LOCATION:Treff – Auf Siebethsburg\, Störtebekerstraße 14c\, 26386 Wilhelmshaven\, Deutschland
CATEGORIES:Treff – Auf Siebethsburg
ATTACH;FMTTYPE=image/jpeg:https://bauverein-ruestringen.de/wp-content/uploads/2026/04/Bauverein-Ruestringen-Spielabend.jpg
END:VEVENT
BEGIN:VEVENT
DTSTART;TZID=Europe/Berlin:20310421T140000
DTEND;TZID=Europe/Berlin:20310421T160000
DTSTAMP:20260425T043611
CREATED:20260421T140412Z
LAST-MODIFIED:20260421T140412Z
UID:10014253-1934546400-1934553600@bauverein-ruestringen.de
SUMMARY:Nähstübchen
DESCRIPTION:Nähen ein einsames Hobby? Das muss nicht sein! Im Näh-Café finden Sie Gleichgesinnte. Tauschen Sie sich aus und bekommen Sie beim gemeinsamen Nähen in kreativer Atmosphäre neue Ideen.
URL:https://bauverein-ruestringen.de/event/naeh-cafe-2/2031-04-21/
LOCATION:Treff – Auf Siebethsburg\, Störtebekerstraße 14c\, 26386 Wilhelmshaven\, Deutschland
CATEGORIES:Treff – Auf Siebethsburg
ATTACH;FMTTYPE=image/jpeg:https://bauverein-ruestringen.de/wp-content/uploads/2021/04/Naeh_Cafe_Bauverein_Ruestringen.jpg
END:VEVENT
BEGIN:VEVENT
DTSTART;TZID=Europe/Berlin:20310421T183000
DTEND;TZID=Europe/Berlin:20310421T203000
DTSTAMP:20260425T043611
CREATED:20260423T070905Z
LAST-MODIFIED:20260423T070905Z
UID:10015299-1934562600-1934569800@bauverein-ruestringen.de
SUMMARY:Frauen in Bewegung
DESCRIPTION:In der Gruppe macht Bewegung noch mehr Spaß! Willkommen sind Frauen jeder Altersstufe zu Gymnastik\, Stretching\, Kraftübungen. Im Sommer auch draußen.
URL:https://bauverein-ruestringen.de/event/frauen-in-bewegung-2/2031-04-21/
LOCATION:Treff – Auf Siebethsburg\, Störtebekerstraße 14c\, 26386 Wilhelmshaven\, Deutschland
CATEGORIES:Treff – Auf Siebethsburg
ATTACH;FMTTYPE=image/jpeg:https://bauverein-ruestringen.de/wp-content/uploads/2026/04/Bauverein-Ruestringen-Frauen-in-Bewegung.jpg
END:VEVENT
BEGIN:VEVENT
DTSTART;TZID=Europe/Berlin:20310422T150000
DTEND;TZID=Europe/Berlin:20310422T160000
DTSTAMP:20260425T043611
CREATED:20260423T073551Z
LAST-MODIFIED:20260424T100810Z
UID:10017255-1934636400-1934640000@bauverein-ruestringen.de
SUMMARY:Frische Brise für den Kopf
DESCRIPTION:Bringen Sie Ihre grauen Zellen in Schwung. Unter Anleitung macht das besonders viel Spaß! Ab 60 Jahren.
URL:https://bauverein-ruestringen.de/event/frische-brise-fuer-den-kopf/2031-04-22/
LOCATION:freiraum\, Störtebekerstraße 3 \, 26386 Wilhelmshaven\, Deutschland
CATEGORIES:freiraum,Seniorenangebote
ATTACH;FMTTYPE=image/jpeg:https://bauverein-ruestringen.de/wp-content/uploads/2026/04/Bauverein-Ruestringen-Brise-fuer-den-Kopf.jpg
END:VEVENT
BEGIN:VEVENT
DTSTART;TZID=Europe/Berlin:20310423T100000
DTEND;TZID=Europe/Berlin:20310423T110000
DTSTAMP:20260425T043611
CREATED:20260423T081228Z
LAST-MODIFIED:20260424T124828Z
UID:10015821-1934704800-1934708400@bauverein-ruestringen.de
SUMMARY:Frühstück zur Marktzeit
DESCRIPTION:Frühstücken Sie in netter Runde gemeinsam mit anderen. Bitte melden Sie sich vorher an.
URL:https://bauverein-ruestringen.de/event/fruehstueck-zur-marktzeit-2/2031-04-23/
LOCATION:Treff – Auf Siebethsburg\, Störtebekerstraße 14c\, 26386 Wilhelmshaven\, Deutschland
CATEGORIES:Treff – Auf Siebethsburg
ATTACH;FMTTYPE=image/jpeg:https://bauverein-ruestringen.de/wp-content/uploads/2022/11/Fruehstueck.jpg
END:VEVENT
BEGIN:VEVENT
DTSTART;TZID=Europe/Berlin:20310423T104500
DTEND;TZID=Europe/Berlin:20310423T114500
DTSTAMP:20260425T043611
CREATED:20260423T082524Z
LAST-MODIFIED:20260423T082524Z
UID:10016082-1934707500-1934711100@bauverein-ruestringen.de
SUMMARY:Tanzen „Querbeet“
DESCRIPTION:In kleiner Gruppe wird mit viel Spaß in Reihen\, gemischt oder im Kreis getanzt.
URL:https://bauverein-ruestringen.de/event/tanzen-querbeet/2031-04-23/
LOCATION:freiraum\, Störtebekerstraße 3 \, 26386 Wilhelmshaven\, Deutschland
CATEGORIES:freiraum
ATTACH;FMTTYPE=image/jpeg:https://bauverein-ruestringen.de/wp-content/uploads/2026/04/Bauverein-Ruestringen-Tanz-Querbeet.jpg
END:VEVENT
BEGIN:VEVENT
DTSTART;TZID=Europe/Berlin:20310423T140000
DTEND;TZID=Europe/Berlin:20310423T160000
DTSTAMP:20260425T043611
CREATED:20260423T092114Z
LAST-MODIFIED:20260423T095234Z
UID:10016343-1934719200-1934726400@bauverein-ruestringen.de
SUMMARY:Handarbeitsgruppe
DESCRIPTION:Für alle Altersgruppen: Wenn Sie Spaß am Stricken\, Häkeln\, Handarbeit etc. haben\, kommen Sie gern vorbei.
URL:https://bauverein-ruestringen.de/event/handarbeitsgruppe/2031-04-23/
LOCATION:Treff – Auf Siebethsburg\, Störtebekerstraße 14c\, 26386 Wilhelmshaven\, Deutschland
CATEGORIES:Treff – Auf Siebethsburg
ATTACH;FMTTYPE=image/jpeg:https://bauverein-ruestringen.de/wp-content/uploads/2026/04/Bauverein-Ruestringen-Handarbeitsgruppe.jpg
END:VEVENT
BEGIN:VEVENT
DTSTART;TZID=Europe/Berlin:20310424T100000
DTEND;TZID=Europe/Berlin:20310424T120000
DTSTAMP:20260425T043611
CREATED:20260423T101908Z
LAST-MODIFIED:20260424T111808Z
UID:10017517-1934791200-1934798400@bauverein-ruestringen.de
SUMMARY:Walking
DESCRIPTION:Spaß an Bewegung in und um Siebethsburg für Menschen\, die sich (wieder) mehr bewegen wollen.
URL:https://bauverein-ruestringen.de/event/walking/2031-04-24/
LOCATION:Treff – Auf Siebethsburg\, Störtebekerstraße 14c\, 26386 Wilhelmshaven\, Deutschland
CATEGORIES:Treff – Auf Siebethsburg
ATTACH;FMTTYPE=image/jpeg:https://bauverein-ruestringen.de/wp-content/uploads/2026/04/Bauverein-Ruestringen-Walking.jpg
END:VEVENT
BEGIN:VEVENT
DTSTART;TZID=Europe/Berlin:20310424T150000
DTEND;TZID=Europe/Berlin:20310424T160000
DTSTAMP:20260425T043611
CREATED:20260423T102316Z
LAST-MODIFIED:20260424T130845Z
UID:10017518-1934809200-1934812800@bauverein-ruestringen.de
SUMMARY:Seniorensport der AWO
DESCRIPTION:Der sportliche Treff für alle ab 60. Wir trainieren mit Freude unsere Kraft und Beweglichkeit\, altersgerecht und ohne Überforderung.
URL:https://bauverein-ruestringen.de/event/seniorensport-der-awo/2031-04-24/
LOCATION:Treff – Auf Siebethsburg\, Störtebekerstraße 14c\, 26386 Wilhelmshaven\, Deutschland
CATEGORIES:Treff – Auf Siebethsburg
ATTACH;FMTTYPE=image/jpeg:https://bauverein-ruestringen.de/wp-content/uploads/2021/02/Seniorensport_Bauverein_Ruestringen.jpg
END:VEVENT
END:VCALENDAR