BEGIN:VCALENDAR
VERSION:2.0
PRODID:-//Bauverein Rüstringen - ECPv6.15.13.1//NONSGML v1.0//EN
CALSCALE:GREGORIAN
METHOD:PUBLISH
X-ORIGINAL-URL:https://bauverein-ruestringen.de
X-WR-CALDESC:Veranstaltungen für Bauverein Rüstringen
REFRESH-INTERVAL;VALUE=DURATION:PT1H
X-Robots-Tag:noindex
X-PUBLISHED-TTL:PT1H
BEGIN:VTIMEZONE
TZID:Europe/Berlin
BEGIN:DAYLIGHT
TZOFFSETFROM:+0100
TZOFFSETTO:+0200
TZNAME:CEST
DTSTART:20250330T010000
END:DAYLIGHT
BEGIN:STANDARD
TZOFFSETFROM:+0200
TZOFFSETTO:+0100
TZNAME:CET
DTSTART:20251026T010000
END:STANDARD
BEGIN:DAYLIGHT
TZOFFSETFROM:+0100
TZOFFSETTO:+0200
TZNAME:CEST
DTSTART:20260329T010000
END:DAYLIGHT
BEGIN:STANDARD
TZOFFSETFROM:+0200
TZOFFSETTO:+0100
TZNAME:CET
DTSTART:20261025T010000
END:STANDARD
BEGIN:DAYLIGHT
TZOFFSETFROM:+0100
TZOFFSETTO:+0200
TZNAME:CEST
DTSTART:20270328T010000
END:DAYLIGHT
BEGIN:STANDARD
TZOFFSETFROM:+0200
TZOFFSETTO:+0100
TZNAME:CET
DTSTART:20271031T010000
END:STANDARD
END:VTIMEZONE
BEGIN:VEVENT
DTSTART;TZID=Europe/Berlin:20260508T140000
DTEND;TZID=Europe/Berlin:20260508T163000
DTSTAMP:20260421T180929
CREATED:20210422T164755Z
LAST-MODIFIED:20250224T202425Z
UID:10006760-1778248800-1778257800@bauverein-ruestringen.de
SUMMARY:Bingo
DESCRIPTION:Aufmerksamkeit ist gefragt: Bingo ist ein heiteres\, geselliges Spiel für alle Altersgruppen. Termine auf Anfrage. \n 
URL:https://bauverein-ruestringen.de/event/bingo-2/2026-05-08/
LOCATION:freiraum\, Störtebekerstraße 3 \, 26386 Wilhelmshaven\, Germany
CATEGORIES:freiraum
ATTACH;FMTTYPE=image/jpeg:https://bauverein-ruestringen.de/wp-content/uploads/2021/04/Bingo_Bauverein_Ruestringen.jpg
END:VEVENT
BEGIN:VEVENT
DTSTART;TZID=Europe/Berlin:20260511T093000
DTEND;TZID=Europe/Berlin:20260511T144500
DTSTAMP:20260421T180929
CREATED:20260421T145541Z
LAST-MODIFIED:20260421T150016Z
UID:10014518-1778491800-1778510700@bauverein-ruestringen.de
SUMMARY:Yoga im Sitzen
DESCRIPTION:Ob im Büro oder für die bewegte Pause im Alltag. Yoga auf und am Stuhl bietet die Möglichkeit\, gelenkschonend klassische Yogahaltungen\, Meditations- und Atemtechniken zu praktizieren. Für alle Altersgruppen geeignet.
URL:https://bauverein-ruestringen.de/event/yoga-im-sitzen/2026-05-11/
LOCATION:Treff – Auf Siebethsburg\, Störtebekerstraße 14c\, 26386 Wilhelmshaven\, Deutschland
CATEGORIES:Seniorenangebote,Treff – Auf Siebethsburg
ATTACH;FMTTYPE=image/jpeg:https://bauverein-ruestringen.de/wp-content/uploads/2026/04/Bauverein-Ruestringen-Sitz-Yoga.jpg
END:VEVENT
BEGIN:VEVENT
DTSTART;TZID=Europe/Berlin:20260511T133000
DTEND;TZID=Europe/Berlin:20260511T163000
DTSTAMP:20260421T180929
CREATED:20260421T152237Z
LAST-MODIFIED:20260421T152237Z
UID:10014780-1778506200-1778517000@bauverein-ruestringen.de
SUMMARY:Spielenachmittag
DESCRIPTION:Wir spielen Karten-\, Brett- und Würfelspiele\, auch selbst mitgebrachte Spiele sind gern gesehen. Alle Altersgruppen sind willkommen.
URL:https://bauverein-ruestringen.de/event/spielenachmittag-2/2026-05-11/
LOCATION:Treff – Auf Siebethsburg\, Störtebekerstraße 14c\, 26386 Wilhelmshaven\, Deutschland
CATEGORIES:Treff – Auf Siebethsburg
ATTACH;FMTTYPE=image/jpeg:https://bauverein-ruestringen.de/wp-content/uploads/2026/04/Bauverein-Ruestringen-Spielabend.jpg
END:VEVENT
BEGIN:VEVENT
DTSTART;TZID=Europe/Berlin:20260511T140000
DTEND;TZID=Europe/Berlin:20260511T160000
DTSTAMP:20260421T180929
CREATED:20260421T140412Z
LAST-MODIFIED:20260421T140412Z
UID:10006608-1778508000-1778515200@bauverein-ruestringen.de
SUMMARY:Nähstübchen
DESCRIPTION:Nähen ein einsames Hobby? Das muss nicht sein! Im Näh-Café finden Sie Gleichgesinnte. Tauschen Sie sich aus und bekommen Sie beim gemeinsamen Nähen in kreativer Atmosphäre neue Ideen.
URL:https://bauverein-ruestringen.de/event/naeh-cafe-2/2026-05-11/
LOCATION:Treff – Auf Siebethsburg\, Störtebekerstraße 14c\, 26386 Wilhelmshaven\, Deutschland
CATEGORIES:Treff – Auf Siebethsburg
ATTACH;FMTTYPE=image/jpeg:https://bauverein-ruestringen.de/wp-content/uploads/2021/04/Naeh_Cafe_Bauverein_Ruestringen.jpg
END:VEVENT
BEGIN:VEVENT
DTSTART;TZID=Europe/Berlin:20260512T100000
DTEND;TZID=Europe/Berlin:20260512T110000
DTSTAMP:20260421T180929
CREATED:20210901T132110Z
LAST-MODIFIED:20250224T165741Z
UID:10007914-1778580000-1778583600@bauverein-ruestringen.de
SUMMARY:Tai Chi
DESCRIPTION:Tai Chi\, das ist:\nSich spüren\, bewegen – langsam und bewusst. Dem Fluss des Atems folgen und die Kräfte des Lebens stärken. Entspannung für Geist und Körper. \nEs heißt\, wer Tai Chi übt\, wird gesund und stark wie ein Holzfäller\, so geschmeidig wie ein Kind und gelassen wie ein Weiser.
URL:https://bauverein-ruestringen.de/event/thai-chi-2/2026-05-12/
LOCATION:Treff – Auf Siebethsburg\, Störtebekerstraße 14c\, 26386 Wilhelmshaven\, Deutschland
CATEGORIES:Treff – Auf Siebethsburg
ATTACH;FMTTYPE=image/jpeg:https://bauverein-ruestringen.de/wp-content/uploads/2021/09/Thai_Chi.jpg
END:VEVENT
BEGIN:VEVENT
DTSTART;TZID=Europe/Berlin:20260512T143000
DTEND;TZID=Europe/Berlin:20260512T163000
DTSTAMP:20260421T180929
CREATED:20210423T091629Z
LAST-MODIFIED:20240702T101013Z
UID:10006671-1778596200-1778603400@bauverein-ruestringen.de
SUMMARY:Erzählcafè
DESCRIPTION:Gesellige nachbarschaftliche Begegnungen und Informationen zu unterschiedlichen\, aktuellen Themen.
URL:https://bauverein-ruestringen.de/event/erzaehlcafe/2026-05-12/
LOCATION:Treff – Auf Siebethsburg\, Störtebekerstraße 14c\, 26386 Wilhelmshaven\, Deutschland
CATEGORIES:Seniorenangebote,Treff – Auf Siebethsburg
ATTACH;FMTTYPE=image/jpeg:https://bauverein-ruestringen.de/wp-content/uploads/2022/11/Erzaehlcafe.jpg
END:VEVENT
BEGIN:VEVENT
DTSTART;TZID=Europe/Berlin:20260513T183000
DTEND;TZID=Europe/Berlin:20260513T200000
DTSTAMP:20260421T180929
CREATED:20210223T133934Z
LAST-MODIFIED:20250224T200926Z
UID:10005938-1778697000-1778702400@bauverein-ruestringen.de
SUMMARY:Yoga am Abend
DESCRIPTION:Den Tag hinter sich lassen\, sich dehnen\, strecken\, den Körper spüren\, kräftigen\, atmen. Entdecken Sie die Wohltaten des Yoga! Für Menschen von 25-65 Jahren.
URL:https://bauverein-ruestringen.de/event/yoga-am-abend-5/2026-05-13/
LOCATION:Treff – Auf Siebethsburg\, Störtebekerstraße 14c\, 26386 Wilhelmshaven\, Deutschland
CATEGORIES:Treff – Auf Siebethsburg
ATTACH;FMTTYPE=image/jpeg:https://bauverein-ruestringen.de/wp-content/uploads/2022/11/yoga1.jpg
END:VEVENT
BEGIN:VEVENT
DTSTART;TZID=Europe/Berlin:20260513T190000
DTEND;TZID=Europe/Berlin:20260513T210000
DTSTAMP:20260421T180929
CREATED:20221129T155839Z
LAST-MODIFIED:20250224T200953Z
UID:10008756-1778698800-1778706000@bauverein-ruestringen.de
SUMMARY:WLAN-Cafè
DESCRIPTION:Für Menschen ab 16 Jahren. In entspannter Atmosphäre erhalten Sie Unterstützung rund um Smartphone\, Tablet und Laptop.
URL:https://bauverein-ruestringen.de/event/wlan-cafe/2026-05-13/
LOCATION:freiraum\, Störtebekerstraße 3 \, 26386 Wilhelmshaven\, Germany
CATEGORIES:freiraum
ATTACH;FMTTYPE=image/jpeg:https://bauverein-ruestringen.de/wp-content/uploads/2022/11/wlancafe.jpg
END:VEVENT
BEGIN:VEVENT
DTSTART;TZID=Europe/Berlin:20260514T100000
DTEND;TZID=Europe/Berlin:20260514T113000
DTSTAMP:20260421T180929
CREATED:20260421T140540Z
LAST-MODIFIED:20260421T140540Z
UID:10014256-1778752800-1778758200@bauverein-ruestringen.de
SUMMARY:Digital-Kompass
DESCRIPTION:Unser Angebot für alle Senioren und Seniorinnen. Der Umgang mit Internet\, Smartphone\, Laptop und Tablet wird entspannt erklärt und geübt.
URL:https://bauverein-ruestringen.de/event/digital-kompass-3-2/2026-05-14/
LOCATION:freiraum\, Störtebekerstraße 3 \, 26386 Wilhelmshaven\, Germany
CATEGORIES:freiraum,Seniorenangebote,Treff – Auf Siebethsburg
ATTACH;FMTTYPE=image/jpeg:https://bauverein-ruestringen.de/wp-content/uploads/2021/04/Digital-Kompass_Bauverein_Ruestringen.jpg
END:VEVENT
BEGIN:VEVENT
DTSTART;TZID=Europe/Berlin:20260514T183000
DTEND;TZID=Europe/Berlin:20260514T210000
DTSTAMP:20260421T180929
CREATED:20260421T140153Z
LAST-MODIFIED:20260421T140153Z
UID:10009248-1778783400-1778792400@bauverein-ruestringen.de
SUMMARY:Fotografieren auf Siebethsburg
DESCRIPTION:Offener Austausch für Interessierte\, die Spaß am Fotografieren haben.
URL:https://bauverein-ruestringen.de/event/fotografieren-auf-siebethsburg-2/2026-05-14/
LOCATION:freiraum\, Störtebekerstraße 3 \, 26386 Wilhelmshaven\, Germany
ATTACH;FMTTYPE=image/jpeg:https://bauverein-ruestringen.de/wp-content/uploads/2023/06/Fotografieren.jpg
END:VEVENT
BEGIN:VEVENT
DTSTART;TZID=Europe/Berlin:20260515T100000
DTEND;TZID=Europe/Berlin:20260515T110000
DTSTAMP:20260421T180929
CREATED:20250220T110357Z
LAST-MODIFIED:20250224T212153Z
UID:10008194-1778839200-1778842800@bauverein-ruestringen.de
SUMMARY:Tai Chi
DESCRIPTION:Tai Chi\, das ist:\nSich spüren\, bewegen – langsam und bewusst. Dem Fluss des Atems folgen und die Kräfte des Lebens stärken. Entspannung für Geist und Körper. \nEs heißt\, wer Tai Chi übt\, wird gesund und stark wie ein Holzfäller\, so geschmeidig wie ein Kind und gelassen wie ein Weiser.
URL:https://bauverein-ruestringen.de/event/thai-chi/2026-05-15/
LOCATION:Treff – Auf Siebethsburg\, Störtebekerstraße 14c\, 26386 Wilhelmshaven\, Deutschland
CATEGORIES:Treff – Auf Siebethsburg
ATTACH;FMTTYPE=image/jpeg:https://bauverein-ruestringen.de/wp-content/uploads/2021/09/Thai_Chi.jpg
END:VEVENT
BEGIN:VEVENT
DTSTART;TZID=Europe/Berlin:20260515T170000
DTEND;TZID=Europe/Berlin:20260515T190000
DTSTAMP:20260421T180929
CREATED:20240703T091914Z
LAST-MODIFIED:20250224T210331Z
UID:10004699-1778864400-1778871600@bauverein-ruestringen.de
SUMMARY:Haste Töne
DESCRIPTION:Jeder\, der Spaß am Musizieren oder Singen hat ist willkommen.
URL:https://bauverein-ruestringen.de/event/mal-anders-2-2/2026-05-15/
LOCATION:freiraum\, Störtebekerstraße 3 \, 26386 Wilhelmshaven\, Germany
CATEGORIES:freiraum
ATTACH;FMTTYPE=image/jpeg:https://bauverein-ruestringen.de/wp-content/uploads/2024/07/musik.jpg
END:VEVENT
BEGIN:VEVENT
DTSTART;TZID=Europe/Berlin:20260518T093000
DTEND;TZID=Europe/Berlin:20260518T144500
DTSTAMP:20260421T180929
CREATED:20260421T145541Z
LAST-MODIFIED:20260421T150016Z
UID:10014519-1779096600-1779115500@bauverein-ruestringen.de
SUMMARY:Yoga im Sitzen
DESCRIPTION:Ob im Büro oder für die bewegte Pause im Alltag. Yoga auf und am Stuhl bietet die Möglichkeit\, gelenkschonend klassische Yogahaltungen\, Meditations- und Atemtechniken zu praktizieren. Für alle Altersgruppen geeignet.
URL:https://bauverein-ruestringen.de/event/yoga-im-sitzen/2026-05-18/
LOCATION:Treff – Auf Siebethsburg\, Störtebekerstraße 14c\, 26386 Wilhelmshaven\, Deutschland
CATEGORIES:Seniorenangebote,Treff – Auf Siebethsburg
ATTACH;FMTTYPE=image/jpeg:https://bauverein-ruestringen.de/wp-content/uploads/2026/04/Bauverein-Ruestringen-Sitz-Yoga.jpg
END:VEVENT
BEGIN:VEVENT
DTSTART;TZID=Europe/Berlin:20260518T133000
DTEND;TZID=Europe/Berlin:20260518T163000
DTSTAMP:20260421T180929
CREATED:20260421T152237Z
LAST-MODIFIED:20260421T152237Z
UID:10014781-1779111000-1779121800@bauverein-ruestringen.de
SUMMARY:Spielenachmittag
DESCRIPTION:Wir spielen Karten-\, Brett- und Würfelspiele\, auch selbst mitgebrachte Spiele sind gern gesehen. Alle Altersgruppen sind willkommen.
URL:https://bauverein-ruestringen.de/event/spielenachmittag-2/2026-05-18/
LOCATION:Treff – Auf Siebethsburg\, Störtebekerstraße 14c\, 26386 Wilhelmshaven\, Deutschland
CATEGORIES:Treff – Auf Siebethsburg
ATTACH;FMTTYPE=image/jpeg:https://bauverein-ruestringen.de/wp-content/uploads/2026/04/Bauverein-Ruestringen-Spielabend.jpg
END:VEVENT
BEGIN:VEVENT
DTSTART;TZID=Europe/Berlin:20260518T140000
DTEND;TZID=Europe/Berlin:20260518T160000
DTSTAMP:20260421T180929
CREATED:20260421T140412Z
LAST-MODIFIED:20260421T140412Z
UID:10006609-1779112800-1779120000@bauverein-ruestringen.de
SUMMARY:Nähstübchen
DESCRIPTION:Nähen ein einsames Hobby? Das muss nicht sein! Im Näh-Café finden Sie Gleichgesinnte. Tauschen Sie sich aus und bekommen Sie beim gemeinsamen Nähen in kreativer Atmosphäre neue Ideen.
URL:https://bauverein-ruestringen.de/event/naeh-cafe-2/2026-05-18/
LOCATION:Treff – Auf Siebethsburg\, Störtebekerstraße 14c\, 26386 Wilhelmshaven\, Deutschland
CATEGORIES:Treff – Auf Siebethsburg
ATTACH;FMTTYPE=image/jpeg:https://bauverein-ruestringen.de/wp-content/uploads/2021/04/Naeh_Cafe_Bauverein_Ruestringen.jpg
END:VEVENT
BEGIN:VEVENT
DTSTART;TZID=Europe/Berlin:20260519T100000
DTEND;TZID=Europe/Berlin:20260519T110000
DTSTAMP:20260421T180929
CREATED:20210901T132110Z
LAST-MODIFIED:20250224T165741Z
UID:10007915-1779184800-1779188400@bauverein-ruestringen.de
SUMMARY:Tai Chi
DESCRIPTION:Tai Chi\, das ist:\nSich spüren\, bewegen – langsam und bewusst. Dem Fluss des Atems folgen und die Kräfte des Lebens stärken. Entspannung für Geist und Körper. \nEs heißt\, wer Tai Chi übt\, wird gesund und stark wie ein Holzfäller\, so geschmeidig wie ein Kind und gelassen wie ein Weiser.
URL:https://bauverein-ruestringen.de/event/thai-chi-2/2026-05-19/
LOCATION:Treff – Auf Siebethsburg\, Störtebekerstraße 14c\, 26386 Wilhelmshaven\, Deutschland
CATEGORIES:Treff – Auf Siebethsburg
ATTACH;FMTTYPE=image/jpeg:https://bauverein-ruestringen.de/wp-content/uploads/2021/09/Thai_Chi.jpg
END:VEVENT
BEGIN:VEVENT
DTSTART;TZID=Europe/Berlin:20260519T103000
DTEND;TZID=Europe/Berlin:20260519T140000
DTSTAMP:20260421T180929
CREATED:20260421T135401Z
LAST-MODIFIED:20260421T135401Z
UID:10008345-1779186600-1779199200@bauverein-ruestringen.de
SUMMARY:Kochgruppe "Männer unter Dampf"
DESCRIPTION:Mit Spaß und Neugier steht das „starke Geschlecht“ unter Anleitung am Herd\, gemeinsam wird gekocht und gegessen.
URL:https://bauverein-ruestringen.de/event/kochgruppe-maenner-unter-dampf/2026-05-19/
LOCATION:Treff – Auf Siebethsburg\, Störtebekerstraße 14c\, 26386 Wilhelmshaven\, Deutschland
CATEGORIES:Seniorenangebote,Treff – Auf Siebethsburg
ATTACH;FMTTYPE=image/jpeg:https://bauverein-ruestringen.de/wp-content/uploads/2022/11/kochkurs.jpg
END:VEVENT
BEGIN:VEVENT
DTSTART;TZID=Europe/Berlin:20260520T183000
DTEND;TZID=Europe/Berlin:20260520T200000
DTSTAMP:20260421T180929
CREATED:20210223T133934Z
LAST-MODIFIED:20250224T200926Z
UID:10005939-1779301800-1779307200@bauverein-ruestringen.de
SUMMARY:Yoga am Abend
DESCRIPTION:Den Tag hinter sich lassen\, sich dehnen\, strecken\, den Körper spüren\, kräftigen\, atmen. Entdecken Sie die Wohltaten des Yoga! Für Menschen von 25-65 Jahren.
URL:https://bauverein-ruestringen.de/event/yoga-am-abend-5/2026-05-20/
LOCATION:Treff – Auf Siebethsburg\, Störtebekerstraße 14c\, 26386 Wilhelmshaven\, Deutschland
CATEGORIES:Treff – Auf Siebethsburg
ATTACH;FMTTYPE=image/jpeg:https://bauverein-ruestringen.de/wp-content/uploads/2022/11/yoga1.jpg
END:VEVENT
BEGIN:VEVENT
DTSTART;TZID=Europe/Berlin:20260520T190000
DTEND;TZID=Europe/Berlin:20260520T210000
DTSTAMP:20260421T180929
CREATED:20221129T155839Z
LAST-MODIFIED:20250224T200953Z
UID:10008757-1779303600-1779310800@bauverein-ruestringen.de
SUMMARY:WLAN-Cafè
DESCRIPTION:Für Menschen ab 16 Jahren. In entspannter Atmosphäre erhalten Sie Unterstützung rund um Smartphone\, Tablet und Laptop.
URL:https://bauverein-ruestringen.de/event/wlan-cafe/2026-05-20/
LOCATION:freiraum\, Störtebekerstraße 3 \, 26386 Wilhelmshaven\, Germany
CATEGORIES:freiraum
ATTACH;FMTTYPE=image/jpeg:https://bauverein-ruestringen.de/wp-content/uploads/2022/11/wlancafe.jpg
END:VEVENT
BEGIN:VEVENT
DTSTART;TZID=Europe/Berlin:20260521T100000
DTEND;TZID=Europe/Berlin:20260521T113000
DTSTAMP:20260421T180929
CREATED:20260421T140540Z
LAST-MODIFIED:20260421T140540Z
UID:10014257-1779357600-1779363000@bauverein-ruestringen.de
SUMMARY:Digital-Kompass
DESCRIPTION:Unser Angebot für alle Senioren und Seniorinnen. Der Umgang mit Internet\, Smartphone\, Laptop und Tablet wird entspannt erklärt und geübt.
URL:https://bauverein-ruestringen.de/event/digital-kompass-3-2/2026-05-21/
LOCATION:freiraum\, Störtebekerstraße 3 \, 26386 Wilhelmshaven\, Germany
CATEGORIES:freiraum,Seniorenangebote,Treff – Auf Siebethsburg
ATTACH;FMTTYPE=image/jpeg:https://bauverein-ruestringen.de/wp-content/uploads/2021/04/Digital-Kompass_Bauverein_Ruestringen.jpg
END:VEVENT
BEGIN:VEVENT
DTSTART;TZID=Europe/Berlin:20260521T163000
DTEND;TZID=Europe/Berlin:20260521T183000
DTSTAMP:20260421T180929
CREATED:20260119T112150Z
LAST-MODIFIED:20260330T114648Z
UID:10014063-1779381000-1779388200@bauverein-ruestringen.de
SUMMARY:Lesekreis
DESCRIPTION:Lesebegeisterte Menschen jeden Alters teilen das Interesse für Bücher und tauschen sich aus.
URL:https://bauverein-ruestringen.de/event/gedaechtnistraining-2-3/2026-05-21/
LOCATION:freiraum\, Störtebekerstraße 3 \, 26386 Wilhelmshaven\, Germany
CATEGORIES:freiraum,Seniorenangebote,Treff – Auf Siebethsburg
ATTACH;FMTTYPE=image/jpeg:https://bauverein-ruestringen.de/wp-content/uploads/2024/07/lesekreis.jpg
END:VEVENT
BEGIN:VEVENT
DTSTART;TZID=Europe/Berlin:20260522T100000
DTEND;TZID=Europe/Berlin:20260522T110000
DTSTAMP:20260421T180929
CREATED:20250220T110357Z
LAST-MODIFIED:20250224T212153Z
UID:10008195-1779444000-1779447600@bauverein-ruestringen.de
SUMMARY:Tai Chi
DESCRIPTION:Tai Chi\, das ist:\nSich spüren\, bewegen – langsam und bewusst. Dem Fluss des Atems folgen und die Kräfte des Lebens stärken. Entspannung für Geist und Körper. \nEs heißt\, wer Tai Chi übt\, wird gesund und stark wie ein Holzfäller\, so geschmeidig wie ein Kind und gelassen wie ein Weiser.
URL:https://bauverein-ruestringen.de/event/thai-chi/2026-05-22/
LOCATION:Treff – Auf Siebethsburg\, Störtebekerstraße 14c\, 26386 Wilhelmshaven\, Deutschland
CATEGORIES:Treff – Auf Siebethsburg
ATTACH;FMTTYPE=image/jpeg:https://bauverein-ruestringen.de/wp-content/uploads/2021/09/Thai_Chi.jpg
END:VEVENT
BEGIN:VEVENT
DTSTART;TZID=Europe/Berlin:20260522T140000
DTEND;TZID=Europe/Berlin:20260522T163000
DTSTAMP:20260421T180930
CREATED:20210422T164755Z
LAST-MODIFIED:20250224T202425Z
UID:10006761-1779458400-1779467400@bauverein-ruestringen.de
SUMMARY:Bingo
DESCRIPTION:Aufmerksamkeit ist gefragt: Bingo ist ein heiteres\, geselliges Spiel für alle Altersgruppen. Termine auf Anfrage. \n 
URL:https://bauverein-ruestringen.de/event/bingo-2/2026-05-22/
LOCATION:freiraum\, Störtebekerstraße 3 \, 26386 Wilhelmshaven\, Germany
CATEGORIES:freiraum
ATTACH;FMTTYPE=image/jpeg:https://bauverein-ruestringen.de/wp-content/uploads/2021/04/Bingo_Bauverein_Ruestringen.jpg
END:VEVENT
BEGIN:VEVENT
DTSTART;TZID=Europe/Berlin:20260525T093000
DTEND;TZID=Europe/Berlin:20260525T144500
DTSTAMP:20260421T180930
CREATED:20260421T145541Z
LAST-MODIFIED:20260421T150016Z
UID:10014520-1779701400-1779720300@bauverein-ruestringen.de
SUMMARY:Yoga im Sitzen
DESCRIPTION:Ob im Büro oder für die bewegte Pause im Alltag. Yoga auf und am Stuhl bietet die Möglichkeit\, gelenkschonend klassische Yogahaltungen\, Meditations- und Atemtechniken zu praktizieren. Für alle Altersgruppen geeignet.
URL:https://bauverein-ruestringen.de/event/yoga-im-sitzen/2026-05-25/
LOCATION:Treff – Auf Siebethsburg\, Störtebekerstraße 14c\, 26386 Wilhelmshaven\, Deutschland
CATEGORIES:Seniorenangebote,Treff – Auf Siebethsburg
ATTACH;FMTTYPE=image/jpeg:https://bauverein-ruestringen.de/wp-content/uploads/2026/04/Bauverein-Ruestringen-Sitz-Yoga.jpg
END:VEVENT
BEGIN:VEVENT
DTSTART;TZID=Europe/Berlin:20260525T133000
DTEND;TZID=Europe/Berlin:20260525T163000
DTSTAMP:20260421T180930
CREATED:20260421T152237Z
LAST-MODIFIED:20260421T152237Z
UID:10014782-1779715800-1779726600@bauverein-ruestringen.de
SUMMARY:Spielenachmittag
DESCRIPTION:Wir spielen Karten-\, Brett- und Würfelspiele\, auch selbst mitgebrachte Spiele sind gern gesehen. Alle Altersgruppen sind willkommen.
URL:https://bauverein-ruestringen.de/event/spielenachmittag-2/2026-05-25/
LOCATION:Treff – Auf Siebethsburg\, Störtebekerstraße 14c\, 26386 Wilhelmshaven\, Deutschland
CATEGORIES:Treff – Auf Siebethsburg
ATTACH;FMTTYPE=image/jpeg:https://bauverein-ruestringen.de/wp-content/uploads/2026/04/Bauverein-Ruestringen-Spielabend.jpg
END:VEVENT
BEGIN:VEVENT
DTSTART;TZID=Europe/Berlin:20260525T140000
DTEND;TZID=Europe/Berlin:20260525T160000
DTSTAMP:20260421T180930
CREATED:20260421T140412Z
LAST-MODIFIED:20260421T140412Z
UID:10006610-1779717600-1779724800@bauverein-ruestringen.de
SUMMARY:Nähstübchen
DESCRIPTION:Nähen ein einsames Hobby? Das muss nicht sein! Im Näh-Café finden Sie Gleichgesinnte. Tauschen Sie sich aus und bekommen Sie beim gemeinsamen Nähen in kreativer Atmosphäre neue Ideen.
URL:https://bauverein-ruestringen.de/event/naeh-cafe-2/2026-05-25/
LOCATION:Treff – Auf Siebethsburg\, Störtebekerstraße 14c\, 26386 Wilhelmshaven\, Deutschland
CATEGORIES:Treff – Auf Siebethsburg
ATTACH;FMTTYPE=image/jpeg:https://bauverein-ruestringen.de/wp-content/uploads/2021/04/Naeh_Cafe_Bauverein_Ruestringen.jpg
END:VEVENT
BEGIN:VEVENT
DTSTART;TZID=Europe/Berlin:20260526T100000
DTEND;TZID=Europe/Berlin:20260526T110000
DTSTAMP:20260421T180930
CREATED:20210901T132110Z
LAST-MODIFIED:20250224T165741Z
UID:10007916-1779789600-1779793200@bauverein-ruestringen.de
SUMMARY:Tai Chi
DESCRIPTION:Tai Chi\, das ist:\nSich spüren\, bewegen – langsam und bewusst. Dem Fluss des Atems folgen und die Kräfte des Lebens stärken. Entspannung für Geist und Körper. \nEs heißt\, wer Tai Chi übt\, wird gesund und stark wie ein Holzfäller\, so geschmeidig wie ein Kind und gelassen wie ein Weiser.
URL:https://bauverein-ruestringen.de/event/thai-chi-2/2026-05-26/
LOCATION:Treff – Auf Siebethsburg\, Störtebekerstraße 14c\, 26386 Wilhelmshaven\, Deutschland
CATEGORIES:Treff – Auf Siebethsburg
ATTACH;FMTTYPE=image/jpeg:https://bauverein-ruestringen.de/wp-content/uploads/2021/09/Thai_Chi.jpg
END:VEVENT
BEGIN:VEVENT
DTSTART;TZID=Europe/Berlin:20260526T143000
DTEND;TZID=Europe/Berlin:20260526T160000
DTSTAMP:20260421T180930
CREATED:20260421T140816Z
LAST-MODIFIED:20260421T140817Z
UID:10006703-1779805800-1779811200@bauverein-ruestringen.de
SUMMARY:Erzählcafè
DESCRIPTION:Gesellige nachbarschaftliche Begegnungen und Informationen zu unterschiedlichen\, aktuellen Themen.
URL:https://bauverein-ruestringen.de/event/erzaehlcafe-2-2/2026-05-26/
LOCATION:Treff – Auf Siebethsburg\, Störtebekerstraße 14c\, 26386 Wilhelmshaven\, Deutschland
CATEGORIES:Seniorenangebote,Treff – Auf Siebethsburg
ATTACH;FMTTYPE=image/jpeg:https://bauverein-ruestringen.de/wp-content/uploads/2022/11/Erzaehlcafe.jpg
END:VEVENT
BEGIN:VEVENT
DTSTART;TZID=Europe/Berlin:20260527T183000
DTEND;TZID=Europe/Berlin:20260527T200000
DTSTAMP:20260421T180930
CREATED:20210223T133934Z
LAST-MODIFIED:20250224T200926Z
UID:10005940-1779906600-1779912000@bauverein-ruestringen.de
SUMMARY:Yoga am Abend
DESCRIPTION:Den Tag hinter sich lassen\, sich dehnen\, strecken\, den Körper spüren\, kräftigen\, atmen. Entdecken Sie die Wohltaten des Yoga! Für Menschen von 25-65 Jahren.
URL:https://bauverein-ruestringen.de/event/yoga-am-abend-5/2026-05-27/
LOCATION:Treff – Auf Siebethsburg\, Störtebekerstraße 14c\, 26386 Wilhelmshaven\, Deutschland
CATEGORIES:Treff – Auf Siebethsburg
ATTACH;FMTTYPE=image/jpeg:https://bauverein-ruestringen.de/wp-content/uploads/2022/11/yoga1.jpg
END:VEVENT
BEGIN:VEVENT
DTSTART;TZID=Europe/Berlin:20260527T190000
DTEND;TZID=Europe/Berlin:20260527T210000
DTSTAMP:20260421T180930
CREATED:20221129T155839Z
LAST-MODIFIED:20250224T200953Z
UID:10008758-1779908400-1779915600@bauverein-ruestringen.de
SUMMARY:WLAN-Cafè
DESCRIPTION:Für Menschen ab 16 Jahren. In entspannter Atmosphäre erhalten Sie Unterstützung rund um Smartphone\, Tablet und Laptop.
URL:https://bauverein-ruestringen.de/event/wlan-cafe/2026-05-27/
LOCATION:freiraum\, Störtebekerstraße 3 \, 26386 Wilhelmshaven\, Germany
CATEGORIES:freiraum
ATTACH;FMTTYPE=image/jpeg:https://bauverein-ruestringen.de/wp-content/uploads/2022/11/wlancafe.jpg
END:VEVENT
END:VCALENDAR