BEGIN:VCALENDAR
VERSION:2.0
PRODID:-//Bauverein Rüstringen - ECPv6.15.13.1//NONSGML v1.0//EN
CALSCALE:GREGORIAN
METHOD:PUBLISH
X-ORIGINAL-URL:https://bauverein-ruestringen.de
X-WR-CALDESC:Veranstaltungen für Bauverein Rüstringen
REFRESH-INTERVAL;VALUE=DURATION:PT1H
X-Robots-Tag:noindex
X-PUBLISHED-TTL:PT1H
BEGIN:VTIMEZONE
TZID:Europe/Berlin
BEGIN:DAYLIGHT
TZOFFSETFROM:+0100
TZOFFSETTO:+0200
TZNAME:CEST
DTSTART:20300331T010000
END:DAYLIGHT
BEGIN:STANDARD
TZOFFSETFROM:+0200
TZOFFSETTO:+0100
TZNAME:CET
DTSTART:20301027T010000
END:STANDARD
BEGIN:DAYLIGHT
TZOFFSETFROM:+0100
TZOFFSETTO:+0200
TZNAME:CEST
DTSTART:20310330T010000
END:DAYLIGHT
BEGIN:STANDARD
TZOFFSETFROM:+0200
TZOFFSETTO:+0100
TZNAME:CET
DTSTART:20311026T010000
END:STANDARD
BEGIN:DAYLIGHT
TZOFFSETFROM:+0100
TZOFFSETTO:+0200
TZNAME:CEST
DTSTART:20320328T010000
END:DAYLIGHT
BEGIN:STANDARD
TZOFFSETFROM:+0200
TZOFFSETTO:+0100
TZNAME:CET
DTSTART:20321031T010000
END:STANDARD
END:VTIMEZONE
BEGIN:VEVENT
DTSTART;TZID=Europe/Berlin:20310415T103000
DTEND;TZID=Europe/Berlin:20310415T140000
DTSTAMP:20260425T025121
CREATED:20260421T135401Z
LAST-MODIFIED:20260421T135401Z
UID:10014249-1934015400-1934028000@bauverein-ruestringen.de
SUMMARY:Kochgruppe "Männer unter Dampf"
DESCRIPTION:Mit Spaß und Neugier steht das „starke Geschlecht“ unter Anleitung am Herd\, gemeinsam wird gekocht und gegessen.
URL:https://bauverein-ruestringen.de/event/kochgruppe-maenner-unter-dampf/2031-04-15/
LOCATION:Treff – Auf Siebethsburg\, Störtebekerstraße 14c\, 26386 Wilhelmshaven\, Deutschland
CATEGORIES:Seniorenangebote,Treff – Auf Siebethsburg
ATTACH;FMTTYPE=image/jpeg:https://bauverein-ruestringen.de/wp-content/uploads/2022/11/kochkurs.jpg
END:VEVENT
BEGIN:VEVENT
DTSTART;TZID=Europe/Berlin:20310415T150000
DTEND;TZID=Europe/Berlin:20310415T160000
DTSTAMP:20260425T025121
CREATED:20260423T073551Z
LAST-MODIFIED:20260424T100810Z
UID:10017254-1934031600-1934035200@bauverein-ruestringen.de
SUMMARY:Frische Brise für den Kopf
DESCRIPTION:Bringen Sie Ihre grauen Zellen in Schwung. Unter Anleitung macht das besonders viel Spaß! Ab 60 Jahren.
URL:https://bauverein-ruestringen.de/event/frische-brise-fuer-den-kopf/2031-04-15/
LOCATION:freiraum\, Störtebekerstraße 3 \, 26386 Wilhelmshaven\, Deutschland
CATEGORIES:freiraum,Seniorenangebote
ATTACH;FMTTYPE=image/jpeg:https://bauverein-ruestringen.de/wp-content/uploads/2026/04/Bauverein-Ruestringen-Brise-fuer-den-Kopf.jpg
END:VEVENT
END:VCALENDAR