BEGIN:VCALENDAR
VERSION:2.0
PRODID:-//Bauverein Rüstringen - ECPv6.15.13.1//NONSGML v1.0//EN
CALSCALE:GREGORIAN
METHOD:PUBLISH
X-ORIGINAL-URL:https://bauverein-ruestringen.de
X-WR-CALDESC:Veranstaltungen für Bauverein Rüstringen
REFRESH-INTERVAL;VALUE=DURATION:PT1H
X-Robots-Tag:noindex
X-PUBLISHED-TTL:PT1H
BEGIN:VTIMEZONE
TZID:Europe/Berlin
BEGIN:DAYLIGHT
TZOFFSETFROM:+0100
TZOFFSETTO:+0200
TZNAME:CEST
DTSTART:20280326T010000
END:DAYLIGHT
BEGIN:STANDARD
TZOFFSETFROM:+0200
TZOFFSETTO:+0100
TZNAME:CET
DTSTART:20281029T010000
END:STANDARD
BEGIN:DAYLIGHT
TZOFFSETFROM:+0100
TZOFFSETTO:+0200
TZNAME:CEST
DTSTART:20290325T010000
END:DAYLIGHT
BEGIN:STANDARD
TZOFFSETFROM:+0200
TZOFFSETTO:+0100
TZNAME:CET
DTSTART:20291028T010000
END:STANDARD
BEGIN:DAYLIGHT
TZOFFSETFROM:+0100
TZOFFSETTO:+0200
TZNAME:CEST
DTSTART:20300331T010000
END:DAYLIGHT
BEGIN:STANDARD
TZOFFSETFROM:+0200
TZOFFSETTO:+0100
TZNAME:CET
DTSTART:20301027T010000
END:STANDARD
END:VTIMEZONE
BEGIN:VEVENT
DTSTART;TZID=Europe/Berlin:20290307T100000
DTEND;TZID=Europe/Berlin:20290307T110000
DTSTAMP:20260423T131744
CREATED:20260423T081228Z
LAST-MODIFIED:20260423T081228Z
UID:10015710-1867572000-1867575600@bauverein-ruestringen.de
SUMMARY:Frühstück zur Marktzeit
DESCRIPTION:Frühstücken Sie in netter Runde gemeinsam mit anderen. Bitte melden Sie sich vorher an.
URL:https://bauverein-ruestringen.de/event/fruehstueck-zur-marktzeit-2/2029-03-07/
LOCATION:Treff – Auf Siebethsburg\, Störtebekerstraße 14c\, 26386 Wilhelmshaven\, Deutschland
CATEGORIES:Treff – Auf Siebethsburg
ATTACH;FMTTYPE=image/jpeg:https://bauverein-ruestringen.de/wp-content/uploads/2026/04/Bauverein-Ruestringen-Fruehstueck-zur-Marktzeit.jpg
END:VEVENT
BEGIN:VEVENT
DTSTART;TZID=Europe/Berlin:20290307T104500
DTEND;TZID=Europe/Berlin:20290307T114500
DTSTAMP:20260423T131744
CREATED:20260423T082524Z
LAST-MODIFIED:20260423T082524Z
UID:10015971-1867574700-1867578300@bauverein-ruestringen.de
SUMMARY:Tanzen „Querbeet“
DESCRIPTION:In kleiner Gruppe wird mit viel Spaß in Reihen\, gemischt oder im Kreis getanzt.
URL:https://bauverein-ruestringen.de/event/tanzen-querbeet/2029-03-07/
LOCATION:freiraum\, Störtebekerstraße 3 \, 26386 Wilhelmshaven\, Germany
CATEGORIES:freiraum
ATTACH;FMTTYPE=image/jpeg:https://bauverein-ruestringen.de/wp-content/uploads/2026/04/Bauverein-Ruestringen-Tanz-Querbeet.jpg
END:VEVENT
BEGIN:VEVENT
DTSTART;TZID=Europe/Berlin:20290307T140000
DTEND;TZID=Europe/Berlin:20290307T160000
DTSTAMP:20260423T131744
CREATED:20260423T092114Z
LAST-MODIFIED:20260423T095234Z
UID:10016232-1867586400-1867593600@bauverein-ruestringen.de
SUMMARY:Handarbeitsgruppe
DESCRIPTION:Für alle Altersgruppen: Wenn Sie Spaß am Stricken\, Häkeln\, Handarbeit etc. haben\, kommen Sie gern vorbei.
URL:https://bauverein-ruestringen.de/event/handarbeitsgruppe/2029-03-07/
LOCATION:Treff – Auf Siebethsburg\, Störtebekerstraße 14c\, 26386 Wilhelmshaven\, Deutschland
CATEGORIES:Treff – Auf Siebethsburg
ATTACH;FMTTYPE=image/jpeg:https://bauverein-ruestringen.de/wp-content/uploads/2026/04/Bauverein-Ruestringen-Handarbeitsgruppe.jpg
END:VEVENT
BEGIN:VEVENT
DTSTART;TZID=Europe/Berlin:20290307T150000
DTEND;TZID=Europe/Berlin:20290307T163000
DTSTAMP:20260423T131744
CREATED:20260423T100729Z
LAST-MODIFIED:20260423T100729Z
UID:10016379-1867590000-1867595400@bauverein-ruestringen.de
SUMMARY:Plattdeutsch
DESCRIPTION:Plattsnacker finden sich zusammen unter dem Motto: „Snack keen dumm Tüch\, sondern platt!“
URL:https://bauverein-ruestringen.de/event/plattdeutsch/2029-03-07/
LOCATION:freiraum\, Störtebekerstraße 3 \, 26386 Wilhelmshaven\, Germany
CATEGORIES:freiraum
ATTACH;FMTTYPE=image/jpeg:https://bauverein-ruestringen.de/wp-content/uploads/2026/04/Bauverein-Ruestringen-Plattsnacker.jpg
END:VEVENT
BEGIN:VEVENT
DTSTART;TZID=Europe/Berlin:20290307T183000
DTEND;TZID=Europe/Berlin:20290307T200000
DTSTAMP:20260423T131744
CREATED:20210223T133934Z
LAST-MODIFIED:20250224T200926Z
UID:10012840-1867602600-1867608000@bauverein-ruestringen.de
SUMMARY:Yoga am Abend
DESCRIPTION:Den Tag hinter sich lassen\, sich dehnen\, strecken\, den Körper spüren\, kräftigen\, atmen. Entdecken Sie die Wohltaten des Yoga! Für Menschen von 25-65 Jahren.
URL:https://bauverein-ruestringen.de/event/yoga-am-abend-5/2029-03-07/
LOCATION:Treff – Auf Siebethsburg\, Störtebekerstraße 14c\, 26386 Wilhelmshaven\, Deutschland
CATEGORIES:Treff – Auf Siebethsburg
ATTACH;FMTTYPE=image/jpeg:https://bauverein-ruestringen.de/wp-content/uploads/2022/11/yoga1.jpg
END:VEVENT
BEGIN:VEVENT
DTSTART;TZID=Europe/Berlin:20290307T190000
DTEND;TZID=Europe/Berlin:20290307T210000
DTSTAMP:20260423T131744
CREATED:20221129T155839Z
LAST-MODIFIED:20250224T200953Z
UID:10010698-1867604400-1867611600@bauverein-ruestringen.de
SUMMARY:WLAN-Cafè
DESCRIPTION:Für Menschen ab 16 Jahren. In entspannter Atmosphäre erhalten Sie Unterstützung rund um Smartphone\, Tablet und Laptop.
URL:https://bauverein-ruestringen.de/event/wlan-cafe/2029-03-07/
LOCATION:freiraum\, Störtebekerstraße 3 \, 26386 Wilhelmshaven\, Germany
CATEGORIES:freiraum
ATTACH;FMTTYPE=image/jpeg:https://bauverein-ruestringen.de/wp-content/uploads/2022/11/wlancafe.jpg
END:VEVENT
END:VCALENDAR